BEGIN:VCALENDAR
VERSION:2.0
PRODID:-//Chippewa Valley Indivisible - ECPv6.15.20//NONSGML v1.0//EN
CALSCALE:GREGORIAN
METHOD:PUBLISH
X-ORIGINAL-URL:https://chippewavalleyunited.com
X-WR-CALDESC:Events for Chippewa Valley Indivisible
REFRESH-INTERVAL;VALUE=DURATION:PT1H
X-Robots-Tag:noindex
X-PUBLISHED-TTL:PT1H
BEGIN:VTIMEZONE
TZID:America/Chicago
BEGIN:DAYLIGHT
TZOFFSETFROM:-0600
TZOFFSETTO:-0500
TZNAME:CDT
DTSTART:20240310T080000
END:DAYLIGHT
BEGIN:STANDARD
TZOFFSETFROM:-0500
TZOFFSETTO:-0600
TZNAME:CST
DTSTART:20241103T070000
END:STANDARD
BEGIN:DAYLIGHT
TZOFFSETFROM:-0600
TZOFFSETTO:-0500
TZNAME:CDT
DTSTART:20250309T080000
END:DAYLIGHT
BEGIN:STANDARD
TZOFFSETFROM:-0500
TZOFFSETTO:-0600
TZNAME:CST
DTSTART:20251102T070000
END:STANDARD
BEGIN:DAYLIGHT
TZOFFSETFROM:-0600
TZOFFSETTO:-0500
TZNAME:CDT
DTSTART:20260308T080000
END:DAYLIGHT
BEGIN:STANDARD
TZOFFSETFROM:-0500
TZOFFSETTO:-0600
TZNAME:CST
DTSTART:20261101T070000
END:STANDARD
END:VTIMEZONE
BEGIN:VEVENT
DTSTART;TZID=America/Chicago:20250904T160000
DTEND;TZID=America/Chicago:20250904T170000
DTSTAMP:20260423T184739
CREATED:20250329T010231Z
LAST-MODIFIED:20251101T173218Z
UID:10000092-1757001600-1757005200@chippewavalleyunited.com
SUMMARY:Defend Democracy Rally – Chippewa Falls Weekly
DESCRIPTION:Take action now to Defend Democracy! We come together as a community to stand against this authoritarianism\, and against unlawful and unconstitutional actions. Take a stand for protecting Social Security\, Medicaid\, federal agencies\, national parks\, due process\, the rule of law\, the environment\, and more. Defend our democracy for our families\, friends\, and neighbors. Get your signs ready and come let the community know this matters to you! \nGathering every week at 4pm on Peace Circle in Chippewa Falls (roundabout on the corner of Bridge Street and Highway 124 (River Street) in Chippewa Falls. \nThere’s no such thing as bad weather\, just bad clothing choices! Dress for Rally Success! Let’s gather together and speak up for our children\, grandchildren\, and our community! \nTwo public parking lots on Bridge and River. \nSign Me Up!
URL:https://chippewavalleyunited.com/event/defend-democracy-rally-cf/2025-09-04/
LOCATION:Peace Circle Chippewa Falls\, Roundabout Bridge and River\, Chippewa Falls\, WI\, 54729\, United States
CATEGORIES:Featured
ATTACH;FMTTYPE=image/jpeg:https://chippewavalleyunited.com/wp-content/uploads/2025/03/DDCF.jpg
ORGANIZER;CN="Chippewa Valley Indivisible":MAILTO:ojibwavalley@gmail.com
END:VEVENT
BEGIN:VEVENT
DTSTART;TZID=America/Chicago:20250911T160000
DTEND;TZID=America/Chicago:20250911T170000
DTSTAMP:20260423T184739
CREATED:20250329T010231Z
LAST-MODIFIED:20251101T173218Z
UID:10000093-1757606400-1757610000@chippewavalleyunited.com
SUMMARY:Defend Democracy Rally – Chippewa Falls Weekly
DESCRIPTION:Take action now to Defend Democracy! We come together as a community to stand against this authoritarianism\, and against unlawful and unconstitutional actions. Take a stand for protecting Social Security\, Medicaid\, federal agencies\, national parks\, due process\, the rule of law\, the environment\, and more. Defend our democracy for our families\, friends\, and neighbors. Get your signs ready and come let the community know this matters to you! \nGathering every week at 4pm on Peace Circle in Chippewa Falls (roundabout on the corner of Bridge Street and Highway 124 (River Street) in Chippewa Falls. \nThere’s no such thing as bad weather\, just bad clothing choices! Dress for Rally Success! Let’s gather together and speak up for our children\, grandchildren\, and our community! \nTwo public parking lots on Bridge and River. \nSign Me Up!
URL:https://chippewavalleyunited.com/event/defend-democracy-rally-cf/2025-09-11/
LOCATION:Peace Circle Chippewa Falls\, Roundabout Bridge and River\, Chippewa Falls\, WI\, 54729\, United States
CATEGORIES:Featured
ATTACH;FMTTYPE=image/jpeg:https://chippewavalleyunited.com/wp-content/uploads/2025/03/DDCF.jpg
ORGANIZER;CN="Chippewa Valley Indivisible":MAILTO:ojibwavalley@gmail.com
END:VEVENT
BEGIN:VEVENT
DTSTART;TZID=America/Chicago:20250918T160000
DTEND;TZID=America/Chicago:20250918T170000
DTSTAMP:20260423T184739
CREATED:20250329T010231Z
LAST-MODIFIED:20251101T173218Z
UID:10000094-1758211200-1758214800@chippewavalleyunited.com
SUMMARY:Defend Democracy Rally – Chippewa Falls Weekly
DESCRIPTION:Take action now to Defend Democracy! We come together as a community to stand against this authoritarianism\, and against unlawful and unconstitutional actions. Take a stand for protecting Social Security\, Medicaid\, federal agencies\, national parks\, due process\, the rule of law\, the environment\, and more. Defend our democracy for our families\, friends\, and neighbors. Get your signs ready and come let the community know this matters to you! \nGathering every week at 4pm on Peace Circle in Chippewa Falls (roundabout on the corner of Bridge Street and Highway 124 (River Street) in Chippewa Falls. \nThere’s no such thing as bad weather\, just bad clothing choices! Dress for Rally Success! Let’s gather together and speak up for our children\, grandchildren\, and our community! \nTwo public parking lots on Bridge and River. \nSign Me Up!
URL:https://chippewavalleyunited.com/event/defend-democracy-rally-cf/2025-09-18/
LOCATION:Peace Circle Chippewa Falls\, Roundabout Bridge and River\, Chippewa Falls\, WI\, 54729\, United States
CATEGORIES:Featured
ATTACH;FMTTYPE=image/jpeg:https://chippewavalleyunited.com/wp-content/uploads/2025/03/DDCF.jpg
ORGANIZER;CN="Chippewa Valley Indivisible":MAILTO:ojibwavalley@gmail.com
END:VEVENT
BEGIN:VEVENT
DTSTART;TZID=America/Chicago:20250925T160000
DTEND;TZID=America/Chicago:20250925T170000
DTSTAMP:20260423T184739
CREATED:20250329T010231Z
LAST-MODIFIED:20251101T173218Z
UID:10000095-1758816000-1758819600@chippewavalleyunited.com
SUMMARY:Defend Democracy Rally – Chippewa Falls Weekly
DESCRIPTION:Take action now to Defend Democracy! We come together as a community to stand against this authoritarianism\, and against unlawful and unconstitutional actions. Take a stand for protecting Social Security\, Medicaid\, federal agencies\, national parks\, due process\, the rule of law\, the environment\, and more. Defend our democracy for our families\, friends\, and neighbors. Get your signs ready and come let the community know this matters to you! \nGathering every week at 4pm on Peace Circle in Chippewa Falls (roundabout on the corner of Bridge Street and Highway 124 (River Street) in Chippewa Falls. \nThere’s no such thing as bad weather\, just bad clothing choices! Dress for Rally Success! Let’s gather together and speak up for our children\, grandchildren\, and our community! \nTwo public parking lots on Bridge and River. \nSign Me Up!
URL:https://chippewavalleyunited.com/event/defend-democracy-rally-cf/2025-09-25/
LOCATION:Peace Circle Chippewa Falls\, Roundabout Bridge and River\, Chippewa Falls\, WI\, 54729\, United States
CATEGORIES:Featured
ATTACH;FMTTYPE=image/jpeg:https://chippewavalleyunited.com/wp-content/uploads/2025/03/DDCF.jpg
ORGANIZER;CN="Chippewa Valley Indivisible":MAILTO:ojibwavalley@gmail.com
END:VEVENT
END:VCALENDAR