BEGIN:VCALENDAR
VERSION:2.0
PRODID:-//Chippewa Valley Indivisible - ECPv6.15.20//NONSGML v1.0//EN
CALSCALE:GREGORIAN
METHOD:PUBLISH
X-WR-CALNAME:Chippewa Valley Indivisible
X-ORIGINAL-URL:https://chippewavalleyunited.com
X-WR-CALDESC:Events for Chippewa Valley Indivisible
REFRESH-INTERVAL;VALUE=DURATION:PT1H
X-Robots-Tag:noindex
X-PUBLISHED-TTL:PT1H
BEGIN:VTIMEZONE
TZID:America/Chicago
BEGIN:DAYLIGHT
TZOFFSETFROM:-0600
TZOFFSETTO:-0500
TZNAME:CDT
DTSTART:20250309T080000
END:DAYLIGHT
BEGIN:STANDARD
TZOFFSETFROM:-0500
TZOFFSETTO:-0600
TZNAME:CST
DTSTART:20251102T070000
END:STANDARD
BEGIN:DAYLIGHT
TZOFFSETFROM:-0600
TZOFFSETTO:-0500
TZNAME:CDT
DTSTART:20260308T080000
END:DAYLIGHT
BEGIN:STANDARD
TZOFFSETFROM:-0500
TZOFFSETTO:-0600
TZNAME:CST
DTSTART:20261101T070000
END:STANDARD
BEGIN:DAYLIGHT
TZOFFSETFROM:-0600
TZOFFSETTO:-0500
TZNAME:CDT
DTSTART:20270314T080000
END:DAYLIGHT
BEGIN:STANDARD
TZOFFSETFROM:-0500
TZOFFSETTO:-0600
TZNAME:CST
DTSTART:20271107T070000
END:STANDARD
END:VTIMEZONE
BEGIN:VEVENT
DTSTART;TZID=America/Chicago:20260207T143000
DTEND;TZID=America/Chicago:20260207T153000
DTSTAMP:20260423T122817
CREATED:20260123T191251Z
LAST-MODIFIED:20260324T131948Z
UID:10000846-1770474600-1770478200@chippewavalleyunited.com
SUMMARY:Defend Democracy Rally – Chippewa Falls Weekly
DESCRIPTION:Citizens gathering every week at 2:30pm on Peace Circle in Chippewa Falls (roundabout on the corner of Bridge Street and Highway 124 (River Street) in Chippewa Falls to stand together to protect\, preserve\, and strengthen our democracy \nThere’s no such thing as bad weather\, just bad clothing choices! Dress for Rally Success! Let’s gather together and speak up for our children\, grandchildren\, and future generations. Let’s build a better future fore everyone in our community! \nTwo public parking lots on Bridge and River. \nSign Me Up!
URL:https://chippewavalleyunited.com/event/defend-democracy-rally-chippewa-falls-weekly-3/2026-02-07/
LOCATION:Peace Circle Chippewa Falls\, Roundabout Bridge and River\, Chippewa Falls\, WI\, 54729\, United States
CATEGORIES:Featured
ATTACH;FMTTYPE=image/jpeg:https://chippewavalleyunited.com/wp-content/uploads/2025/11/DDR_CF.jpg
ORGANIZER;CN="Chippewa Valley Indivisible":MAILTO:ojibwavalley@gmail.com
END:VEVENT
BEGIN:VEVENT
DTSTART;TZID=America/Chicago:20260207T143000
DTEND;TZID=America/Chicago:20260207T153000
DTSTAMP:20260423T122817
CREATED:20260324T132009Z
LAST-MODIFIED:20260415T135201Z
UID:10001122-1770474600-1770478200@chippewavalleyunited.com
SUMMARY:Defend Democracy Rally – Chippewa Falls Weekly
DESCRIPTION:Citizens gathering every week at 2:30pm on Peace Circle in Chippewa Falls (roundabout on the corner of Bridge Street and Highway 124 (River Street) in Chippewa Falls to stand together to protect\, preserve\, and strengthen our democracy \nThere’s no such thing as bad weather\, just bad clothing choices! Dress for Rally Success! Let’s gather together and speak up for our children\, grandchildren\, and future generations. Let’s build a better future fore everyone in our community! \nTwo public parking lots on Bridge and River. \nSign Me Up!
URL:https://chippewavalleyunited.com/event/defend-democracy-rally-chippewa-falls-weekly-3-2/2026-02-07/
LOCATION:Peace Circle Chippewa Falls\, Roundabout Bridge and River\, Chippewa Falls\, WI\, 54729\, United States
CATEGORIES:Featured
ATTACH;FMTTYPE=image/jpeg:https://chippewavalleyunited.com/wp-content/uploads/2025/11/DDR_CF.jpg
ORGANIZER;CN="Chippewa Valley Indivisible":MAILTO:ojibwavalley@gmail.com
END:VEVENT
BEGIN:VEVENT
DTSTART;TZID=America/Chicago:20260214T143000
DTEND;TZID=America/Chicago:20260214T153000
DTSTAMP:20260423T122817
CREATED:20260123T191251Z
LAST-MODIFIED:20260324T131948Z
UID:10000847-1771079400-1771083000@chippewavalleyunited.com
SUMMARY:Defend Democracy Rally – Chippewa Falls Weekly
DESCRIPTION:Citizens gathering every week at 2:30pm on Peace Circle in Chippewa Falls (roundabout on the corner of Bridge Street and Highway 124 (River Street) in Chippewa Falls to stand together to protect\, preserve\, and strengthen our democracy \nThere’s no such thing as bad weather\, just bad clothing choices! Dress for Rally Success! Let’s gather together and speak up for our children\, grandchildren\, and future generations. Let’s build a better future fore everyone in our community! \nTwo public parking lots on Bridge and River. \nSign Me Up!
URL:https://chippewavalleyunited.com/event/defend-democracy-rally-chippewa-falls-weekly-3/2026-02-14/
LOCATION:Peace Circle Chippewa Falls\, Roundabout Bridge and River\, Chippewa Falls\, WI\, 54729\, United States
CATEGORIES:Featured
ATTACH;FMTTYPE=image/jpeg:https://chippewavalleyunited.com/wp-content/uploads/2025/11/DDR_CF.jpg
ORGANIZER;CN="Chippewa Valley Indivisible":MAILTO:ojibwavalley@gmail.com
END:VEVENT
BEGIN:VEVENT
DTSTART;TZID=America/Chicago:20260214T143000
DTEND;TZID=America/Chicago:20260214T153000
DTSTAMP:20260423T122817
CREATED:20260324T132009Z
LAST-MODIFIED:20260415T135201Z
UID:10001123-1771079400-1771083000@chippewavalleyunited.com
SUMMARY:Defend Democracy Rally – Chippewa Falls Weekly
DESCRIPTION:Citizens gathering every week at 2:30pm on Peace Circle in Chippewa Falls (roundabout on the corner of Bridge Street and Highway 124 (River Street) in Chippewa Falls to stand together to protect\, preserve\, and strengthen our democracy \nThere’s no such thing as bad weather\, just bad clothing choices! Dress for Rally Success! Let’s gather together and speak up for our children\, grandchildren\, and future generations. Let’s build a better future fore everyone in our community! \nTwo public parking lots on Bridge and River. \nSign Me Up!
URL:https://chippewavalleyunited.com/event/defend-democracy-rally-chippewa-falls-weekly-3-2/2026-02-14/
LOCATION:Peace Circle Chippewa Falls\, Roundabout Bridge and River\, Chippewa Falls\, WI\, 54729\, United States
CATEGORIES:Featured
ATTACH;FMTTYPE=image/jpeg:https://chippewavalleyunited.com/wp-content/uploads/2025/11/DDR_CF.jpg
ORGANIZER;CN="Chippewa Valley Indivisible":MAILTO:ojibwavalley@gmail.com
END:VEVENT
BEGIN:VEVENT
DTSTART;TZID=America/Chicago:20260221T143000
DTEND;TZID=America/Chicago:20260221T153000
DTSTAMP:20260423T122817
CREATED:20260123T191251Z
LAST-MODIFIED:20260324T131948Z
UID:10000848-1771684200-1771687800@chippewavalleyunited.com
SUMMARY:Defend Democracy Rally – Chippewa Falls Weekly
DESCRIPTION:Citizens gathering every week at 2:30pm on Peace Circle in Chippewa Falls (roundabout on the corner of Bridge Street and Highway 124 (River Street) in Chippewa Falls to stand together to protect\, preserve\, and strengthen our democracy \nThere’s no such thing as bad weather\, just bad clothing choices! Dress for Rally Success! Let’s gather together and speak up for our children\, grandchildren\, and future generations. Let’s build a better future fore everyone in our community! \nTwo public parking lots on Bridge and River. \nSign Me Up!
URL:https://chippewavalleyunited.com/event/defend-democracy-rally-chippewa-falls-weekly-3/2026-02-21/
LOCATION:Peace Circle Chippewa Falls\, Roundabout Bridge and River\, Chippewa Falls\, WI\, 54729\, United States
CATEGORIES:Featured
ATTACH;FMTTYPE=image/jpeg:https://chippewavalleyunited.com/wp-content/uploads/2025/11/DDR_CF.jpg
ORGANIZER;CN="Chippewa Valley Indivisible":MAILTO:ojibwavalley@gmail.com
END:VEVENT
BEGIN:VEVENT
DTSTART;TZID=America/Chicago:20260221T143000
DTEND;TZID=America/Chicago:20260221T153000
DTSTAMP:20260423T122817
CREATED:20260324T132009Z
LAST-MODIFIED:20260415T135201Z
UID:10001124-1771684200-1771687800@chippewavalleyunited.com
SUMMARY:Defend Democracy Rally – Chippewa Falls Weekly
DESCRIPTION:Citizens gathering every week at 2:30pm on Peace Circle in Chippewa Falls (roundabout on the corner of Bridge Street and Highway 124 (River Street) in Chippewa Falls to stand together to protect\, preserve\, and strengthen our democracy \nThere’s no such thing as bad weather\, just bad clothing choices! Dress for Rally Success! Let’s gather together and speak up for our children\, grandchildren\, and future generations. Let’s build a better future fore everyone in our community! \nTwo public parking lots on Bridge and River. \nSign Me Up!
URL:https://chippewavalleyunited.com/event/defend-democracy-rally-chippewa-falls-weekly-3-2/2026-02-21/
LOCATION:Peace Circle Chippewa Falls\, Roundabout Bridge and River\, Chippewa Falls\, WI\, 54729\, United States
CATEGORIES:Featured
ATTACH;FMTTYPE=image/jpeg:https://chippewavalleyunited.com/wp-content/uploads/2025/11/DDR_CF.jpg
ORGANIZER;CN="Chippewa Valley Indivisible":MAILTO:ojibwavalley@gmail.com
END:VEVENT
BEGIN:VEVENT
DTSTART;TZID=America/Chicago:20260228T143000
DTEND;TZID=America/Chicago:20260228T153000
DTSTAMP:20260423T122817
CREATED:20260123T191251Z
LAST-MODIFIED:20260324T131948Z
UID:10000849-1772289000-1772292600@chippewavalleyunited.com
SUMMARY:Defend Democracy Rally – Chippewa Falls Weekly
DESCRIPTION:Citizens gathering every week at 2:30pm on Peace Circle in Chippewa Falls (roundabout on the corner of Bridge Street and Highway 124 (River Street) in Chippewa Falls to stand together to protect\, preserve\, and strengthen our democracy \nThere’s no such thing as bad weather\, just bad clothing choices! Dress for Rally Success! Let’s gather together and speak up for our children\, grandchildren\, and future generations. Let’s build a better future fore everyone in our community! \nTwo public parking lots on Bridge and River. \nSign Me Up!
URL:https://chippewavalleyunited.com/event/defend-democracy-rally-chippewa-falls-weekly-3/2026-02-28/
LOCATION:Peace Circle Chippewa Falls\, Roundabout Bridge and River\, Chippewa Falls\, WI\, 54729\, United States
CATEGORIES:Featured
ATTACH;FMTTYPE=image/jpeg:https://chippewavalleyunited.com/wp-content/uploads/2025/11/DDR_CF.jpg
ORGANIZER;CN="Chippewa Valley Indivisible":MAILTO:ojibwavalley@gmail.com
END:VEVENT
BEGIN:VEVENT
DTSTART;TZID=America/Chicago:20260228T143000
DTEND;TZID=America/Chicago:20260228T153000
DTSTAMP:20260423T122817
CREATED:20260324T132009Z
LAST-MODIFIED:20260415T135201Z
UID:10001125-1772289000-1772292600@chippewavalleyunited.com
SUMMARY:Defend Democracy Rally – Chippewa Falls Weekly
DESCRIPTION:Citizens gathering every week at 2:30pm on Peace Circle in Chippewa Falls (roundabout on the corner of Bridge Street and Highway 124 (River Street) in Chippewa Falls to stand together to protect\, preserve\, and strengthen our democracy \nThere’s no such thing as bad weather\, just bad clothing choices! Dress for Rally Success! Let’s gather together and speak up for our children\, grandchildren\, and future generations. Let’s build a better future fore everyone in our community! \nTwo public parking lots on Bridge and River. \nSign Me Up!
URL:https://chippewavalleyunited.com/event/defend-democracy-rally-chippewa-falls-weekly-3-2/2026-02-28/
LOCATION:Peace Circle Chippewa Falls\, Roundabout Bridge and River\, Chippewa Falls\, WI\, 54729\, United States
CATEGORIES:Featured
ATTACH;FMTTYPE=image/jpeg:https://chippewavalleyunited.com/wp-content/uploads/2025/11/DDR_CF.jpg
ORGANIZER;CN="Chippewa Valley Indivisible":MAILTO:ojibwavalley@gmail.com
END:VEVENT
END:VCALENDAR