BEGIN:VCALENDAR
VERSION:2.0
PRODID:-//Chippewa Valley Indivisible - ECPv6.15.20//NONSGML v1.0//EN
CALSCALE:GREGORIAN
METHOD:PUBLISH
X-ORIGINAL-URL:https://chippewavalleyunited.com
X-WR-CALDESC:Events for Chippewa Valley Indivisible
REFRESH-INTERVAL;VALUE=DURATION:PT1H
X-Robots-Tag:noindex
X-PUBLISHED-TTL:PT1H
BEGIN:VTIMEZONE
TZID:America/Chicago
BEGIN:DAYLIGHT
TZOFFSETFROM:-0600
TZOFFSETTO:-0500
TZNAME:CDT
DTSTART:20250309T080000
END:DAYLIGHT
BEGIN:STANDARD
TZOFFSETFROM:-0500
TZOFFSETTO:-0600
TZNAME:CST
DTSTART:20251102T070000
END:STANDARD
BEGIN:DAYLIGHT
TZOFFSETFROM:-0600
TZOFFSETTO:-0500
TZNAME:CDT
DTSTART:20260308T080000
END:DAYLIGHT
BEGIN:STANDARD
TZOFFSETFROM:-0500
TZOFFSETTO:-0600
TZNAME:CST
DTSTART:20261101T070000
END:STANDARD
BEGIN:DAYLIGHT
TZOFFSETFROM:-0600
TZOFFSETTO:-0500
TZNAME:CDT
DTSTART:20270314T080000
END:DAYLIGHT
BEGIN:STANDARD
TZOFFSETFROM:-0500
TZOFFSETTO:-0600
TZNAME:CST
DTSTART:20271107T070000
END:STANDARD
END:VTIMEZONE
BEGIN:VEVENT
DTSTART;TZID=America/Chicago:20260505T163000
DTEND;TZID=America/Chicago:20260505T173000
DTSTAMP:20260423T105547
CREATED:20260415T135408Z
LAST-MODIFIED:20260419T132515Z
UID:10001140-1777998600-1778002200@chippewavalleyunited.com
SUMMARY:Defend Democracy Rally – Chippewa Falls Weekly
DESCRIPTION:Citizens gathering every week on Peace Circle in Chippewa Falls (roundabout on the corner of Bridge Street and Highway 124 (River Street) in Chippewa Falls to stand together to protect\, preserve\, and strengthen our democracy. \nThere’s no such thing as bad weather\, just bad clothing choices! Dress for Rally Success! Let’s gather together and speak up for our children\, grandchildren\, and future generations. Let’s build a better future fore everyone in our community! \nTwo public parking lots on Bridge and River. \nSign Me Up!
URL:https://chippewavalleyunited.com/event/defend-democracy-rally-chippewa-falls-weekly-2/2026-05-05/
LOCATION:Peace Circle Chippewa Falls\, Roundabout Bridge and River\, Chippewa Falls\, WI\, 54729\, United States
CATEGORIES:Featured
ATTACH;FMTTYPE=image/jpeg:https://chippewavalleyunited.com/wp-content/uploads/2025/03/CFPeaceCircle.jpeg
ORGANIZER;CN="Chippewa Valley Indivisible":MAILTO:ojibwavalley@gmail.com
END:VEVENT
BEGIN:VEVENT
DTSTART;TZID=America/Chicago:20260505T180000
DTEND;TZID=America/Chicago:20260505T193000
DTSTAMP:20260423T105547
CREATED:20260330T030203Z
LAST-MODIFIED:20260419T132628Z
UID:10000984-1778004000-1778009400@chippewavalleyunited.com
SUMMARY:CVI Weekly Meeting
DESCRIPTION:Join us every Tuesday at the Market on River in Chippewa Falls for our regular meeting. We will be working on action groups\, the midterms\, election integrity\, and supporting our friends and neighbors. \nRallies and Bridge Brigades have resumed in the cold\, wind\, and ice that is Wisconsin in January. It’s been brisk out there but our message teams are making a stand to inspire\, encourage\, and motivate folks to join our pro-democracy efforts. We hope you will come stand with us! It warms our hearts and makes our toes hurt less.
URL:https://chippewavalleyunited.com/event/cvi-weekly-meeting-2/2026-05-05/
LOCATION:Market on River\, 128 W. River St\, 2nd Floor\, Chippewa Falls\, WI\, 54729\, United States
CATEGORIES:Featured
ATTACH;FMTTYPE=image/avif:https://chippewavalleyunited.com/wp-content/uploads/2025/03/MarketOnRiver_20250305000730447478.jpg.avif
END:VEVENT
BEGIN:VEVENT
DTSTART;TZID=America/Chicago:20260512T163000
DTEND;TZID=America/Chicago:20260512T173000
DTSTAMP:20260423T105547
CREATED:20260415T135408Z
LAST-MODIFIED:20260419T132515Z
UID:10001141-1778603400-1778607000@chippewavalleyunited.com
SUMMARY:Defend Democracy Rally – Chippewa Falls Weekly
DESCRIPTION:Citizens gathering every week on Peace Circle in Chippewa Falls (roundabout on the corner of Bridge Street and Highway 124 (River Street) in Chippewa Falls to stand together to protect\, preserve\, and strengthen our democracy. \nThere’s no such thing as bad weather\, just bad clothing choices! Dress for Rally Success! Let’s gather together and speak up for our children\, grandchildren\, and future generations. Let’s build a better future fore everyone in our community! \nTwo public parking lots on Bridge and River. \nSign Me Up!
URL:https://chippewavalleyunited.com/event/defend-democracy-rally-chippewa-falls-weekly-2/2026-05-12/
LOCATION:Peace Circle Chippewa Falls\, Roundabout Bridge and River\, Chippewa Falls\, WI\, 54729\, United States
CATEGORIES:Featured
ATTACH;FMTTYPE=image/jpeg:https://chippewavalleyunited.com/wp-content/uploads/2025/03/CFPeaceCircle.jpeg
ORGANIZER;CN="Chippewa Valley Indivisible":MAILTO:ojibwavalley@gmail.com
END:VEVENT
BEGIN:VEVENT
DTSTART;TZID=America/Chicago:20260512T180000
DTEND;TZID=America/Chicago:20260512T193000
DTSTAMP:20260423T105547
CREATED:20260330T030203Z
LAST-MODIFIED:20260419T132628Z
UID:10000985-1778608800-1778614200@chippewavalleyunited.com
SUMMARY:CVI Weekly Meeting
DESCRIPTION:Join us every Tuesday at the Market on River in Chippewa Falls for our regular meeting. We will be working on action groups\, the midterms\, election integrity\, and supporting our friends and neighbors. \nRallies and Bridge Brigades have resumed in the cold\, wind\, and ice that is Wisconsin in January. It’s been brisk out there but our message teams are making a stand to inspire\, encourage\, and motivate folks to join our pro-democracy efforts. We hope you will come stand with us! It warms our hearts and makes our toes hurt less.
URL:https://chippewavalleyunited.com/event/cvi-weekly-meeting-2/2026-05-12/
LOCATION:Market on River\, 128 W. River St\, 2nd Floor\, Chippewa Falls\, WI\, 54729\, United States
CATEGORIES:Featured
ATTACH;FMTTYPE=image/avif:https://chippewavalleyunited.com/wp-content/uploads/2025/03/MarketOnRiver_20250305000730447478.jpg.avif
END:VEVENT
BEGIN:VEVENT
DTSTART;TZID=America/Chicago:20260519T163000
DTEND;TZID=America/Chicago:20260519T173000
DTSTAMP:20260423T105547
CREATED:20260415T135408Z
LAST-MODIFIED:20260419T132515Z
UID:10001142-1779208200-1779211800@chippewavalleyunited.com
SUMMARY:Defend Democracy Rally – Chippewa Falls Weekly
DESCRIPTION:Citizens gathering every week on Peace Circle in Chippewa Falls (roundabout on the corner of Bridge Street and Highway 124 (River Street) in Chippewa Falls to stand together to protect\, preserve\, and strengthen our democracy. \nThere’s no such thing as bad weather\, just bad clothing choices! Dress for Rally Success! Let’s gather together and speak up for our children\, grandchildren\, and future generations. Let’s build a better future fore everyone in our community! \nTwo public parking lots on Bridge and River. \nSign Me Up!
URL:https://chippewavalleyunited.com/event/defend-democracy-rally-chippewa-falls-weekly-2/2026-05-19/
LOCATION:Peace Circle Chippewa Falls\, Roundabout Bridge and River\, Chippewa Falls\, WI\, 54729\, United States
CATEGORIES:Featured
ATTACH;FMTTYPE=image/jpeg:https://chippewavalleyunited.com/wp-content/uploads/2025/03/CFPeaceCircle.jpeg
ORGANIZER;CN="Chippewa Valley Indivisible":MAILTO:ojibwavalley@gmail.com
END:VEVENT
BEGIN:VEVENT
DTSTART;TZID=America/Chicago:20260519T180000
DTEND;TZID=America/Chicago:20260519T193000
DTSTAMP:20260423T105547
CREATED:20260330T030203Z
LAST-MODIFIED:20260419T132628Z
UID:10000986-1779213600-1779219000@chippewavalleyunited.com
SUMMARY:CVI Weekly Meeting
DESCRIPTION:Join us every Tuesday at the Market on River in Chippewa Falls for our regular meeting. We will be working on action groups\, the midterms\, election integrity\, and supporting our friends and neighbors. \nRallies and Bridge Brigades have resumed in the cold\, wind\, and ice that is Wisconsin in January. It’s been brisk out there but our message teams are making a stand to inspire\, encourage\, and motivate folks to join our pro-democracy efforts. We hope you will come stand with us! It warms our hearts and makes our toes hurt less.
URL:https://chippewavalleyunited.com/event/cvi-weekly-meeting-2/2026-05-19/
LOCATION:Market on River\, 128 W. River St\, 2nd Floor\, Chippewa Falls\, WI\, 54729\, United States
CATEGORIES:Featured
ATTACH;FMTTYPE=image/avif:https://chippewavalleyunited.com/wp-content/uploads/2025/03/MarketOnRiver_20250305000730447478.jpg.avif
END:VEVENT
BEGIN:VEVENT
DTSTART;TZID=America/Chicago:20260526T163000
DTEND;TZID=America/Chicago:20260526T173000
DTSTAMP:20260423T105547
CREATED:20260415T135408Z
LAST-MODIFIED:20260419T132515Z
UID:10001143-1779813000-1779816600@chippewavalleyunited.com
SUMMARY:Defend Democracy Rally – Chippewa Falls Weekly
DESCRIPTION:Citizens gathering every week on Peace Circle in Chippewa Falls (roundabout on the corner of Bridge Street and Highway 124 (River Street) in Chippewa Falls to stand together to protect\, preserve\, and strengthen our democracy. \nThere’s no such thing as bad weather\, just bad clothing choices! Dress for Rally Success! Let’s gather together and speak up for our children\, grandchildren\, and future generations. Let’s build a better future fore everyone in our community! \nTwo public parking lots on Bridge and River. \nSign Me Up!
URL:https://chippewavalleyunited.com/event/defend-democracy-rally-chippewa-falls-weekly-2/2026-05-26/
LOCATION:Peace Circle Chippewa Falls\, Roundabout Bridge and River\, Chippewa Falls\, WI\, 54729\, United States
CATEGORIES:Featured
ATTACH;FMTTYPE=image/jpeg:https://chippewavalleyunited.com/wp-content/uploads/2025/03/CFPeaceCircle.jpeg
ORGANIZER;CN="Chippewa Valley Indivisible":MAILTO:ojibwavalley@gmail.com
END:VEVENT
BEGIN:VEVENT
DTSTART;TZID=America/Chicago:20260526T180000
DTEND;TZID=America/Chicago:20260526T193000
DTSTAMP:20260423T105547
CREATED:20260330T030203Z
LAST-MODIFIED:20260419T132628Z
UID:10000987-1779818400-1779823800@chippewavalleyunited.com
SUMMARY:CVI Weekly Meeting
DESCRIPTION:Join us every Tuesday at the Market on River in Chippewa Falls for our regular meeting. We will be working on action groups\, the midterms\, election integrity\, and supporting our friends and neighbors. \nRallies and Bridge Brigades have resumed in the cold\, wind\, and ice that is Wisconsin in January. It’s been brisk out there but our message teams are making a stand to inspire\, encourage\, and motivate folks to join our pro-democracy efforts. We hope you will come stand with us! It warms our hearts and makes our toes hurt less.
URL:https://chippewavalleyunited.com/event/cvi-weekly-meeting-2/2026-05-26/
LOCATION:Market on River\, 128 W. River St\, 2nd Floor\, Chippewa Falls\, WI\, 54729\, United States
CATEGORIES:Featured
ATTACH;FMTTYPE=image/avif:https://chippewavalleyunited.com/wp-content/uploads/2025/03/MarketOnRiver_20250305000730447478.jpg.avif
END:VEVENT
END:VCALENDAR