BEGIN:VCALENDAR
VERSION:2.0
PRODID:-//Chippewa Valley Indivisible - ECPv6.15.20//NONSGML v1.0//EN
CALSCALE:GREGORIAN
METHOD:PUBLISH
X-WR-CALNAME:Chippewa Valley Indivisible
X-ORIGINAL-URL:https://chippewavalleyunited.com
X-WR-CALDESC:Events for Chippewa Valley Indivisible
REFRESH-INTERVAL;VALUE=DURATION:PT1H
X-Robots-Tag:noindex
X-PUBLISHED-TTL:PT1H
BEGIN:VTIMEZONE
TZID:UTC
BEGIN:STANDARD
TZOFFSETFROM:+0000
TZOFFSETTO:+0000
TZNAME:UTC
DTSTART:20240101T000000
END:STANDARD
END:VTIMEZONE
BEGIN:VTIMEZONE
TZID:America/Chicago
BEGIN:DAYLIGHT
TZOFFSETFROM:-0600
TZOFFSETTO:-0500
TZNAME:CDT
DTSTART:20240310T080000
END:DAYLIGHT
BEGIN:STANDARD
TZOFFSETFROM:-0500
TZOFFSETTO:-0600
TZNAME:CST
DTSTART:20241103T070000
END:STANDARD
BEGIN:DAYLIGHT
TZOFFSETFROM:-0600
TZOFFSETTO:-0500
TZNAME:CDT
DTSTART:20250309T080000
END:DAYLIGHT
BEGIN:STANDARD
TZOFFSETFROM:-0500
TZOFFSETTO:-0600
TZNAME:CST
DTSTART:20251102T070000
END:STANDARD
BEGIN:DAYLIGHT
TZOFFSETFROM:-0600
TZOFFSETTO:-0500
TZNAME:CDT
DTSTART:20260308T080000
END:DAYLIGHT
BEGIN:STANDARD
TZOFFSETFROM:-0500
TZOFFSETTO:-0600
TZNAME:CST
DTSTART:20261101T070000
END:STANDARD
END:VTIMEZONE
BEGIN:VEVENT
DTSTART;TZID=UTC:20250311T190000
DTEND;TZID=UTC:20250311T203000
DTSTAMP:20260424T074815
CREATED:20250312T021459Z
LAST-MODIFIED:20250311T212612Z
UID:10000001-1741719600-1741725000@chippewavalleyunited.com
SUMMARY:George Penn\, Wisconsin Citizens United to Amend
DESCRIPTION:Let’s work together to end corporate citizenship!
URL:https://chippewavalleyunited.com/event/george-penn-wisconsin-citizens-united-to-amend/
LOCATION:River Falls Public Library
ATTACH;FMTTYPE=image/png:https://chippewavalleyunited.com/wp-content/uploads/2025/03/WIUTA-Logo.png
END:VEVENT
BEGIN:VEVENT
DTSTART;TZID=America/Chicago:20250312T080000
DTEND;TZID=America/Chicago:20250312T170000
DTSTAMP:20260424T074815
CREATED:20250311T222322Z
LAST-MODIFIED:20251111T235747Z
UID:10000525-1741766400-1741798800@chippewavalleyunited.com
SUMMARY:Defend Democracy Rally – Eau Claire Weekly
DESCRIPTION:Take action now to Defend Democracy! We come together as a community to stand against this authoritarianism\, and against unlawful and unconstitutional actions. Take a stand for protecting Social Security\, Medicaid\, federal agencies\, national parks\, due process\, the rule of law\, the environment\, and more. Defend our democracy for our families\, friends\, and neighbors. Get your signs ready and come let the community know this matters to you! \nGathering every week at 4pm by the Federal Building in Eau Claire. Meet up on the corner of Barstow and Lake Street\, 500 S. Barstow Street. Bring a friend! \nThere’s no such thing as bad weather\, just bad clothing choices! Dress for Rally Success! Let’s gather together and speak up for our children\, grandchildren\, and our community! \nSmall parking lot at South Farwell and Gray\, along with street parking downtown. \nSign Me Up!
URL:https://chippewavalleyunited.com/event/defend-democracy-protest/2025-03-12/1/
LOCATION:Eau Claire Federal Building\, 505 S. Barstow St\, Eau Claire\, WI\, 54701\, United States
ATTACH;FMTTYPE=image/jpeg:https://chippewavalleyunited.com/wp-content/uploads/2025/03/DDR_Photo-scaled.jpg
ORGANIZER;CN="Chippewa Valley Indivisible":MAILTO:ojibwavalley@gmail.com
END:VEVENT
BEGIN:VEVENT
DTSTART;TZID=America/Chicago:20250312T150000
DTEND;TZID=America/Chicago:20250312T160000
DTSTAMP:20260424T074815
CREATED:20250311T222322Z
LAST-MODIFIED:20251111T235747Z
UID:10000526-1741791600-1741795200@chippewavalleyunited.com
SUMMARY:Defend Democracy Rally – Eau Claire Weekly
DESCRIPTION:Take action now to Defend Democracy! We come together as a community to stand against this authoritarianism\, and against unlawful and unconstitutional actions. Take a stand for protecting Social Security\, Medicaid\, federal agencies\, national parks\, due process\, the rule of law\, the environment\, and more. Defend our democracy for our families\, friends\, and neighbors. Get your signs ready and come let the community know this matters to you! \nGathering every week at 4pm by the Federal Building in Eau Claire. Meet up on the corner of Barstow and Lake Street\, 500 S. Barstow Street. Bring a friend! \nThere’s no such thing as bad weather\, just bad clothing choices! Dress for Rally Success! Let’s gather together and speak up for our children\, grandchildren\, and our community! \nSmall parking lot at South Farwell and Gray\, along with street parking downtown. \nSign Me Up!
URL:https://chippewavalleyunited.com/event/defend-democracy-protest/2025-03-12/2/
LOCATION:Eau Claire Federal Building\, 505 S. Barstow St\, Eau Claire\, WI\, 54701\, United States
ATTACH;FMTTYPE=image/jpeg:https://chippewavalleyunited.com/wp-content/uploads/2025/03/DDR_Photo-scaled.jpg
ORGANIZER;CN="Chippewa Valley Indivisible":MAILTO:ojibwavalley@gmail.com
END:VEVENT
BEGIN:VEVENT
DTSTART;TZID=America/Chicago:20250314T163000
DTEND;TZID=America/Chicago:20250314T183000
DTSTAMP:20260424T074815
CREATED:20250311T213015Z
LAST-MODIFIED:20250311T213015Z
UID:10000002-1741969800-1741977000@chippewavalleyunited.com
SUMMARY:Birthday Party State Senator Jeff Smith
DESCRIPTION:
URL:https://chippewavalleyunited.com/event/birthday-party-state-senator-jeff-smith/
LOCATION:The Lazy Monk\, 97 West Madison St\, Eau Claire\, WI\, 54702\, United States
END:VEVENT
BEGIN:VEVENT
DTSTART;TZID=America/Chicago:20250315T160000
DTEND;TZID=America/Chicago:20250315T173000
DTSTAMP:20260424T074815
CREATED:20250311T224348Z
LAST-MODIFIED:20250318T215055Z
UID:10000005-1742054400-1742059800@chippewavalleyunited.com
SUMMARY:Chippewa Valley Indivisible Weekly Meeting 15 March
DESCRIPTION:Join us this Saturday at the Market on River at 4pm to discuss exciting new actions\, hear about our successes so far\, and inspire each other to keep making our voices heard! We have only three weeks remaining until the April 1st election. We’ll be discussing SCOWIS actions. \nWe will plan for this week’s rally and the recess town hall. \nJoin Us!
URL:https://chippewavalleyunited.com/event/chippewa-valley-indivisible-weekly-meeting/
LOCATION:Market on River\, 128 W. River St\, 2nd Floor\, Chippewa Falls\, WI\, 54729\, United States
ATTACH;FMTTYPE=image/avif:https://chippewavalleyunited.com/wp-content/uploads/2025/03/MarketOnRiver_20250305000730447478.jpg.avif
ORGANIZER;CN="Chippewa Valley Indivisible":MAILTO:ojibwavalley@gmail.com
END:VEVENT
BEGIN:VEVENT
DTSTART;TZID=America/Chicago:20250318T173000
DTEND;TZID=America/Chicago:20250318T200000
DTSTAMP:20260424T074815
CREATED:20250318T004021Z
LAST-MODIFIED:20250318T232322Z
UID:10000006-1742319000-1742328000@chippewavalleyunited.com
SUMMARY:The People v. Musk Townhall w. Gov. Walz
DESCRIPTION:Join Gov. Tim Walz\, Secretary Sarah Godlewski\, Ben Wikler and the Democratic Party of Wisconsin as WE FIGHT back and highlight that the Wisconsin Supreme Court CANNOT be bought! We want to hear from YOU! \nElon Musk is trying to buy a seat on the Wisconsin Supreme Court. He knows whoever wins the April 1st election will be the tie-breaking vote in court decisions\, and he’s bankrolling extreme right-wing candidate Brad Schimel to ensure a rubber stamp on the MAGA agenda in Wisconsin. \nCome to our town hall and LET YOUR VOICE BE HEARD! \nLearn More
URL:https://chippewavalleyunited.com/event/the-people-v-musk-townhall-w-gov-walz/
LOCATION:PABLO CENTER AT THE CONFLUENCE\, 128 Graham Ave\, Eau Claire\, WI\, 54701\, United States
ATTACH;FMTTYPE=image/jpeg:https://chippewavalleyunited.com/wp-content/uploads/2025/03/walz.jpg
END:VEVENT
BEGIN:VEVENT
DTSTART;TZID=America/Chicago:20250319T150000
DTEND;TZID=America/Chicago:20250319T160000
DTSTAMP:20260424T074815
CREATED:20250311T222322Z
LAST-MODIFIED:20251111T235747Z
UID:10000527-1742396400-1742400000@chippewavalleyunited.com
SUMMARY:Defend Democracy Rally – Eau Claire Weekly
DESCRIPTION:Take action now to Defend Democracy! We come together as a community to stand against this authoritarianism\, and against unlawful and unconstitutional actions. Take a stand for protecting Social Security\, Medicaid\, federal agencies\, national parks\, due process\, the rule of law\, the environment\, and more. Defend our democracy for our families\, friends\, and neighbors. Get your signs ready and come let the community know this matters to you! \nGathering every week at 4pm by the Federal Building in Eau Claire. Meet up on the corner of Barstow and Lake Street\, 500 S. Barstow Street. Bring a friend! \nThere’s no such thing as bad weather\, just bad clothing choices! Dress for Rally Success! Let’s gather together and speak up for our children\, grandchildren\, and our community! \nSmall parking lot at South Farwell and Gray\, along with street parking downtown. \nSign Me Up!
URL:https://chippewavalleyunited.com/event/defend-democracy-protest/2025-03-19/
LOCATION:Eau Claire Federal Building\, 505 S. Barstow St\, Eau Claire\, WI\, 54701\, United States
ATTACH;FMTTYPE=image/jpeg:https://chippewavalleyunited.com/wp-content/uploads/2025/03/DDR_Photo-scaled.jpg
ORGANIZER;CN="Chippewa Valley Indivisible":MAILTO:ojibwavalley@gmail.com
END:VEVENT
BEGIN:VEVENT
DTSTART;TZID=America/Chicago:20250325T171500
DTEND;TZID=America/Chicago:20250325T183000
DTSTAMP:20260424T074815
CREATED:20250318T004511Z
LAST-MODIFIED:20250318T010119Z
UID:10000007-1742922900-1742927400@chippewavalleyunited.com
SUMMARY:Chippewa Falls Meet & Greet Judge Crawford!
DESCRIPTION:Come meet Judge Susan Crawford\, the exceptionally qualified candidate running to join the State Supreme Court. \nThe Spring Election on April 1\, 2025 will determine the direction of the Wisconsin Supreme Court for years. We know turnout will be critical to winning this race! At this event you will hear from Judge Crawford and learn how to get involved in helping win this Spring. \nThe more the merrier – bring friends!
URL:https://chippewavalleyunited.com/event/chippewa-falls-meet-greet-judge-crawford/
LOCATION:TBD
CATEGORIES:Featured
ATTACH;FMTTYPE=image/avif:https://chippewavalleyunited.com/wp-content/uploads/2025/03/Chippewa-Falls-Graphic_20250306002747197594.png.avif
END:VEVENT
BEGIN:VEVENT
DTSTART;TZID=America/Chicago:20250326T150000
DTEND;TZID=America/Chicago:20250326T160000
DTSTAMP:20260424T074815
CREATED:20250311T222322Z
LAST-MODIFIED:20251111T235747Z
UID:10000528-1743001200-1743004800@chippewavalleyunited.com
SUMMARY:Defend Democracy Rally – Eau Claire Weekly
DESCRIPTION:Take action now to Defend Democracy! We come together as a community to stand against this authoritarianism\, and against unlawful and unconstitutional actions. Take a stand for protecting Social Security\, Medicaid\, federal agencies\, national parks\, due process\, the rule of law\, the environment\, and more. Defend our democracy for our families\, friends\, and neighbors. Get your signs ready and come let the community know this matters to you! \nGathering every week at 4pm by the Federal Building in Eau Claire. Meet up on the corner of Barstow and Lake Street\, 500 S. Barstow Street. Bring a friend! \nThere’s no such thing as bad weather\, just bad clothing choices! Dress for Rally Success! Let’s gather together and speak up for our children\, grandchildren\, and our community! \nSmall parking lot at South Farwell and Gray\, along with street parking downtown. \nSign Me Up!
URL:https://chippewavalleyunited.com/event/defend-democracy-protest/2025-03-26/
LOCATION:Eau Claire Federal Building\, 505 S. Barstow St\, Eau Claire\, WI\, 54701\, United States
ATTACH;FMTTYPE=image/jpeg:https://chippewavalleyunited.com/wp-content/uploads/2025/03/DDR_Photo-scaled.jpg
ORGANIZER;CN="Chippewa Valley Indivisible":MAILTO:ojibwavalley@gmail.com
END:VEVENT
BEGIN:VEVENT
DTSTART;TZID=America/Chicago:20250329T160000
DTEND;TZID=America/Chicago:20250329T183000
DTSTAMP:20260424T074815
CREATED:20250318T213726Z
LAST-MODIFIED:20250326T021937Z
UID:10000008-1743264000-1743273000@chippewavalleyunited.com
SUMMARY:Chippewa Valley Indivisible Weekly Meeting
DESCRIPTION:Come have some pizza while we discuss Actions for Crawford\, the upcoming April 5th Hands Off / Taking Back our Community and Country Rally\, target group actions\, and the mid-April People’s Town Hall with Rep. Frost and Sen. Murphy. \nJoin Us!
URL:https://chippewavalleyunited.com/event/chippewa-valley-indivisible-weekly-meeting-2/
LOCATION:Market on River\, 128 W. River St\, 2nd Floor\, Chippewa Falls\, WI\, 54729\, United States
CATEGORIES:Featured
ATTACH;FMTTYPE=image/jpeg:https://chippewavalleyunited.com/wp-content/uploads/2025/03/EvidentiaryMeeting.jpeg
ORGANIZER;CN="Chippewa Valley Indivisible":MAILTO:ojibwavalley@gmail.com
END:VEVENT
END:VCALENDAR