BEGIN:VCALENDAR
VERSION:2.0
PRODID:-//Chippewa Valley Indivisible - ECPv6.15.20//NONSGML v1.0//EN
CALSCALE:GREGORIAN
METHOD:PUBLISH
X-WR-CALNAME:Chippewa Valley Indivisible
X-ORIGINAL-URL:https://chippewavalleyunited.com
X-WR-CALDESC:Events for Chippewa Valley Indivisible
REFRESH-INTERVAL;VALUE=DURATION:PT1H
X-Robots-Tag:noindex
X-PUBLISHED-TTL:PT1H
BEGIN:VTIMEZONE
TZID:America/Chicago
BEGIN:DAYLIGHT
TZOFFSETFROM:-0600
TZOFFSETTO:-0500
TZNAME:CDT
DTSTART:20240310T080000
END:DAYLIGHT
BEGIN:STANDARD
TZOFFSETFROM:-0500
TZOFFSETTO:-0600
TZNAME:CST
DTSTART:20241103T070000
END:STANDARD
BEGIN:DAYLIGHT
TZOFFSETFROM:-0600
TZOFFSETTO:-0500
TZNAME:CDT
DTSTART:20250309T080000
END:DAYLIGHT
BEGIN:STANDARD
TZOFFSETFROM:-0500
TZOFFSETTO:-0600
TZNAME:CST
DTSTART:20251102T070000
END:STANDARD
BEGIN:DAYLIGHT
TZOFFSETFROM:-0600
TZOFFSETTO:-0500
TZNAME:CDT
DTSTART:20260308T080000
END:DAYLIGHT
BEGIN:STANDARD
TZOFFSETFROM:-0500
TZOFFSETTO:-0600
TZNAME:CST
DTSTART:20261101T070000
END:STANDARD
END:VTIMEZONE
BEGIN:VEVENT
DTSTART;TZID=America/Chicago:20250402T150000
DTEND;TZID=America/Chicago:20250402T160000
DTSTAMP:20260424T063020
CREATED:20250311T222322Z
LAST-MODIFIED:20251111T235747Z
UID:10000529-1743606000-1743609600@chippewavalleyunited.com
SUMMARY:Defend Democracy Rally – Eau Claire Weekly
DESCRIPTION:Take action now to Defend Democracy! We come together as a community to stand against this authoritarianism\, and against unlawful and unconstitutional actions. Take a stand for protecting Social Security\, Medicaid\, federal agencies\, national parks\, due process\, the rule of law\, the environment\, and more. Defend our democracy for our families\, friends\, and neighbors. Get your signs ready and come let the community know this matters to you! \nGathering every week at 4pm by the Federal Building in Eau Claire. Meet up on the corner of Barstow and Lake Street\, 500 S. Barstow Street. Bring a friend! \nThere’s no such thing as bad weather\, just bad clothing choices! Dress for Rally Success! Let’s gather together and speak up for our children\, grandchildren\, and our community! \nSmall parking lot at South Farwell and Gray\, along with street parking downtown. \nSign Me Up!
URL:https://chippewavalleyunited.com/event/defend-democracy-protest/2025-04-02/
LOCATION:Eau Claire Federal Building\, 505 S. Barstow St\, Eau Claire\, WI\, 54701\, United States
ATTACH;FMTTYPE=image/jpeg:https://chippewavalleyunited.com/wp-content/uploads/2025/03/DDR_Photo-scaled.jpg
ORGANIZER;CN="Chippewa Valley Indivisible":MAILTO:ojibwavalley@gmail.com
END:VEVENT
BEGIN:VEVENT
DTSTART;TZID=America/Chicago:20250403T160000
DTEND;TZID=America/Chicago:20250403T170000
DTSTAMP:20260424T063020
CREATED:20250329T010231Z
LAST-MODIFIED:20251101T173218Z
UID:10000011-1743696000-1743699600@chippewavalleyunited.com
SUMMARY:Defend Democracy Rally – Chippewa Falls Weekly
DESCRIPTION:Take action now to Defend Democracy! We come together as a community to stand against this authoritarianism\, and against unlawful and unconstitutional actions. Take a stand for protecting Social Security\, Medicaid\, federal agencies\, national parks\, due process\, the rule of law\, the environment\, and more. Defend our democracy for our families\, friends\, and neighbors. Get your signs ready and come let the community know this matters to you! \nGathering every week at 4pm on Peace Circle in Chippewa Falls (roundabout on the corner of Bridge Street and Highway 124 (River Street) in Chippewa Falls. \nThere’s no such thing as bad weather\, just bad clothing choices! Dress for Rally Success! Let’s gather together and speak up for our children\, grandchildren\, and our community! \nTwo public parking lots on Bridge and River. \nSign Me Up!
URL:https://chippewavalleyunited.com/event/defend-democracy-rally-cf/2025-04-03/
LOCATION:Peace Circle Chippewa Falls\, Roundabout Bridge and River\, Chippewa Falls\, WI\, 54729\, United States
CATEGORIES:Featured
ATTACH;FMTTYPE=image/jpeg:https://chippewavalleyunited.com/wp-content/uploads/2025/03/DDCF.jpg
ORGANIZER;CN="Chippewa Valley Indivisible":MAILTO:ojibwavalley@gmail.com
END:VEVENT
BEGIN:VEVENT
DTSTART;TZID=America/Chicago:20250405T120000
DTEND;TZID=America/Chicago:20250405T153000
DTSTAMP:20260424T063020
CREATED:20250318T231835Z
LAST-MODIFIED:20251104T113028Z
UID:10000009-1743854400-1743867000@chippewavalleyunited.com
SUMMARY:People's Protest / Hands Off – Eau Claire Rally
DESCRIPTION:We outgrew our location and will now be at Phoenix Park in the Farmer’s Market Pavillon (330 Riverfront Terrace\, Eau Claire). The Protest begins at noon! \nProtest will feature numerous speakers from a variety of communities and organizations. Individuals in the crowd will have an opportunity to be heard. All people and groups are welcome to this nonviolent but very vocal protest. Bring signs to express your concerns. \nDonald Trump and Elon Musk think this country belongs to them. \nThey’re taking everything they can get their hands on—our health care\, our data\, our jobs\, our services—and daring the world to stop them. This is a crisis\, and the time to act is now. \nOn Saturday\, April 5th\, we’re taking to the streets nationwide to fight back with a clear message: Hands Off! \nStand up and make your voices heard! \nSign Me Up!
URL:https://chippewavalleyunited.com/event/national-indivisible-hands-off-rally/
LOCATION:Phoenix Park\, 330 Riverfront Terrace\, Eau Claire\, 54703\, United States
ATTACH;FMTTYPE=image/jpeg:https://chippewavalleyunited.com/wp-content/uploads/2025/03/HandsOffPhxPark.jpg
ORGANIZER;CN="Chippewa Valley Indivisible":MAILTO:ojibwavalley@gmail.com
END:VEVENT
BEGIN:VEVENT
DTSTART;TZID=America/Chicago:20250405T160000
DTEND;TZID=America/Chicago:20250405T170000
DTSTAMP:20260424T063020
CREATED:20250329T005248Z
LAST-MODIFIED:20250329T021118Z
UID:10000010-1743868800-1743872400@chippewavalleyunited.com
SUMMARY:Hands Off! Chippewa Falls Fights Back
DESCRIPTION:Join Chippewa Valley Indivisible AND our other area Activist Partners like the Chippewa County Dems\, local faith-based groups and more to make our voices heard that we do not agree with this administration’s actions and policies. We want them to get their hands off our citizens and our community services! Meet at the Peace Circle (corner of Bridge and River by the roundabout) in Chippewa Falls at 4pm! \nDonald Trump and Elon Musk think this country belongs to them. \nThey’re taking everything they can get their hands on—our health care\, our data\, our jobs\, our services—and daring the world to stop them. This is a crisis\, and the time to act is now. \n🚨 On Saturday\, April 5th\, we’re taking to the streets nationwide to fight back with a clear message: Hands Off! 🚨 \nStand up and make your voices heard! \nSign Me Up!
URL:https://chippewavalleyunited.com/event/hands-off-chippewa-falls-fights-back/
LOCATION:Peace Circle Chippewa Falls\, Roundabout Bridge and River\, Chippewa Falls\, WI\, 54729\, United States
CATEGORIES:Featured
ATTACH;FMTTYPE=image/jpeg:https://chippewavalleyunited.com/wp-content/uploads/2025/03/HandsOffCF.jpeg
END:VEVENT
BEGIN:VEVENT
DTSTART;TZID=America/Chicago:20250409T150000
DTEND;TZID=America/Chicago:20250409T160000
DTSTAMP:20260424T063020
CREATED:20250311T222322Z
LAST-MODIFIED:20251111T235747Z
UID:10000530-1744210800-1744214400@chippewavalleyunited.com
SUMMARY:Defend Democracy Rally – Eau Claire Weekly
DESCRIPTION:Take action now to Defend Democracy! We come together as a community to stand against this authoritarianism\, and against unlawful and unconstitutional actions. Take a stand for protecting Social Security\, Medicaid\, federal agencies\, national parks\, due process\, the rule of law\, the environment\, and more. Defend our democracy for our families\, friends\, and neighbors. Get your signs ready and come let the community know this matters to you! \nGathering every week at 4pm by the Federal Building in Eau Claire. Meet up on the corner of Barstow and Lake Street\, 500 S. Barstow Street. Bring a friend! \nThere’s no such thing as bad weather\, just bad clothing choices! Dress for Rally Success! Let’s gather together and speak up for our children\, grandchildren\, and our community! \nSmall parking lot at South Farwell and Gray\, along with street parking downtown. \nSign Me Up!
URL:https://chippewavalleyunited.com/event/defend-democracy-protest/2025-04-09/
LOCATION:Eau Claire Federal Building\, 505 S. Barstow St\, Eau Claire\, WI\, 54701\, United States
ATTACH;FMTTYPE=image/jpeg:https://chippewavalleyunited.com/wp-content/uploads/2025/03/DDR_Photo-scaled.jpg
ORGANIZER;CN="Chippewa Valley Indivisible":MAILTO:ojibwavalley@gmail.com
END:VEVENT
BEGIN:VEVENT
DTSTART;TZID=America/Chicago:20250410T160000
DTEND;TZID=America/Chicago:20250410T170000
DTSTAMP:20260424T063020
CREATED:20250329T010231Z
LAST-MODIFIED:20251101T173218Z
UID:10000071-1744300800-1744304400@chippewavalleyunited.com
SUMMARY:Defend Democracy Rally – Chippewa Falls Weekly
DESCRIPTION:Take action now to Defend Democracy! We come together as a community to stand against this authoritarianism\, and against unlawful and unconstitutional actions. Take a stand for protecting Social Security\, Medicaid\, federal agencies\, national parks\, due process\, the rule of law\, the environment\, and more. Defend our democracy for our families\, friends\, and neighbors. Get your signs ready and come let the community know this matters to you! \nGathering every week at 4pm on Peace Circle in Chippewa Falls (roundabout on the corner of Bridge Street and Highway 124 (River Street) in Chippewa Falls. \nThere’s no such thing as bad weather\, just bad clothing choices! Dress for Rally Success! Let’s gather together and speak up for our children\, grandchildren\, and our community! \nTwo public parking lots on Bridge and River. \nSign Me Up!
URL:https://chippewavalleyunited.com/event/defend-democracy-rally-cf/2025-04-10/
LOCATION:Peace Circle Chippewa Falls\, Roundabout Bridge and River\, Chippewa Falls\, WI\, 54729\, United States
CATEGORIES:Featured
ATTACH;FMTTYPE=image/jpeg:https://chippewavalleyunited.com/wp-content/uploads/2025/03/DDCF.jpg
ORGANIZER;CN="Chippewa Valley Indivisible":MAILTO:ojibwavalley@gmail.com
END:VEVENT
BEGIN:VEVENT
DTSTART;TZID=America/Chicago:20250412T080000
DTEND;TZID=America/Chicago:20250412T170000
DTSTAMP:20260424T063020
CREATED:20250407T225353Z
LAST-MODIFIED:20250508T223624Z
UID:10000188-1744444800-1744477200@chippewavalleyunited.com
SUMMARY:Weekly Meeting
DESCRIPTION:
URL:https://chippewavalleyunited.com/event/weekly-meeting/2025-04-12/1/
LOCATION:Market on River\, 128 W. River St\, 2nd Floor\, Chippewa Falls\, WI\, 54729\, United States
CATEGORIES:Featured
ATTACH;FMTTYPE=image/avif:https://chippewavalleyunited.com/wp-content/uploads/2025/03/MarketOnRiver_20250305000730447478.jpg.avif
END:VEVENT
BEGIN:VEVENT
DTSTART;TZID=America/Chicago:20250412T160000
DTEND;TZID=America/Chicago:20250412T173000
DTSTAMP:20260424T063020
CREATED:20250407T225353Z
LAST-MODIFIED:20250508T223624Z
UID:10000127-1744473600-1744479000@chippewavalleyunited.com
SUMMARY:Weekly Meeting
DESCRIPTION:
URL:https://chippewavalleyunited.com/event/weekly-meeting/2025-04-12/2/
LOCATION:Market on River\, 128 W. River St\, 2nd Floor\, Chippewa Falls\, WI\, 54729\, United States
CATEGORIES:Featured
ATTACH;FMTTYPE=image/avif:https://chippewavalleyunited.com/wp-content/uploads/2025/03/MarketOnRiver_20250305000730447478.jpg.avif
END:VEVENT
BEGIN:VEVENT
DTSTART;TZID=America/Chicago:20250415T160000
DTEND;TZID=America/Chicago:20250415T170000
DTSTAMP:20260424T063020
CREATED:20250413T120916Z
LAST-MODIFIED:20250413T121003Z
UID:10000128-1744732800-1744736400@chippewavalleyunited.com
SUMMARY:Save Social Security Rally
DESCRIPTION:The alarm is being raised. The White House and OMB are calling for a second of RIFs (Reduction in Force) to the SSA which career civil servants are saying to break Social Security. April 15th is a call to action to raise awareness and stop this second round of cuts.
URL:https://chippewavalleyunited.com/event/save-social-security-rally/
LOCATION:Social Security Administration\, 4120 Oakwood Hills Pkwy\, Eau Claire\, WI\, 54701\, United States
CATEGORIES:Featured
ATTACH;FMTTYPE=image/jpeg:https://chippewavalleyunited.com/wp-content/uploads/2025/04/SocialSecurity.jpg
END:VEVENT
BEGIN:VEVENT
DTSTART;TZID=America/Chicago:20250416T150000
DTEND;TZID=America/Chicago:20250416T160000
DTSTAMP:20260424T063020
CREATED:20250311T222322Z
LAST-MODIFIED:20251111T235747Z
UID:10000531-1744815600-1744819200@chippewavalleyunited.com
SUMMARY:Defend Democracy Rally – Eau Claire Weekly
DESCRIPTION:Take action now to Defend Democracy! We come together as a community to stand against this authoritarianism\, and against unlawful and unconstitutional actions. Take a stand for protecting Social Security\, Medicaid\, federal agencies\, national parks\, due process\, the rule of law\, the environment\, and more. Defend our democracy for our families\, friends\, and neighbors. Get your signs ready and come let the community know this matters to you! \nGathering every week at 4pm by the Federal Building in Eau Claire. Meet up on the corner of Barstow and Lake Street\, 500 S. Barstow Street. Bring a friend! \nThere’s no such thing as bad weather\, just bad clothing choices! Dress for Rally Success! Let’s gather together and speak up for our children\, grandchildren\, and our community! \nSmall parking lot at South Farwell and Gray\, along with street parking downtown. \nSign Me Up!
URL:https://chippewavalleyunited.com/event/defend-democracy-protest/2025-04-16/
LOCATION:Eau Claire Federal Building\, 505 S. Barstow St\, Eau Claire\, WI\, 54701\, United States
ATTACH;FMTTYPE=image/jpeg:https://chippewavalleyunited.com/wp-content/uploads/2025/03/DDR_Photo-scaled.jpg
ORGANIZER;CN="Chippewa Valley Indivisible":MAILTO:ojibwavalley@gmail.com
END:VEVENT
BEGIN:VEVENT
DTSTART;TZID=America/Chicago:20250417T160000
DTEND;TZID=America/Chicago:20250417T170000
DTSTAMP:20260424T063020
CREATED:20250329T010231Z
LAST-MODIFIED:20251101T173218Z
UID:10000072-1744905600-1744909200@chippewavalleyunited.com
SUMMARY:Defend Democracy Rally – Chippewa Falls Weekly
DESCRIPTION:Take action now to Defend Democracy! We come together as a community to stand against this authoritarianism\, and against unlawful and unconstitutional actions. Take a stand for protecting Social Security\, Medicaid\, federal agencies\, national parks\, due process\, the rule of law\, the environment\, and more. Defend our democracy for our families\, friends\, and neighbors. Get your signs ready and come let the community know this matters to you! \nGathering every week at 4pm on Peace Circle in Chippewa Falls (roundabout on the corner of Bridge Street and Highway 124 (River Street) in Chippewa Falls. \nThere’s no such thing as bad weather\, just bad clothing choices! Dress for Rally Success! Let’s gather together and speak up for our children\, grandchildren\, and our community! \nTwo public parking lots on Bridge and River. \nSign Me Up!
URL:https://chippewavalleyunited.com/event/defend-democracy-rally-cf/2025-04-17/
LOCATION:Peace Circle Chippewa Falls\, Roundabout Bridge and River\, Chippewa Falls\, WI\, 54729\, United States
CATEGORIES:Featured
ATTACH;FMTTYPE=image/jpeg:https://chippewavalleyunited.com/wp-content/uploads/2025/03/DDCF.jpg
ORGANIZER;CN="Chippewa Valley Indivisible":MAILTO:ojibwavalley@gmail.com
END:VEVENT
BEGIN:VEVENT
DTSTART;TZID=America/Chicago:20250418T170000
DTEND;TZID=America/Chicago:20250418T180000
DTSTAMP:20260424T063020
CREATED:20250417T003227Z
LAST-MODIFIED:20250417T003227Z
UID:10000129-1744995600-1744999200@chippewavalleyunited.com
SUMMARY:Egg&Dye Giveaway Chippewa Falls
DESCRIPTION:
URL:https://chippewavalleyunited.com/event/eggdye-giveaway-chippewa-falls/
LOCATION:Post Office\, 315 North Bridge Street\, Chippewa Falls\, WI\, 54729\, United States
CATEGORIES:Featured
ATTACH;FMTTYPE=image/jpeg:https://chippewavalleyunited.com/wp-content/uploads/2025/04/EggDyeEvent-scaled.jpg
END:VEVENT
BEGIN:VEVENT
DTSTART;TZID=America/Chicago:20250418T170000
DTEND;TZID=America/Chicago:20250418T183000
DTSTAMP:20260424T063020
CREATED:20250417T003336Z
LAST-MODIFIED:20250417T003336Z
UID:10000130-1744995600-1745001000@chippewavalleyunited.com
SUMMARY:Egg&Dye Giveaway Eau Claire
DESCRIPTION:
URL:https://chippewavalleyunited.com/event/eggdye-giveaway-eau-claire/
LOCATION:Eau Claire Federal Building\, 505 S. Barstow St\, Eau Claire\, WI\, 54701\, United States
CATEGORIES:Featured
ATTACH;FMTTYPE=image/jpeg:https://chippewavalleyunited.com/wp-content/uploads/2025/04/EggDyeEvent-scaled.jpg
END:VEVENT
BEGIN:VEVENT
DTSTART;TZID=America/Chicago:20250419T160000
DTEND;TZID=America/Chicago:20250419T173000
DTSTAMP:20260424T063020
CREATED:20250407T225353Z
LAST-MODIFIED:20250508T223624Z
UID:10000131-1745078400-1745083800@chippewavalleyunited.com
SUMMARY:Weekly Meeting
DESCRIPTION:
URL:https://chippewavalleyunited.com/event/weekly-meeting/2025-04-19/
LOCATION:Market on River\, 128 W. River St\, 2nd Floor\, Chippewa Falls\, WI\, 54729\, United States
CATEGORIES:Featured
ATTACH;FMTTYPE=image/avif:https://chippewavalleyunited.com/wp-content/uploads/2025/03/MarketOnRiver_20250305000730447478.jpg.avif
END:VEVENT
BEGIN:VEVENT
DTSTART;TZID=America/Chicago:20250423T150000
DTEND;TZID=America/Chicago:20250423T160000
DTSTAMP:20260424T063020
CREATED:20250311T222322Z
LAST-MODIFIED:20251111T235747Z
UID:10000532-1745420400-1745424000@chippewavalleyunited.com
SUMMARY:Defend Democracy Rally – Eau Claire Weekly
DESCRIPTION:Take action now to Defend Democracy! We come together as a community to stand against this authoritarianism\, and against unlawful and unconstitutional actions. Take a stand for protecting Social Security\, Medicaid\, federal agencies\, national parks\, due process\, the rule of law\, the environment\, and more. Defend our democracy for our families\, friends\, and neighbors. Get your signs ready and come let the community know this matters to you! \nGathering every week at 4pm by the Federal Building in Eau Claire. Meet up on the corner of Barstow and Lake Street\, 500 S. Barstow Street. Bring a friend! \nThere’s no such thing as bad weather\, just bad clothing choices! Dress for Rally Success! Let’s gather together and speak up for our children\, grandchildren\, and our community! \nSmall parking lot at South Farwell and Gray\, along with street parking downtown. \nSign Me Up!
URL:https://chippewavalleyunited.com/event/defend-democracy-protest/2025-04-23/
LOCATION:Eau Claire Federal Building\, 505 S. Barstow St\, Eau Claire\, WI\, 54701\, United States
ATTACH;FMTTYPE=image/jpeg:https://chippewavalleyunited.com/wp-content/uploads/2025/03/DDR_Photo-scaled.jpg
ORGANIZER;CN="Chippewa Valley Indivisible":MAILTO:ojibwavalley@gmail.com
END:VEVENT
BEGIN:VEVENT
DTSTART;TZID=America/Chicago:20250424T160000
DTEND;TZID=America/Chicago:20250424T170000
DTSTAMP:20260424T063020
CREATED:20250329T010231Z
LAST-MODIFIED:20251101T173218Z
UID:10000073-1745510400-1745514000@chippewavalleyunited.com
SUMMARY:Defend Democracy Rally – Chippewa Falls Weekly
DESCRIPTION:Take action now to Defend Democracy! We come together as a community to stand against this authoritarianism\, and against unlawful and unconstitutional actions. Take a stand for protecting Social Security\, Medicaid\, federal agencies\, national parks\, due process\, the rule of law\, the environment\, and more. Defend our democracy for our families\, friends\, and neighbors. Get your signs ready and come let the community know this matters to you! \nGathering every week at 4pm on Peace Circle in Chippewa Falls (roundabout on the corner of Bridge Street and Highway 124 (River Street) in Chippewa Falls. \nThere’s no such thing as bad weather\, just bad clothing choices! Dress for Rally Success! Let’s gather together and speak up for our children\, grandchildren\, and our community! \nTwo public parking lots on Bridge and River. \nSign Me Up!
URL:https://chippewavalleyunited.com/event/defend-democracy-rally-cf/2025-04-24/
LOCATION:Peace Circle Chippewa Falls\, Roundabout Bridge and River\, Chippewa Falls\, WI\, 54729\, United States
CATEGORIES:Featured
ATTACH;FMTTYPE=image/jpeg:https://chippewavalleyunited.com/wp-content/uploads/2025/03/DDCF.jpg
ORGANIZER;CN="Chippewa Valley Indivisible":MAILTO:ojibwavalley@gmail.com
END:VEVENT
BEGIN:VEVENT
DTSTART;TZID=America/Chicago:20250426T160000
DTEND;TZID=America/Chicago:20250426T173000
DTSTAMP:20260424T063020
CREATED:20250407T225353Z
LAST-MODIFIED:20250508T223624Z
UID:10000132-1745683200-1745688600@chippewavalleyunited.com
SUMMARY:Weekly Meeting
DESCRIPTION:
URL:https://chippewavalleyunited.com/event/weekly-meeting/2025-04-26/
LOCATION:Market on River\, 128 W. River St\, 2nd Floor\, Chippewa Falls\, WI\, 54729\, United States
CATEGORIES:Featured
ATTACH;FMTTYPE=image/avif:https://chippewavalleyunited.com/wp-content/uploads/2025/03/MarketOnRiver_20250305000730447478.jpg.avif
END:VEVENT
BEGIN:VEVENT
DTSTART;TZID=America/Chicago:20250428T080000
DTEND;TZID=America/Chicago:20250428T170000
DTSTAMP:20260424T063020
CREATED:20250508T224651Z
LAST-MODIFIED:20250508T224744Z
UID:10000334-1745827200-1745859600@chippewavalleyunited.com
SUMMARY:Stand in Defense of Free Speech
DESCRIPTION:Opportunity for the community to stand in Support of a Resolution promoting free expression\, inclusive dialogue\, and clear communication which was authored by six Student Senators at UWEC. \nIMPORTANT NOTE: Severe weather is forecast for Monday afternoon and evening. If the weather is too severe\, the Senate Session will be cancelled and Resolution moved to the next meeting. Please be aware and check on weather conditions.
URL:https://chippewavalleyunited.com/event/stand-in-defense-of-free-speech/2025-04-28/1/
CATEGORIES:Featured
ATTACH;FMTTYPE=image/jpeg:https://chippewavalleyunited.com/wp-content/uploads/2025/04/UWEC_FreeSpeech_Resolution-Header.jpg
END:VEVENT
BEGIN:VEVENT
DTSTART;TZID=America/Chicago:20250428T180000
DTEND;TZID=America/Chicago:20250428T193000
DTSTAMP:20260424T063020
CREATED:20250508T224651Z
LAST-MODIFIED:20250508T224744Z
UID:10000246-1745863200-1745868600@chippewavalleyunited.com
SUMMARY:Stand in Defense of Free Speech
DESCRIPTION:Opportunity for the community to stand in Support of a Resolution promoting free expression\, inclusive dialogue\, and clear communication which was authored by six Student Senators at UWEC. \nIMPORTANT NOTE: Severe weather is forecast for Monday afternoon and evening. If the weather is too severe\, the Senate Session will be cancelled and Resolution moved to the next meeting. Please be aware and check on weather conditions.
URL:https://chippewavalleyunited.com/event/stand-in-defense-of-free-speech/2025-04-28/2/
CATEGORIES:Featured
ATTACH;FMTTYPE=image/jpeg:https://chippewavalleyunited.com/wp-content/uploads/2025/04/UWEC_FreeSpeech_Resolution-Header.jpg
END:VEVENT
BEGIN:VEVENT
DTSTART;TZID=America/Chicago:20250430T150000
DTEND;TZID=America/Chicago:20250430T160000
DTSTAMP:20260424T063020
CREATED:20250311T222322Z
LAST-MODIFIED:20251111T235747Z
UID:10000533-1746025200-1746028800@chippewavalleyunited.com
SUMMARY:Defend Democracy Rally – Eau Claire Weekly
DESCRIPTION:Take action now to Defend Democracy! We come together as a community to stand against this authoritarianism\, and against unlawful and unconstitutional actions. Take a stand for protecting Social Security\, Medicaid\, federal agencies\, national parks\, due process\, the rule of law\, the environment\, and more. Defend our democracy for our families\, friends\, and neighbors. Get your signs ready and come let the community know this matters to you! \nGathering every week at 4pm by the Federal Building in Eau Claire. Meet up on the corner of Barstow and Lake Street\, 500 S. Barstow Street. Bring a friend! \nThere’s no such thing as bad weather\, just bad clothing choices! Dress for Rally Success! Let’s gather together and speak up for our children\, grandchildren\, and our community! \nSmall parking lot at South Farwell and Gray\, along with street parking downtown. \nSign Me Up!
URL:https://chippewavalleyunited.com/event/defend-democracy-protest/2025-04-30/
LOCATION:Eau Claire Federal Building\, 505 S. Barstow St\, Eau Claire\, WI\, 54701\, United States
ATTACH;FMTTYPE=image/jpeg:https://chippewavalleyunited.com/wp-content/uploads/2025/03/DDR_Photo-scaled.jpg
ORGANIZER;CN="Chippewa Valley Indivisible":MAILTO:ojibwavalley@gmail.com
END:VEVENT
END:VCALENDAR