BEGIN:VCALENDAR
VERSION:2.0
PRODID:-//Chippewa Valley Indivisible - ECPv6.15.20//NONSGML v1.0//EN
CALSCALE:GREGORIAN
METHOD:PUBLISH
X-WR-CALNAME:Chippewa Valley Indivisible
X-ORIGINAL-URL:https://chippewavalleyunited.com
X-WR-CALDESC:Events for Chippewa Valley Indivisible
REFRESH-INTERVAL;VALUE=DURATION:PT1H
X-Robots-Tag:noindex
X-PUBLISHED-TTL:PT1H
BEGIN:VTIMEZONE
TZID:America/Chicago
BEGIN:DAYLIGHT
TZOFFSETFROM:-0600
TZOFFSETTO:-0500
TZNAME:CDT
DTSTART:20240310T080000
END:DAYLIGHT
BEGIN:STANDARD
TZOFFSETFROM:-0500
TZOFFSETTO:-0600
TZNAME:CST
DTSTART:20241103T070000
END:STANDARD
BEGIN:DAYLIGHT
TZOFFSETFROM:-0600
TZOFFSETTO:-0500
TZNAME:CDT
DTSTART:20250309T080000
END:DAYLIGHT
BEGIN:STANDARD
TZOFFSETFROM:-0500
TZOFFSETTO:-0600
TZNAME:CST
DTSTART:20251102T070000
END:STANDARD
BEGIN:DAYLIGHT
TZOFFSETFROM:-0600
TZOFFSETTO:-0500
TZNAME:CDT
DTSTART:20260308T080000
END:DAYLIGHT
BEGIN:STANDARD
TZOFFSETFROM:-0500
TZOFFSETTO:-0600
TZNAME:CST
DTSTART:20261101T070000
END:STANDARD
END:VTIMEZONE
BEGIN:VEVENT
DTSTART;TZID=America/Chicago:20250501T160000
DTEND;TZID=America/Chicago:20250501T170000
DTSTAMP:20260424T050514
CREATED:20250329T010231Z
LAST-MODIFIED:20251101T173218Z
UID:10000074-1746115200-1746118800@chippewavalleyunited.com
SUMMARY:Defend Democracy Rally – Chippewa Falls Weekly
DESCRIPTION:Take action now to Defend Democracy! We come together as a community to stand against this authoritarianism\, and against unlawful and unconstitutional actions. Take a stand for protecting Social Security\, Medicaid\, federal agencies\, national parks\, due process\, the rule of law\, the environment\, and more. Defend our democracy for our families\, friends\, and neighbors. Get your signs ready and come let the community know this matters to you! \nGathering every week at 4pm on Peace Circle in Chippewa Falls (roundabout on the corner of Bridge Street and Highway 124 (River Street) in Chippewa Falls. \nThere’s no such thing as bad weather\, just bad clothing choices! Dress for Rally Success! Let’s gather together and speak up for our children\, grandchildren\, and our community! \nTwo public parking lots on Bridge and River. \nSign Me Up!
URL:https://chippewavalleyunited.com/event/defend-democracy-rally-cf/2025-05-01/
LOCATION:Peace Circle Chippewa Falls\, Roundabout Bridge and River\, Chippewa Falls\, WI\, 54729\, United States
CATEGORIES:Featured
ATTACH;FMTTYPE=image/jpeg:https://chippewavalleyunited.com/wp-content/uploads/2025/03/DDCF.jpg
ORGANIZER;CN="Chippewa Valley Indivisible":MAILTO:ojibwavalley@gmail.com
END:VEVENT
BEGIN:VEVENT
DTSTART;TZID=America/Chicago:20250501T160000
DTEND;TZID=America/Chicago:20250501T170000
DTSTAMP:20260424T050514
CREATED:20250428T120856Z
LAST-MODIFIED:20250428T120856Z
UID:10000187-1746115200-1746118800@chippewavalleyunited.com
SUMMARY:May Day Strong – Eau Claire and Chippewa Falls
DESCRIPTION:Across the country—from fruit fields in California to classrooms in Chicago\, from kitchens in Queens to loading docks in Atlanta—working people are rising up. We are demanding a country that puts our families over their fortunes—public schools over private profits\, healthcare over hedge funds\, housing over homelessness. \nMusk\, Trump and their fellow profiteers are trying to create a race to the bottom—on wages\, on benefits\, on dignity itself. They want to erase labor rights\, break our unions\, and silence immigrant voices. \nMay Day 2025 we are standing united. We’re organizing for a world where every family has housing\, healthcare\, fair wages\, union protection\, and safety—regardless of race\, zip code\, or immigration status. \nThey’re defunding our schools\, privatizing public services\, attacking unions\, and targeting immigrant families with fear and violence. This is a war on working people—and we will not stand down. Using the principles of nonviolence and peaceful protest\, we will stand together and stand strong. \nThis May Day\, we will turn the page. This is the beginning of a new era—one where working families lead\, immigrants are protected\, and no one is left behind. This is not charity. This is not a request. We are reclaiming our power from corporate elites\, and we will not be intimidated by Trump\, Musk\, or their billionaire backers. They’ve ruled for too long. Their time is up. \nSTOP THE BILLIONAIRE TAKEOVER. WE ARE THE MANY. THEY ARE THE FEW. THIS IS MAY DAY. JOIN US
URL:https://chippewavalleyunited.com/event/may-day-strong-eau-claire-and-chippewa-falls/
LOCATION:Peace Circle Chippewa Falls\, Roundabout Bridge and River\, Chippewa Falls\, WI\, 54729\, United States
CATEGORIES:Featured
ATTACH;FMTTYPE=image/jpeg:https://chippewavalleyunited.com/wp-content/uploads/2025/04/MayDayStrongCFEC.jpg
END:VEVENT
BEGIN:VEVENT
DTSTART;TZID=America/Chicago:20250503T160000
DTEND;TZID=America/Chicago:20250503T173000
DTSTAMP:20260424T050514
CREATED:20250407T225353Z
LAST-MODIFIED:20250508T223624Z
UID:10000133-1746288000-1746293400@chippewavalleyunited.com
SUMMARY:Weekly Meeting
DESCRIPTION:
URL:https://chippewavalleyunited.com/event/weekly-meeting/2025-05-03/
LOCATION:Market on River\, 128 W. River St\, 2nd Floor\, Chippewa Falls\, WI\, 54729\, United States
CATEGORIES:Featured
ATTACH;FMTTYPE=image/avif:https://chippewavalleyunited.com/wp-content/uploads/2025/03/MarketOnRiver_20250305000730447478.jpg.avif
END:VEVENT
BEGIN:VEVENT
DTSTART;TZID=America/Chicago:20250503T160000
DTEND;TZID=America/Chicago:20250503T173000
DTSTAMP:20260424T050514
CREATED:20250508T223812Z
LAST-MODIFIED:20250508T223813Z
UID:10000134-1746288000-1746293400@chippewavalleyunited.com
SUMMARY:Weekly Meeting
DESCRIPTION:
URL:https://chippewavalleyunited.com/event/weekly-meeting-2/
LOCATION:Market on River\, 128 W. River St\, 2nd Floor\, Chippewa Falls\, WI\, 54729\, United States
CATEGORIES:Featured
ATTACH;FMTTYPE=image/avif:https://chippewavalleyunited.com/wp-content/uploads/2025/03/MarketOnRiver_20250305000730447478.jpg.avif
END:VEVENT
BEGIN:VEVENT
DTSTART;TZID=America/Chicago:20250505T180000
DTEND;TZID=America/Chicago:20250505T193000
DTSTAMP:20260424T050514
CREATED:20250508T224651Z
LAST-MODIFIED:20250508T224744Z
UID:10000335-1746468000-1746473400@chippewavalleyunited.com
SUMMARY:Stand in Defense of Free Speech
DESCRIPTION:Opportunity for the community to stand in Support of a Resolution promoting free expression\, inclusive dialogue\, and clear communication which was authored by six Student Senators at UWEC. \nIMPORTANT NOTE: Severe weather is forecast for Monday afternoon and evening. If the weather is too severe\, the Senate Session will be cancelled and Resolution moved to the next meeting. Please be aware and check on weather conditions.
URL:https://chippewavalleyunited.com/event/stand-in-defense-of-free-speech/2025-05-05/
CATEGORIES:Featured
ATTACH;FMTTYPE=image/jpeg:https://chippewavalleyunited.com/wp-content/uploads/2025/04/UWEC_FreeSpeech_Resolution-Header.jpg
END:VEVENT
BEGIN:VEVENT
DTSTART;TZID=America/Chicago:20250507T150000
DTEND;TZID=America/Chicago:20250507T160000
DTSTAMP:20260424T050514
CREATED:20250311T222322Z
LAST-MODIFIED:20251111T235747Z
UID:10000534-1746630000-1746633600@chippewavalleyunited.com
SUMMARY:Defend Democracy Rally – Eau Claire Weekly
DESCRIPTION:Take action now to Defend Democracy! We come together as a community to stand against this authoritarianism\, and against unlawful and unconstitutional actions. Take a stand for protecting Social Security\, Medicaid\, federal agencies\, national parks\, due process\, the rule of law\, the environment\, and more. Defend our democracy for our families\, friends\, and neighbors. Get your signs ready and come let the community know this matters to you! \nGathering every week at 4pm by the Federal Building in Eau Claire. Meet up on the corner of Barstow and Lake Street\, 500 S. Barstow Street. Bring a friend! \nThere’s no such thing as bad weather\, just bad clothing choices! Dress for Rally Success! Let’s gather together and speak up for our children\, grandchildren\, and our community! \nSmall parking lot at South Farwell and Gray\, along with street parking downtown. \nSign Me Up!
URL:https://chippewavalleyunited.com/event/defend-democracy-protest/2025-05-07/
LOCATION:Eau Claire Federal Building\, 505 S. Barstow St\, Eau Claire\, WI\, 54701\, United States
ATTACH;FMTTYPE=image/jpeg:https://chippewavalleyunited.com/wp-content/uploads/2025/03/DDR_Photo-scaled.jpg
ORGANIZER;CN="Chippewa Valley Indivisible":MAILTO:ojibwavalley@gmail.com
END:VEVENT
BEGIN:VEVENT
DTSTART;TZID=America/Chicago:20250508T160000
DTEND;TZID=America/Chicago:20250508T170000
DTSTAMP:20260424T050514
CREATED:20250329T010231Z
LAST-MODIFIED:20251101T173218Z
UID:10000075-1746720000-1746723600@chippewavalleyunited.com
SUMMARY:Defend Democracy Rally – Chippewa Falls Weekly
DESCRIPTION:Take action now to Defend Democracy! We come together as a community to stand against this authoritarianism\, and against unlawful and unconstitutional actions. Take a stand for protecting Social Security\, Medicaid\, federal agencies\, national parks\, due process\, the rule of law\, the environment\, and more. Defend our democracy for our families\, friends\, and neighbors. Get your signs ready and come let the community know this matters to you! \nGathering every week at 4pm on Peace Circle in Chippewa Falls (roundabout on the corner of Bridge Street and Highway 124 (River Street) in Chippewa Falls. \nThere’s no such thing as bad weather\, just bad clothing choices! Dress for Rally Success! Let’s gather together and speak up for our children\, grandchildren\, and our community! \nTwo public parking lots on Bridge and River. \nSign Me Up!
URL:https://chippewavalleyunited.com/event/defend-democracy-rally-cf/2025-05-08/
LOCATION:Peace Circle Chippewa Falls\, Roundabout Bridge and River\, Chippewa Falls\, WI\, 54729\, United States
CATEGORIES:Featured
ATTACH;FMTTYPE=image/jpeg:https://chippewavalleyunited.com/wp-content/uploads/2025/03/DDCF.jpg
ORGANIZER;CN="Chippewa Valley Indivisible":MAILTO:ojibwavalley@gmail.com
END:VEVENT
BEGIN:VEVENT
DTSTART;TZID=America/Chicago:20250512T180000
DTEND;TZID=America/Chicago:20250512T193000
DTSTAMP:20260424T050514
CREATED:20250508T224651Z
LAST-MODIFIED:20250508T224744Z
UID:10000336-1747072800-1747078200@chippewavalleyunited.com
SUMMARY:Stand in Defense of Free Speech
DESCRIPTION:Opportunity for the community to stand in Support of a Resolution promoting free expression\, inclusive dialogue\, and clear communication which was authored by six Student Senators at UWEC. \nIMPORTANT NOTE: Severe weather is forecast for Monday afternoon and evening. If the weather is too severe\, the Senate Session will be cancelled and Resolution moved to the next meeting. Please be aware and check on weather conditions.
URL:https://chippewavalleyunited.com/event/stand-in-defense-of-free-speech/2025-05-12/
CATEGORIES:Featured
ATTACH;FMTTYPE=image/jpeg:https://chippewavalleyunited.com/wp-content/uploads/2025/04/UWEC_FreeSpeech_Resolution-Header.jpg
END:VEVENT
BEGIN:VEVENT
DTSTART;TZID=America/Chicago:20250513T180000
DTEND;TZID=America/Chicago:20250513T193000
DTSTAMP:20260424T050514
CREATED:20250508T223959Z
LAST-MODIFIED:20250508T224140Z
UID:10000189-1747159200-1747164600@chippewavalleyunited.com
SUMMARY:Weekly Meeting (Special)
DESCRIPTION:In order to be able to rally in Eau Claire for Justice Dugan\, meeting time shifted to Tuesday for this week only!
URL:https://chippewavalleyunited.com/event/weekly-meeting-special/
CATEGORIES:Featured
ATTACH;FMTTYPE=image/avif:https://chippewavalleyunited.com/wp-content/uploads/2025/03/MarketOnRiver_20250305000730447478.jpg.avif
END:VEVENT
BEGIN:VEVENT
DTSTART;TZID=America/Chicago:20250514T150000
DTEND;TZID=America/Chicago:20250514T160000
DTSTAMP:20260424T050514
CREATED:20250311T222322Z
LAST-MODIFIED:20251111T235747Z
UID:10000535-1747234800-1747238400@chippewavalleyunited.com
SUMMARY:Defend Democracy Rally – Eau Claire Weekly
DESCRIPTION:Take action now to Defend Democracy! We come together as a community to stand against this authoritarianism\, and against unlawful and unconstitutional actions. Take a stand for protecting Social Security\, Medicaid\, federal agencies\, national parks\, due process\, the rule of law\, the environment\, and more. Defend our democracy for our families\, friends\, and neighbors. Get your signs ready and come let the community know this matters to you! \nGathering every week at 4pm by the Federal Building in Eau Claire. Meet up on the corner of Barstow and Lake Street\, 500 S. Barstow Street. Bring a friend! \nThere’s no such thing as bad weather\, just bad clothing choices! Dress for Rally Success! Let’s gather together and speak up for our children\, grandchildren\, and our community! \nSmall parking lot at South Farwell and Gray\, along with street parking downtown. \nSign Me Up!
URL:https://chippewavalleyunited.com/event/defend-democracy-protest/2025-05-14/
LOCATION:Eau Claire Federal Building\, 505 S. Barstow St\, Eau Claire\, WI\, 54701\, United States
ATTACH;FMTTYPE=image/jpeg:https://chippewavalleyunited.com/wp-content/uploads/2025/03/DDR_Photo-scaled.jpg
ORGANIZER;CN="Chippewa Valley Indivisible":MAILTO:ojibwavalley@gmail.com
END:VEVENT
BEGIN:VEVENT
DTSTART;TZID=America/Chicago:20250515T160000
DTEND;TZID=America/Chicago:20250515T170000
DTSTAMP:20260424T050514
CREATED:20250329T010231Z
LAST-MODIFIED:20251101T173218Z
UID:10000076-1747324800-1747328400@chippewavalleyunited.com
SUMMARY:Defend Democracy Rally – Chippewa Falls Weekly
DESCRIPTION:Take action now to Defend Democracy! We come together as a community to stand against this authoritarianism\, and against unlawful and unconstitutional actions. Take a stand for protecting Social Security\, Medicaid\, federal agencies\, national parks\, due process\, the rule of law\, the environment\, and more. Defend our democracy for our families\, friends\, and neighbors. Get your signs ready and come let the community know this matters to you! \nGathering every week at 4pm on Peace Circle in Chippewa Falls (roundabout on the corner of Bridge Street and Highway 124 (River Street) in Chippewa Falls. \nThere’s no such thing as bad weather\, just bad clothing choices! Dress for Rally Success! Let’s gather together and speak up for our children\, grandchildren\, and our community! \nTwo public parking lots on Bridge and River. \nSign Me Up!
URL:https://chippewavalleyunited.com/event/defend-democracy-rally-cf/2025-05-15/
LOCATION:Peace Circle Chippewa Falls\, Roundabout Bridge and River\, Chippewa Falls\, WI\, 54729\, United States
CATEGORIES:Featured
ATTACH;FMTTYPE=image/jpeg:https://chippewavalleyunited.com/wp-content/uploads/2025/03/DDCF.jpg
ORGANIZER;CN="Chippewa Valley Indivisible":MAILTO:ojibwavalley@gmail.com
END:VEVENT
BEGIN:VEVENT
DTSTART;TZID=America/Chicago:20250515T160000
DTEND;TZID=America/Chicago:20250515T173000
DTSTAMP:20260424T050514
CREATED:20250514T021029Z
LAST-MODIFIED:20250514T021029Z
UID:10000351-1747324800-1747330200@chippewavalleyunited.com
SUMMARY:Justice for Justice Dugan
DESCRIPTION:Rally for Justice Hannah Dugan. The Justice for Justice Rally is a show of support for Justice Dugan since there will be a judicial hearing on Thursday\, May 15 regarding her arrest by the DOJ on April 25 because of the Eduardo Flores-Ruiz hearing on the 18th. \nJustice is one of the four pillars of democracy! It is critical that we protect and defend justice … especially with the attack coming right here in the state of Wisconsin!
URL:https://chippewavalleyunited.com/event/justice-for-justice-dugan/
LOCATION:Eau Claire County Courthouse\, 721 Oxford\, WI\, 54703\, United States
CATEGORIES:Featured
ATTACH;FMTTYPE=image/jpeg:https://chippewavalleyunited.com/wp-content/uploads/2025/05/JusticeForJustice.jpg
END:VEVENT
BEGIN:VEVENT
DTSTART;TZID=America/Chicago:20250521T150000
DTEND;TZID=America/Chicago:20250521T160000
DTSTAMP:20260424T050514
CREATED:20250311T222322Z
LAST-MODIFIED:20251111T235747Z
UID:10000536-1747839600-1747843200@chippewavalleyunited.com
SUMMARY:Defend Democracy Rally – Eau Claire Weekly
DESCRIPTION:Take action now to Defend Democracy! We come together as a community to stand against this authoritarianism\, and against unlawful and unconstitutional actions. Take a stand for protecting Social Security\, Medicaid\, federal agencies\, national parks\, due process\, the rule of law\, the environment\, and more. Defend our democracy for our families\, friends\, and neighbors. Get your signs ready and come let the community know this matters to you! \nGathering every week at 4pm by the Federal Building in Eau Claire. Meet up on the corner of Barstow and Lake Street\, 500 S. Barstow Street. Bring a friend! \nThere’s no such thing as bad weather\, just bad clothing choices! Dress for Rally Success! Let’s gather together and speak up for our children\, grandchildren\, and our community! \nSmall parking lot at South Farwell and Gray\, along with street parking downtown. \nSign Me Up!
URL:https://chippewavalleyunited.com/event/defend-democracy-protest/2025-05-21/
LOCATION:Eau Claire Federal Building\, 505 S. Barstow St\, Eau Claire\, WI\, 54701\, United States
ATTACH;FMTTYPE=image/jpeg:https://chippewavalleyunited.com/wp-content/uploads/2025/03/DDR_Photo-scaled.jpg
ORGANIZER;CN="Chippewa Valley Indivisible":MAILTO:ojibwavalley@gmail.com
END:VEVENT
BEGIN:VEVENT
DTSTART;TZID=America/Chicago:20250522T160000
DTEND;TZID=America/Chicago:20250522T170000
DTSTAMP:20260424T050514
CREATED:20250329T010231Z
LAST-MODIFIED:20251101T173218Z
UID:10000077-1747929600-1747933200@chippewavalleyunited.com
SUMMARY:Defend Democracy Rally – Chippewa Falls Weekly
DESCRIPTION:Take action now to Defend Democracy! We come together as a community to stand against this authoritarianism\, and against unlawful and unconstitutional actions. Take a stand for protecting Social Security\, Medicaid\, federal agencies\, national parks\, due process\, the rule of law\, the environment\, and more. Defend our democracy for our families\, friends\, and neighbors. Get your signs ready and come let the community know this matters to you! \nGathering every week at 4pm on Peace Circle in Chippewa Falls (roundabout on the corner of Bridge Street and Highway 124 (River Street) in Chippewa Falls. \nThere’s no such thing as bad weather\, just bad clothing choices! Dress for Rally Success! Let’s gather together and speak up for our children\, grandchildren\, and our community! \nTwo public parking lots on Bridge and River. \nSign Me Up!
URL:https://chippewavalleyunited.com/event/defend-democracy-rally-cf/2025-05-22/
LOCATION:Peace Circle Chippewa Falls\, Roundabout Bridge and River\, Chippewa Falls\, WI\, 54729\, United States
CATEGORIES:Featured
ATTACH;FMTTYPE=image/jpeg:https://chippewavalleyunited.com/wp-content/uploads/2025/03/DDCF.jpg
ORGANIZER;CN="Chippewa Valley Indivisible":MAILTO:ojibwavalley@gmail.com
END:VEVENT
BEGIN:VEVENT
DTSTART;TZID=America/Chicago:20250522T173000
DTEND;TZID=America/Chicago:20250522T190000
DTSTAMP:20260424T050514
CREATED:20250508T225228Z
LAST-MODIFIED:20250616T212733Z
UID:10000345-1747935000-1747940400@chippewavalleyunited.com
SUMMARY:Weekly Meeting
DESCRIPTION:
URL:https://chippewavalleyunited.com/event/weekly-meeting-3/2025-05-22/
ATTACH;FMTTYPE=image/avif:https://chippewavalleyunited.com/wp-content/uploads/2025/03/MarketOnRiver_20250305000730447478.jpg.avif
END:VEVENT
BEGIN:VEVENT
DTSTART;TZID=America/Chicago:20250528T150000
DTEND;TZID=America/Chicago:20250528T160000
DTSTAMP:20260424T050514
CREATED:20250311T222322Z
LAST-MODIFIED:20251111T235747Z
UID:10000537-1748444400-1748448000@chippewavalleyunited.com
SUMMARY:Defend Democracy Rally – Eau Claire Weekly
DESCRIPTION:Take action now to Defend Democracy! We come together as a community to stand against this authoritarianism\, and against unlawful and unconstitutional actions. Take a stand for protecting Social Security\, Medicaid\, federal agencies\, national parks\, due process\, the rule of law\, the environment\, and more. Defend our democracy for our families\, friends\, and neighbors. Get your signs ready and come let the community know this matters to you! \nGathering every week at 4pm by the Federal Building in Eau Claire. Meet up on the corner of Barstow and Lake Street\, 500 S. Barstow Street. Bring a friend! \nThere’s no such thing as bad weather\, just bad clothing choices! Dress for Rally Success! Let’s gather together and speak up for our children\, grandchildren\, and our community! \nSmall parking lot at South Farwell and Gray\, along with street parking downtown. \nSign Me Up!
URL:https://chippewavalleyunited.com/event/defend-democracy-protest/2025-05-28/
LOCATION:Eau Claire Federal Building\, 505 S. Barstow St\, Eau Claire\, WI\, 54701\, United States
ATTACH;FMTTYPE=image/jpeg:https://chippewavalleyunited.com/wp-content/uploads/2025/03/DDR_Photo-scaled.jpg
ORGANIZER;CN="Chippewa Valley Indivisible":MAILTO:ojibwavalley@gmail.com
END:VEVENT
BEGIN:VEVENT
DTSTART;TZID=America/Chicago:20250529T160000
DTEND;TZID=America/Chicago:20250529T170000
DTSTAMP:20260424T050514
CREATED:20250329T010231Z
LAST-MODIFIED:20251101T173218Z
UID:10000078-1748534400-1748538000@chippewavalleyunited.com
SUMMARY:Defend Democracy Rally – Chippewa Falls Weekly
DESCRIPTION:Take action now to Defend Democracy! We come together as a community to stand against this authoritarianism\, and against unlawful and unconstitutional actions. Take a stand for protecting Social Security\, Medicaid\, federal agencies\, national parks\, due process\, the rule of law\, the environment\, and more. Defend our democracy for our families\, friends\, and neighbors. Get your signs ready and come let the community know this matters to you! \nGathering every week at 4pm on Peace Circle in Chippewa Falls (roundabout on the corner of Bridge Street and Highway 124 (River Street) in Chippewa Falls. \nThere’s no such thing as bad weather\, just bad clothing choices! Dress for Rally Success! Let’s gather together and speak up for our children\, grandchildren\, and our community! \nTwo public parking lots on Bridge and River. \nSign Me Up!
URL:https://chippewavalleyunited.com/event/defend-democracy-rally-cf/2025-05-29/
LOCATION:Peace Circle Chippewa Falls\, Roundabout Bridge and River\, Chippewa Falls\, WI\, 54729\, United States
CATEGORIES:Featured
ATTACH;FMTTYPE=image/jpeg:https://chippewavalleyunited.com/wp-content/uploads/2025/03/DDCF.jpg
ORGANIZER;CN="Chippewa Valley Indivisible":MAILTO:ojibwavalley@gmail.com
END:VEVENT
BEGIN:VEVENT
DTSTART;TZID=America/Chicago:20250529T173000
DTEND;TZID=America/Chicago:20250529T190000
DTSTAMP:20260424T050514
CREATED:20250508T225228Z
LAST-MODIFIED:20250616T212733Z
UID:10000346-1748539800-1748545200@chippewavalleyunited.com
SUMMARY:Weekly Meeting
DESCRIPTION:
URL:https://chippewavalleyunited.com/event/weekly-meeting-3/2025-05-29/
ATTACH;FMTTYPE=image/avif:https://chippewavalleyunited.com/wp-content/uploads/2025/03/MarketOnRiver_20250305000730447478.jpg.avif
END:VEVENT
END:VCALENDAR