BEGIN:VCALENDAR
VERSION:2.0
PRODID:-//Chippewa Valley Indivisible - ECPv6.15.20//NONSGML v1.0//EN
CALSCALE:GREGORIAN
METHOD:PUBLISH
X-WR-CALNAME:Chippewa Valley Indivisible
X-ORIGINAL-URL:https://chippewavalleyunited.com
X-WR-CALDESC:Events for Chippewa Valley Indivisible
REFRESH-INTERVAL;VALUE=DURATION:PT1H
X-Robots-Tag:noindex
X-PUBLISHED-TTL:PT1H
BEGIN:VTIMEZONE
TZID:America/Chicago
BEGIN:DAYLIGHT
TZOFFSETFROM:-0600
TZOFFSETTO:-0500
TZNAME:CDT
DTSTART:20240310T080000
END:DAYLIGHT
BEGIN:STANDARD
TZOFFSETFROM:-0500
TZOFFSETTO:-0600
TZNAME:CST
DTSTART:20241103T070000
END:STANDARD
BEGIN:DAYLIGHT
TZOFFSETFROM:-0600
TZOFFSETTO:-0500
TZNAME:CDT
DTSTART:20250309T080000
END:DAYLIGHT
BEGIN:STANDARD
TZOFFSETFROM:-0500
TZOFFSETTO:-0600
TZNAME:CST
DTSTART:20251102T070000
END:STANDARD
BEGIN:DAYLIGHT
TZOFFSETFROM:-0600
TZOFFSETTO:-0500
TZNAME:CDT
DTSTART:20260308T080000
END:DAYLIGHT
BEGIN:STANDARD
TZOFFSETFROM:-0500
TZOFFSETTO:-0600
TZNAME:CST
DTSTART:20261101T070000
END:STANDARD
END:VTIMEZONE
BEGIN:VEVENT
DTSTART;TZID=America/Chicago:20250604T150000
DTEND;TZID=America/Chicago:20250604T160000
DTSTAMP:20260424T033449
CREATED:20250311T222322Z
LAST-MODIFIED:20251111T235747Z
UID:10000538-1749049200-1749052800@chippewavalleyunited.com
SUMMARY:Defend Democracy Rally – Eau Claire Weekly
DESCRIPTION:Take action now to Defend Democracy! We come together as a community to stand against this authoritarianism\, and against unlawful and unconstitutional actions. Take a stand for protecting Social Security\, Medicaid\, federal agencies\, national parks\, due process\, the rule of law\, the environment\, and more. Defend our democracy for our families\, friends\, and neighbors. Get your signs ready and come let the community know this matters to you! \nGathering every week at 4pm by the Federal Building in Eau Claire. Meet up on the corner of Barstow and Lake Street\, 500 S. Barstow Street. Bring a friend! \nThere’s no such thing as bad weather\, just bad clothing choices! Dress for Rally Success! Let’s gather together and speak up for our children\, grandchildren\, and our community! \nSmall parking lot at South Farwell and Gray\, along with street parking downtown. \nSign Me Up!
URL:https://chippewavalleyunited.com/event/defend-democracy-protest/2025-06-04/
LOCATION:Eau Claire Federal Building\, 505 S. Barstow St\, Eau Claire\, WI\, 54701\, United States
ATTACH;FMTTYPE=image/jpeg:https://chippewavalleyunited.com/wp-content/uploads/2025/03/DDR_Photo-scaled.jpg
ORGANIZER;CN="Chippewa Valley Indivisible":MAILTO:ojibwavalley@gmail.com
END:VEVENT
BEGIN:VEVENT
DTSTART;TZID=America/Chicago:20250605T160000
DTEND;TZID=America/Chicago:20250605T170000
DTSTAMP:20260424T033449
CREATED:20250329T010231Z
LAST-MODIFIED:20251101T173218Z
UID:10000079-1749139200-1749142800@chippewavalleyunited.com
SUMMARY:Defend Democracy Rally – Chippewa Falls Weekly
DESCRIPTION:Take action now to Defend Democracy! We come together as a community to stand against this authoritarianism\, and against unlawful and unconstitutional actions. Take a stand for protecting Social Security\, Medicaid\, federal agencies\, national parks\, due process\, the rule of law\, the environment\, and more. Defend our democracy for our families\, friends\, and neighbors. Get your signs ready and come let the community know this matters to you! \nGathering every week at 4pm on Peace Circle in Chippewa Falls (roundabout on the corner of Bridge Street and Highway 124 (River Street) in Chippewa Falls. \nThere’s no such thing as bad weather\, just bad clothing choices! Dress for Rally Success! Let’s gather together and speak up for our children\, grandchildren\, and our community! \nTwo public parking lots on Bridge and River. \nSign Me Up!
URL:https://chippewavalleyunited.com/event/defend-democracy-rally-cf/2025-06-05/
LOCATION:Peace Circle Chippewa Falls\, Roundabout Bridge and River\, Chippewa Falls\, WI\, 54729\, United States
CATEGORIES:Featured
ATTACH;FMTTYPE=image/jpeg:https://chippewavalleyunited.com/wp-content/uploads/2025/03/DDCF.jpg
ORGANIZER;CN="Chippewa Valley Indivisible":MAILTO:ojibwavalley@gmail.com
END:VEVENT
BEGIN:VEVENT
DTSTART;TZID=America/Chicago:20250605T173000
DTEND;TZID=America/Chicago:20250605T190000
DTSTAMP:20260424T033449
CREATED:20250508T225228Z
LAST-MODIFIED:20250616T212733Z
UID:10000347-1749144600-1749150000@chippewavalleyunited.com
SUMMARY:Weekly Meeting
DESCRIPTION:
URL:https://chippewavalleyunited.com/event/weekly-meeting-3/2025-06-05/
ATTACH;FMTTYPE=image/avif:https://chippewavalleyunited.com/wp-content/uploads/2025/03/MarketOnRiver_20250305000730447478.jpg.avif
END:VEVENT
BEGIN:VEVENT
DTSTART;TZID=America/Chicago:20250611T150000
DTEND;TZID=America/Chicago:20250611T160000
DTSTAMP:20260424T033449
CREATED:20250311T222322Z
LAST-MODIFIED:20251111T235747Z
UID:10000539-1749654000-1749657600@chippewavalleyunited.com
SUMMARY:Defend Democracy Rally – Eau Claire Weekly
DESCRIPTION:Take action now to Defend Democracy! We come together as a community to stand against this authoritarianism\, and against unlawful and unconstitutional actions. Take a stand for protecting Social Security\, Medicaid\, federal agencies\, national parks\, due process\, the rule of law\, the environment\, and more. Defend our democracy for our families\, friends\, and neighbors. Get your signs ready and come let the community know this matters to you! \nGathering every week at 4pm by the Federal Building in Eau Claire. Meet up on the corner of Barstow and Lake Street\, 500 S. Barstow Street. Bring a friend! \nThere’s no such thing as bad weather\, just bad clothing choices! Dress for Rally Success! Let’s gather together and speak up for our children\, grandchildren\, and our community! \nSmall parking lot at South Farwell and Gray\, along with street parking downtown. \nSign Me Up!
URL:https://chippewavalleyunited.com/event/defend-democracy-protest/2025-06-11/
LOCATION:Eau Claire Federal Building\, 505 S. Barstow St\, Eau Claire\, WI\, 54701\, United States
ATTACH;FMTTYPE=image/jpeg:https://chippewavalleyunited.com/wp-content/uploads/2025/03/DDR_Photo-scaled.jpg
ORGANIZER;CN="Chippewa Valley Indivisible":MAILTO:ojibwavalley@gmail.com
END:VEVENT
BEGIN:VEVENT
DTSTART;TZID=America/Chicago:20250612T160000
DTEND;TZID=America/Chicago:20250612T170000
DTSTAMP:20260424T033449
CREATED:20250329T010231Z
LAST-MODIFIED:20251101T173218Z
UID:10000080-1749744000-1749747600@chippewavalleyunited.com
SUMMARY:Defend Democracy Rally – Chippewa Falls Weekly
DESCRIPTION:Take action now to Defend Democracy! We come together as a community to stand against this authoritarianism\, and against unlawful and unconstitutional actions. Take a stand for protecting Social Security\, Medicaid\, federal agencies\, national parks\, due process\, the rule of law\, the environment\, and more. Defend our democracy for our families\, friends\, and neighbors. Get your signs ready and come let the community know this matters to you! \nGathering every week at 4pm on Peace Circle in Chippewa Falls (roundabout on the corner of Bridge Street and Highway 124 (River Street) in Chippewa Falls. \nThere’s no such thing as bad weather\, just bad clothing choices! Dress for Rally Success! Let’s gather together and speak up for our children\, grandchildren\, and our community! \nTwo public parking lots on Bridge and River. \nSign Me Up!
URL:https://chippewavalleyunited.com/event/defend-democracy-rally-cf/2025-06-12/
LOCATION:Peace Circle Chippewa Falls\, Roundabout Bridge and River\, Chippewa Falls\, WI\, 54729\, United States
CATEGORIES:Featured
ATTACH;FMTTYPE=image/jpeg:https://chippewavalleyunited.com/wp-content/uploads/2025/03/DDCF.jpg
ORGANIZER;CN="Chippewa Valley Indivisible":MAILTO:ojibwavalley@gmail.com
END:VEVENT
BEGIN:VEVENT
DTSTART;TZID=America/Chicago:20250612T173000
DTEND;TZID=America/Chicago:20250612T190000
DTSTAMP:20260424T033449
CREATED:20250508T225228Z
LAST-MODIFIED:20250616T212733Z
UID:10000348-1749749400-1749754800@chippewavalleyunited.com
SUMMARY:Weekly Meeting
DESCRIPTION:
URL:https://chippewavalleyunited.com/event/weekly-meeting-3/2025-06-12/
ATTACH;FMTTYPE=image/avif:https://chippewavalleyunited.com/wp-content/uploads/2025/03/MarketOnRiver_20250305000730447478.jpg.avif
END:VEVENT
BEGIN:VEVENT
DTSTART;TZID=America/Chicago:20250614T120000
DTEND;TZID=America/Chicago:20250614T143000
DTSTAMP:20260424T033449
CREATED:20250508T225850Z
LAST-MODIFIED:20250611T185515Z
UID:10000343-1749902400-1749911400@chippewavalleyunited.com
SUMMARY:NO KINGS Mass Rally - Eau Claire
DESCRIPTION:It all starts with a rally and a march in Eau Claire at 12:00 noon. We will be marching from the Owen Park Bandshell\, over the Lake Street Bridge (we ask that you observe all traffic signals)\, down Graham Avenue\, to Haymarket Plaza at the Pablo Center\, then over to Phoenix Park to support PRIDE IN THE PARK. Anyone who is interested\, is welcome to stay at PRIDE for the rest of afternoon! (Indivisible will have a table there\, stop in and say hi!). Estimated time to march is 20 minutes in each direction. \nThere will be stops along the way for water and to chant with people who may have mobility issues. Finally\, We will march back via Barstow (stopping to chant in front of the office of Rep. Derrick Van Orden) to end at Owen Park for the final hurrah! Huge parking lot on the corner of Water Street and First Avenue. A map of the event will be posted! Hope to see you there. Don’t forget your signs and flags! Bring your friends!
URL:https://chippewavalleyunited.com/event/no-kings-mass-rally-eau-claire/
LOCATION:Owen Park\, 501 First Avenue\, Eau Claire\, WI\, 54701\, United States
CATEGORIES:Featured
ATTACH;FMTTYPE=image/jpeg:https://chippewavalleyunited.com/wp-content/uploads/2025/05/NoKings_v2.jpeg
END:VEVENT
BEGIN:VEVENT
DTSTART;TZID=America/Chicago:20250614T160000
DTEND;TZID=America/Chicago:20250614T173000
DTSTAMP:20260424T033449
CREATED:20250508T230139Z
LAST-MODIFIED:20250611T185349Z
UID:10000344-1749916800-1749922200@chippewavalleyunited.com
SUMMARY:NO KINGS Mass Rally – Chippewa Falls
DESCRIPTION:IMPORTANT: The Eau Claire Rally (march from Owen Park to Phoenix Park) begins at noon with many rally goers remaining at Phoenix Park to suport PRIDE. However\, the Chippewa Falls rally time has changed to 4pm – 5:30pm. Please come stand with us at Peace Circle. \nBring your signs and flags to continue the rally with friends and community members in Chippewa Falls! The authoritarian push in Los Angeles is a call for those of us who support democracy to stand for  No Kings in America! Bring your rally energy and protector spirit to Chippewa Falls. The American flag\, signs about ensuring our freedom\, protecting our democracy\, and adherence to the Constitution and the rule of law would be ideal. Looking forward to seeing you there. \nChippewa Valley Indivisible will hold the Community Picnic and We the People Gathering the third week in July complete with food trucks\, music\, and a movie in Riverfront Park. It will be a joyous event for families in the Chippewa Valley.
URL:https://chippewavalleyunited.com/event/no-kings-mass-rally-chippewa-falls/
LOCATION:Peace Circle Chippewa Falls\, Roundabout Bridge and River\, Chippewa Falls\, WI\, 54729\, United States
CATEGORIES:Featured
ATTACH;FMTTYPE=image/jpeg:https://chippewavalleyunited.com/wp-content/uploads/2025/05/NoKings_v2.jpeg
ORGANIZER;CN="Chippewa Valley Indivisible":MAILTO:ojibwavalley@gmail.com
END:VEVENT
BEGIN:VEVENT
DTSTART;TZID=America/Chicago:20250617T173000
DTEND;TZID=America/Chicago:20250617T190000
DTSTAMP:20260424T033449
CREATED:20250616T213020Z
LAST-MODIFIED:20250616T213020Z
UID:10000353-1750181400-1750186800@chippewavalleyunited.com
SUMMARY:Weekly Meeting
DESCRIPTION:Meeting moved to Tuesday\, June 17\, to all members to support Juneteenth.
URL:https://chippewavalleyunited.com/event/weekly-meeting-4/
LOCATION:Market on River\, 128 W. River St\, 2nd Floor\, Chippewa Falls\, WI\, 54729\, United States
ATTACH;FMTTYPE=image/avif:https://chippewavalleyunited.com/wp-content/uploads/2025/03/MarketOnRiver_20250305000730447478.jpg.avif
END:VEVENT
BEGIN:VEVENT
DTSTART;TZID=America/Chicago:20250618T150000
DTEND;TZID=America/Chicago:20250618T160000
DTSTAMP:20260424T033449
CREATED:20250311T222322Z
LAST-MODIFIED:20251111T235747Z
UID:10000540-1750258800-1750262400@chippewavalleyunited.com
SUMMARY:Defend Democracy Rally – Eau Claire Weekly
DESCRIPTION:Take action now to Defend Democracy! We come together as a community to stand against this authoritarianism\, and against unlawful and unconstitutional actions. Take a stand for protecting Social Security\, Medicaid\, federal agencies\, national parks\, due process\, the rule of law\, the environment\, and more. Defend our democracy for our families\, friends\, and neighbors. Get your signs ready and come let the community know this matters to you! \nGathering every week at 4pm by the Federal Building in Eau Claire. Meet up on the corner of Barstow and Lake Street\, 500 S. Barstow Street. Bring a friend! \nThere’s no such thing as bad weather\, just bad clothing choices! Dress for Rally Success! Let’s gather together and speak up for our children\, grandchildren\, and our community! \nSmall parking lot at South Farwell and Gray\, along with street parking downtown. \nSign Me Up!
URL:https://chippewavalleyunited.com/event/defend-democracy-protest/2025-06-18/
LOCATION:Eau Claire Federal Building\, 505 S. Barstow St\, Eau Claire\, WI\, 54701\, United States
ATTACH;FMTTYPE=image/jpeg:https://chippewavalleyunited.com/wp-content/uploads/2025/03/DDR_Photo-scaled.jpg
ORGANIZER;CN="Chippewa Valley Indivisible":MAILTO:ojibwavalley@gmail.com
END:VEVENT
BEGIN:VEVENT
DTSTART;TZID=America/Chicago:20250619T160000
DTEND;TZID=America/Chicago:20250619T170000
DTSTAMP:20260424T033449
CREATED:20250329T010231Z
LAST-MODIFIED:20251101T173218Z
UID:10000081-1750348800-1750352400@chippewavalleyunited.com
SUMMARY:Defend Democracy Rally – Chippewa Falls Weekly
DESCRIPTION:Take action now to Defend Democracy! We come together as a community to stand against this authoritarianism\, and against unlawful and unconstitutional actions. Take a stand for protecting Social Security\, Medicaid\, federal agencies\, national parks\, due process\, the rule of law\, the environment\, and more. Defend our democracy for our families\, friends\, and neighbors. Get your signs ready and come let the community know this matters to you! \nGathering every week at 4pm on Peace Circle in Chippewa Falls (roundabout on the corner of Bridge Street and Highway 124 (River Street) in Chippewa Falls. \nThere’s no such thing as bad weather\, just bad clothing choices! Dress for Rally Success! Let’s gather together and speak up for our children\, grandchildren\, and our community! \nTwo public parking lots on Bridge and River. \nSign Me Up!
URL:https://chippewavalleyunited.com/event/defend-democracy-rally-cf/2025-06-19/
LOCATION:Peace Circle Chippewa Falls\, Roundabout Bridge and River\, Chippewa Falls\, WI\, 54729\, United States
CATEGORIES:Featured
ATTACH;FMTTYPE=image/jpeg:https://chippewavalleyunited.com/wp-content/uploads/2025/03/DDCF.jpg
ORGANIZER;CN="Chippewa Valley Indivisible":MAILTO:ojibwavalley@gmail.com
END:VEVENT
BEGIN:VEVENT
DTSTART;TZID=America/Chicago:20250619T170000
DTEND;TZID=America/Chicago:20250619T200000
DTSTAMP:20260424T033449
CREATED:20250616T214649Z
LAST-MODIFIED:20250616T214649Z
UID:10000354-1750352400-1750363200@chippewavalleyunited.com
SUMMARY:Juneteenth
DESCRIPTION:
URL:https://chippewavalleyunited.com/event/juneteenth/
LOCATION:Carson Park\, 100 Carson Park Drive\, Eau Claire\, WI\, 54703\, United States
ATTACH;FMTTYPE=image/jpeg:https://chippewavalleyunited.com/wp-content/uploads/2025/06/JuneteenthBanner.jpg
END:VEVENT
BEGIN:VEVENT
DTSTART;TZID=America/Chicago:20250620T100000
DTEND;TZID=America/Chicago:20250620T110000
DTSTAMP:20260424T033449
CREATED:20250619T021414Z
LAST-MODIFIED:20250619T021414Z
UID:10000355-1750413600-1750417200@chippewavalleyunited.com
SUMMARY:Save Our Hospitals Chippewa Falls
DESCRIPTION:
URL:https://chippewavalleyunited.com/event/save-our-hospitals-chippewa-falls/
END:VEVENT
BEGIN:VEVENT
DTSTART;TZID=America/Chicago:20250620T120000
DTEND;TZID=America/Chicago:20250620T130000
DTSTAMP:20260424T033449
CREATED:20250619T021458Z
LAST-MODIFIED:20250619T021458Z
UID:10000356-1750420800-1750424400@chippewavalleyunited.com
SUMMARY:Save Our Hospitals Eau Claire
DESCRIPTION:
URL:https://chippewavalleyunited.com/event/save-our-hospitals-eau-claire/
END:VEVENT
BEGIN:VEVENT
DTSTART;TZID=America/Chicago:20250622T130000
DTEND;TZID=America/Chicago:20250622T170000
DTSTAMP:20260424T033449
CREATED:20250628T130312Z
LAST-MODIFIED:20250628T131253Z
UID:10000357-1750597200-1750611600@chippewavalleyunited.com
SUMMARY:CVI Hosts Community Table Meal
DESCRIPTION:Chippewa Valley Indivisible will be hosting a hot meal at the Community Table on Sunday\, June 22\, 2025 from 1:00pm to 5:00pm. CVI Members or persons who would like to serve the community with us are invited to volunteer. We need 8 to 12 persons for the meal service. \nMembers and citizens are invited to donate to fund the meal (including either 4 gallons of milk or 2 cases of water to serve with the hot food). Estimated cost is $135. Donations can be made through ActBlue at https://secure.actblue.com/donate/indivisiblecv1318611232
URL:https://chippewavalleyunited.com/event/agnes-table-meal/
LOCATION:Community Table\, 320 Putnam Street\, Eau Claire\, WI\, 54703\, United States
ATTACH;FMTTYPE=image/png:https://chippewavalleyunited.com/wp-content/uploads/2025/06/NHN_Noshing.png
ORGANIZER;CN="Chippewa Valley Indivisible":MAILTO:ojibwavalley@gmail.com
END:VEVENT
BEGIN:VEVENT
DTSTART;TZID=America/Chicago:20250625T150000
DTEND;TZID=America/Chicago:20250625T160000
DTSTAMP:20260424T033449
CREATED:20250311T222322Z
LAST-MODIFIED:20251111T235747Z
UID:10000541-1750863600-1750867200@chippewavalleyunited.com
SUMMARY:Defend Democracy Rally – Eau Claire Weekly
DESCRIPTION:Take action now to Defend Democracy! We come together as a community to stand against this authoritarianism\, and against unlawful and unconstitutional actions. Take a stand for protecting Social Security\, Medicaid\, federal agencies\, national parks\, due process\, the rule of law\, the environment\, and more. Defend our democracy for our families\, friends\, and neighbors. Get your signs ready and come let the community know this matters to you! \nGathering every week at 4pm by the Federal Building in Eau Claire. Meet up on the corner of Barstow and Lake Street\, 500 S. Barstow Street. Bring a friend! \nThere’s no such thing as bad weather\, just bad clothing choices! Dress for Rally Success! Let’s gather together and speak up for our children\, grandchildren\, and our community! \nSmall parking lot at South Farwell and Gray\, along with street parking downtown. \nSign Me Up!
URL:https://chippewavalleyunited.com/event/defend-democracy-protest/2025-06-25/
LOCATION:Eau Claire Federal Building\, 505 S. Barstow St\, Eau Claire\, WI\, 54701\, United States
ATTACH;FMTTYPE=image/jpeg:https://chippewavalleyunited.com/wp-content/uploads/2025/03/DDR_Photo-scaled.jpg
ORGANIZER;CN="Chippewa Valley Indivisible":MAILTO:ojibwavalley@gmail.com
END:VEVENT
BEGIN:VEVENT
DTSTART;TZID=America/Chicago:20250626T160000
DTEND;TZID=America/Chicago:20250626T170000
DTSTAMP:20260424T033449
CREATED:20250329T010231Z
LAST-MODIFIED:20251101T173218Z
UID:10000082-1750953600-1750957200@chippewavalleyunited.com
SUMMARY:Defend Democracy Rally – Chippewa Falls Weekly
DESCRIPTION:Take action now to Defend Democracy! We come together as a community to stand against this authoritarianism\, and against unlawful and unconstitutional actions. Take a stand for protecting Social Security\, Medicaid\, federal agencies\, national parks\, due process\, the rule of law\, the environment\, and more. Defend our democracy for our families\, friends\, and neighbors. Get your signs ready and come let the community know this matters to you! \nGathering every week at 4pm on Peace Circle in Chippewa Falls (roundabout on the corner of Bridge Street and Highway 124 (River Street) in Chippewa Falls. \nThere’s no such thing as bad weather\, just bad clothing choices! Dress for Rally Success! Let’s gather together and speak up for our children\, grandchildren\, and our community! \nTwo public parking lots on Bridge and River. \nSign Me Up!
URL:https://chippewavalleyunited.com/event/defend-democracy-rally-cf/2025-06-26/
LOCATION:Peace Circle Chippewa Falls\, Roundabout Bridge and River\, Chippewa Falls\, WI\, 54729\, United States
CATEGORIES:Featured
ATTACH;FMTTYPE=image/jpeg:https://chippewavalleyunited.com/wp-content/uploads/2025/03/DDCF.jpg
ORGANIZER;CN="Chippewa Valley Indivisible":MAILTO:ojibwavalley@gmail.com
END:VEVENT
BEGIN:VEVENT
DTSTART;TZID=America/Chicago:20250626T173000
DTEND;TZID=America/Chicago:20250626T190000
DTSTAMP:20260424T033449
CREATED:20250508T225228Z
LAST-MODIFIED:20250616T212733Z
UID:10000350-1750959000-1750964400@chippewavalleyunited.com
SUMMARY:Weekly Meeting
DESCRIPTION:
URL:https://chippewavalleyunited.com/event/weekly-meeting-3/2025-06-26/
ATTACH;FMTTYPE=image/avif:https://chippewavalleyunited.com/wp-content/uploads/2025/03/MarketOnRiver_20250305000730447478.jpg.avif
END:VEVENT
END:VCALENDAR