BEGIN:VCALENDAR
VERSION:2.0
PRODID:-//Chippewa Valley Indivisible - ECPv6.15.20//NONSGML v1.0//EN
CALSCALE:GREGORIAN
METHOD:PUBLISH
X-ORIGINAL-URL:https://chippewavalleyunited.com
X-WR-CALDESC:Events for Chippewa Valley Indivisible
REFRESH-INTERVAL;VALUE=DURATION:PT1H
X-Robots-Tag:noindex
X-PUBLISHED-TTL:PT1H
BEGIN:VTIMEZONE
TZID:America/Chicago
BEGIN:DAYLIGHT
TZOFFSETFROM:-0600
TZOFFSETTO:-0500
TZNAME:CDT
DTSTART:20240310T080000
END:DAYLIGHT
BEGIN:STANDARD
TZOFFSETFROM:-0500
TZOFFSETTO:-0600
TZNAME:CST
DTSTART:20241103T070000
END:STANDARD
BEGIN:DAYLIGHT
TZOFFSETFROM:-0600
TZOFFSETTO:-0500
TZNAME:CDT
DTSTART:20250309T080000
END:DAYLIGHT
BEGIN:STANDARD
TZOFFSETFROM:-0500
TZOFFSETTO:-0600
TZNAME:CST
DTSTART:20251102T070000
END:STANDARD
BEGIN:DAYLIGHT
TZOFFSETFROM:-0600
TZOFFSETTO:-0500
TZNAME:CDT
DTSTART:20260308T080000
END:DAYLIGHT
BEGIN:STANDARD
TZOFFSETFROM:-0500
TZOFFSETTO:-0600
TZNAME:CST
DTSTART:20261101T070000
END:STANDARD
END:VTIMEZONE
BEGIN:VEVENT
DTSTART;TZID=America/Chicago:20250806T150000
DTEND;TZID=America/Chicago:20250806T160000
DTSTAMP:20260424T010334
CREATED:20250311T222322Z
LAST-MODIFIED:20251111T235747Z
UID:10000547-1754492400-1754496000@chippewavalleyunited.com
SUMMARY:Defend Democracy Rally – Eau Claire Weekly
DESCRIPTION:Take action now to Defend Democracy! We come together as a community to stand against this authoritarianism\, and against unlawful and unconstitutional actions. Take a stand for protecting Social Security\, Medicaid\, federal agencies\, national parks\, due process\, the rule of law\, the environment\, and more. Defend our democracy for our families\, friends\, and neighbors. Get your signs ready and come let the community know this matters to you! \nGathering every week at 4pm by the Federal Building in Eau Claire. Meet up on the corner of Barstow and Lake Street\, 500 S. Barstow Street. Bring a friend! \nThere’s no such thing as bad weather\, just bad clothing choices! Dress for Rally Success! Let’s gather together and speak up for our children\, grandchildren\, and our community! \nSmall parking lot at South Farwell and Gray\, along with street parking downtown. \nSign Me Up!
URL:https://chippewavalleyunited.com/event/defend-democracy-protest/2025-08-06/
LOCATION:Eau Claire Federal Building\, 505 S. Barstow St\, Eau Claire\, WI\, 54701\, United States
ATTACH;FMTTYPE=image/jpeg:https://chippewavalleyunited.com/wp-content/uploads/2025/03/DDR_Photo-scaled.jpg
ORGANIZER;CN="Chippewa Valley Indivisible":MAILTO:ojibwavalley@gmail.com
END:VEVENT
BEGIN:VEVENT
DTSTART;TZID=America/Chicago:20250807T160000
DTEND;TZID=America/Chicago:20250807T170000
DTSTAMP:20260424T010334
CREATED:20250329T010231Z
LAST-MODIFIED:20251101T173218Z
UID:10000088-1754582400-1754586000@chippewavalleyunited.com
SUMMARY:Defend Democracy Rally – Chippewa Falls Weekly
DESCRIPTION:Take action now to Defend Democracy! We come together as a community to stand against this authoritarianism\, and against unlawful and unconstitutional actions. Take a stand for protecting Social Security\, Medicaid\, federal agencies\, national parks\, due process\, the rule of law\, the environment\, and more. Defend our democracy for our families\, friends\, and neighbors. Get your signs ready and come let the community know this matters to you! \nGathering every week at 4pm on Peace Circle in Chippewa Falls (roundabout on the corner of Bridge Street and Highway 124 (River Street) in Chippewa Falls. \nThere’s no such thing as bad weather\, just bad clothing choices! Dress for Rally Success! Let’s gather together and speak up for our children\, grandchildren\, and our community! \nTwo public parking lots on Bridge and River. \nSign Me Up!
URL:https://chippewavalleyunited.com/event/defend-democracy-rally-cf/2025-08-07/
LOCATION:Peace Circle Chippewa Falls\, Roundabout Bridge and River\, Chippewa Falls\, WI\, 54729\, United States
CATEGORIES:Featured
ATTACH;FMTTYPE=image/jpeg:https://chippewavalleyunited.com/wp-content/uploads/2025/03/DDCF.jpg
ORGANIZER;CN="Chippewa Valley Indivisible":MAILTO:ojibwavalley@gmail.com
END:VEVENT
BEGIN:VEVENT
DTSTART;TZID=America/Chicago:20250812T173000
DTEND;TZID=America/Chicago:20250812T190000
DTSTAMP:20260424T010334
CREATED:20250811T121801Z
LAST-MODIFIED:20250811T121801Z
UID:10000374-1755019800-1755025200@chippewavalleyunited.com
SUMMARY:Weekly Meeting
DESCRIPTION:
URL:https://chippewavalleyunited.com/event/weekly-meeting-7/
LOCATION:Market on River\, 128 W. River St\, 2nd Floor\, Chippewa Falls\, WI\, 54729\, United States
ATTACH;FMTTYPE=image/avif:https://chippewavalleyunited.com/wp-content/uploads/2025/03/MarketOnRiver_20250305000730447478.jpg.avif
ORGANIZER;CN="Chippewa Valley Indivisible":MAILTO:ojibwavalley@gmail.com
END:VEVENT
BEGIN:VEVENT
DTSTART;TZID=America/Chicago:20250813T150000
DTEND;TZID=America/Chicago:20250813T160000
DTSTAMP:20260424T010334
CREATED:20250311T222322Z
LAST-MODIFIED:20251111T235747Z
UID:10000548-1755097200-1755100800@chippewavalleyunited.com
SUMMARY:Defend Democracy Rally – Eau Claire Weekly
DESCRIPTION:Take action now to Defend Democracy! We come together as a community to stand against this authoritarianism\, and against unlawful and unconstitutional actions. Take a stand for protecting Social Security\, Medicaid\, federal agencies\, national parks\, due process\, the rule of law\, the environment\, and more. Defend our democracy for our families\, friends\, and neighbors. Get your signs ready and come let the community know this matters to you! \nGathering every week at 4pm by the Federal Building in Eau Claire. Meet up on the corner of Barstow and Lake Street\, 500 S. Barstow Street. Bring a friend! \nThere’s no such thing as bad weather\, just bad clothing choices! Dress for Rally Success! Let’s gather together and speak up for our children\, grandchildren\, and our community! \nSmall parking lot at South Farwell and Gray\, along with street parking downtown. \nSign Me Up!
URL:https://chippewavalleyunited.com/event/defend-democracy-protest/2025-08-13/
LOCATION:Eau Claire Federal Building\, 505 S. Barstow St\, Eau Claire\, WI\, 54701\, United States
ATTACH;FMTTYPE=image/jpeg:https://chippewavalleyunited.com/wp-content/uploads/2025/03/DDR_Photo-scaled.jpg
ORGANIZER;CN="Chippewa Valley Indivisible":MAILTO:ojibwavalley@gmail.com
END:VEVENT
BEGIN:VEVENT
DTSTART;TZID=America/Chicago:20250814T160000
DTEND;TZID=America/Chicago:20250814T170000
DTSTAMP:20260424T010334
CREATED:20250329T010231Z
LAST-MODIFIED:20251101T173218Z
UID:10000089-1755187200-1755190800@chippewavalleyunited.com
SUMMARY:Defend Democracy Rally – Chippewa Falls Weekly
DESCRIPTION:Take action now to Defend Democracy! We come together as a community to stand against this authoritarianism\, and against unlawful and unconstitutional actions. Take a stand for protecting Social Security\, Medicaid\, federal agencies\, national parks\, due process\, the rule of law\, the environment\, and more. Defend our democracy for our families\, friends\, and neighbors. Get your signs ready and come let the community know this matters to you! \nGathering every week at 4pm on Peace Circle in Chippewa Falls (roundabout on the corner of Bridge Street and Highway 124 (River Street) in Chippewa Falls. \nThere’s no such thing as bad weather\, just bad clothing choices! Dress for Rally Success! Let’s gather together and speak up for our children\, grandchildren\, and our community! \nTwo public parking lots on Bridge and River. \nSign Me Up!
URL:https://chippewavalleyunited.com/event/defend-democracy-rally-cf/2025-08-14/
LOCATION:Peace Circle Chippewa Falls\, Roundabout Bridge and River\, Chippewa Falls\, WI\, 54729\, United States
CATEGORIES:Featured
ATTACH;FMTTYPE=image/jpeg:https://chippewavalleyunited.com/wp-content/uploads/2025/03/DDCF.jpg
ORGANIZER;CN="Chippewa Valley Indivisible":MAILTO:ojibwavalley@gmail.com
END:VEVENT
BEGIN:VEVENT
DTSTART;TZID=America/Chicago:20250820T150000
DTEND;TZID=America/Chicago:20250820T160000
DTSTAMP:20260424T010334
CREATED:20250311T222322Z
LAST-MODIFIED:20251111T235747Z
UID:10000549-1755702000-1755705600@chippewavalleyunited.com
SUMMARY:Defend Democracy Rally – Eau Claire Weekly
DESCRIPTION:Take action now to Defend Democracy! We come together as a community to stand against this authoritarianism\, and against unlawful and unconstitutional actions. Take a stand for protecting Social Security\, Medicaid\, federal agencies\, national parks\, due process\, the rule of law\, the environment\, and more. Defend our democracy for our families\, friends\, and neighbors. Get your signs ready and come let the community know this matters to you! \nGathering every week at 4pm by the Federal Building in Eau Claire. Meet up on the corner of Barstow and Lake Street\, 500 S. Barstow Street. Bring a friend! \nThere’s no such thing as bad weather\, just bad clothing choices! Dress for Rally Success! Let’s gather together and speak up for our children\, grandchildren\, and our community! \nSmall parking lot at South Farwell and Gray\, along with street parking downtown. \nSign Me Up!
URL:https://chippewavalleyunited.com/event/defend-democracy-protest/2025-08-20/
LOCATION:Eau Claire Federal Building\, 505 S. Barstow St\, Eau Claire\, WI\, 54701\, United States
ATTACH;FMTTYPE=image/jpeg:https://chippewavalleyunited.com/wp-content/uploads/2025/03/DDR_Photo-scaled.jpg
ORGANIZER;CN="Chippewa Valley Indivisible":MAILTO:ojibwavalley@gmail.com
END:VEVENT
BEGIN:VEVENT
DTSTART;TZID=America/Chicago:20250821T160000
DTEND;TZID=America/Chicago:20250821T170000
DTSTAMP:20260424T010334
CREATED:20250329T010231Z
LAST-MODIFIED:20251101T173218Z
UID:10000090-1755792000-1755795600@chippewavalleyunited.com
SUMMARY:Defend Democracy Rally – Chippewa Falls Weekly
DESCRIPTION:Take action now to Defend Democracy! We come together as a community to stand against this authoritarianism\, and against unlawful and unconstitutional actions. Take a stand for protecting Social Security\, Medicaid\, federal agencies\, national parks\, due process\, the rule of law\, the environment\, and more. Defend our democracy for our families\, friends\, and neighbors. Get your signs ready and come let the community know this matters to you! \nGathering every week at 4pm on Peace Circle in Chippewa Falls (roundabout on the corner of Bridge Street and Highway 124 (River Street) in Chippewa Falls. \nThere’s no such thing as bad weather\, just bad clothing choices! Dress for Rally Success! Let’s gather together and speak up for our children\, grandchildren\, and our community! \nTwo public parking lots on Bridge and River. \nSign Me Up!
URL:https://chippewavalleyunited.com/event/defend-democracy-rally-cf/2025-08-21/
LOCATION:Peace Circle Chippewa Falls\, Roundabout Bridge and River\, Chippewa Falls\, WI\, 54729\, United States
CATEGORIES:Featured
ATTACH;FMTTYPE=image/jpeg:https://chippewavalleyunited.com/wp-content/uploads/2025/03/DDCF.jpg
ORGANIZER;CN="Chippewa Valley Indivisible":MAILTO:ojibwavalley@gmail.com
END:VEVENT
BEGIN:VEVENT
DTSTART;TZID=America/Chicago:20250821T173000
DTEND;TZID=America/Chicago:20250821T190000
DTSTAMP:20260424T010334
CREATED:20250811T121913Z
LAST-MODIFIED:20250811T121913Z
UID:10000377-1755797400-1755802800@chippewavalleyunited.com
SUMMARY:Weekly Meeting
DESCRIPTION:
URL:https://chippewavalleyunited.com/event/weekly-meeting-8/
LOCATION:Market on River\, 128 W. River St\, 2nd Floor\, Chippewa Falls\, WI\, 54729\, United States
ATTACH;FMTTYPE=image/avif:https://chippewavalleyunited.com/wp-content/uploads/2025/03/MarketOnRiver_20250305000730447478.jpg.avif
ORGANIZER;CN="Chippewa Valley Indivisible":MAILTO:ojibwavalley@gmail.com
END:VEVENT
BEGIN:VEVENT
DTSTART;TZID=America/Chicago:20250823T150000
DTEND;TZID=America/Chicago:20250823T180000
DTSTAMP:20260424T010334
CREATED:20250628T143228Z
LAST-MODIFIED:20250628T143400Z
UID:10000373-1755961200-1755972000@chippewavalleyunited.com
SUMMARY:Hometown Heroes of the Chippewa Valley
DESCRIPTION:First Annual HOMETOWN HEROES OF THE CHIPPEWA VALLEY event which was announced at the last meeting. We will be celebrating ALL of the heroes of the hometown including the usual suspects police\, fire\, doctors\, nurses\, teachers\, and local leaders. We will also be celebrating the heroes who work tirelessly behind the scenes like our federal and state workers\, business owners AND workers\, volunteers who served tirelessly throughout the area\, childcare workers\, parents\, librarians … the list includes everyone who contributes to other members of our communities. \nWe will have music\, food trucks\, children’s games\, and a fun dessert. More details to follow soon!
URL:https://chippewavalleyunited.com/event/hometown-heroes-of-the-chippewa-valley/
LOCATION:Riverfront Park\, 12 S. Bridge Street\, Chippewa Falls\, WI\, WI\, 54729\, United States
ATTACH;FMTTYPE=image/jpeg:https://chippewavalleyunited.com/wp-content/uploads/2025/06/CVI_HH.jpg
ORGANIZER;CN="Chippewa Valley Indivisible":MAILTO:ojibwavalley@gmail.com
END:VEVENT
BEGIN:VEVENT
DTSTART;TZID=America/Chicago:20250827T120000
DTEND;TZID=America/Chicago:20250827T130000
DTSTAMP:20260424T010334
CREATED:20250811T122146Z
LAST-MODIFIED:20250911T185659Z
UID:10000378-1756296000-1756299600@chippewavalleyunited.com
SUMMARY:Save Social Security Rally
DESCRIPTION:The alarm is being raised. Join WIARA and other groups at the Social Security office to save our services.
URL:https://chippewavalleyunited.com/event/save-social-security-rally-2/
LOCATION:Social Security Administration\, 4120 Oakwood Hills Pkwy\, Eau Claire\, WI\, 54701\, United States
ATTACH;FMTTYPE=image/jpeg:https://chippewavalleyunited.com/wp-content/uploads/2025/04/SocialSecurity.jpg
END:VEVENT
BEGIN:VEVENT
DTSTART;TZID=America/Chicago:20250827T150000
DTEND;TZID=America/Chicago:20250827T160000
DTSTAMP:20260424T010334
CREATED:20250311T222322Z
LAST-MODIFIED:20251111T235747Z
UID:10000550-1756306800-1756310400@chippewavalleyunited.com
SUMMARY:Defend Democracy Rally – Eau Claire Weekly
DESCRIPTION:Take action now to Defend Democracy! We come together as a community to stand against this authoritarianism\, and against unlawful and unconstitutional actions. Take a stand for protecting Social Security\, Medicaid\, federal agencies\, national parks\, due process\, the rule of law\, the environment\, and more. Defend our democracy for our families\, friends\, and neighbors. Get your signs ready and come let the community know this matters to you! \nGathering every week at 4pm by the Federal Building in Eau Claire. Meet up on the corner of Barstow and Lake Street\, 500 S. Barstow Street. Bring a friend! \nThere’s no such thing as bad weather\, just bad clothing choices! Dress for Rally Success! Let’s gather together and speak up for our children\, grandchildren\, and our community! \nSmall parking lot at South Farwell and Gray\, along with street parking downtown. \nSign Me Up!
URL:https://chippewavalleyunited.com/event/defend-democracy-protest/2025-08-27/
LOCATION:Eau Claire Federal Building\, 505 S. Barstow St\, Eau Claire\, WI\, 54701\, United States
ATTACH;FMTTYPE=image/jpeg:https://chippewavalleyunited.com/wp-content/uploads/2025/03/DDR_Photo-scaled.jpg
ORGANIZER;CN="Chippewa Valley Indivisible":MAILTO:ojibwavalley@gmail.com
END:VEVENT
BEGIN:VEVENT
DTSTART;TZID=America/Chicago:20250828T160000
DTEND;TZID=America/Chicago:20250828T170000
DTSTAMP:20260424T010334
CREATED:20250329T010231Z
LAST-MODIFIED:20251101T173218Z
UID:10000091-1756396800-1756400400@chippewavalleyunited.com
SUMMARY:Defend Democracy Rally – Chippewa Falls Weekly
DESCRIPTION:Take action now to Defend Democracy! We come together as a community to stand against this authoritarianism\, and against unlawful and unconstitutional actions. Take a stand for protecting Social Security\, Medicaid\, federal agencies\, national parks\, due process\, the rule of law\, the environment\, and more. Defend our democracy for our families\, friends\, and neighbors. Get your signs ready and come let the community know this matters to you! \nGathering every week at 4pm on Peace Circle in Chippewa Falls (roundabout on the corner of Bridge Street and Highway 124 (River Street) in Chippewa Falls. \nThere’s no such thing as bad weather\, just bad clothing choices! Dress for Rally Success! Let’s gather together and speak up for our children\, grandchildren\, and our community! \nTwo public parking lots on Bridge and River. \nSign Me Up!
URL:https://chippewavalleyunited.com/event/defend-democracy-rally-cf/2025-08-28/
LOCATION:Peace Circle Chippewa Falls\, Roundabout Bridge and River\, Chippewa Falls\, WI\, 54729\, United States
CATEGORIES:Featured
ATTACH;FMTTYPE=image/jpeg:https://chippewavalleyunited.com/wp-content/uploads/2025/03/DDCF.jpg
ORGANIZER;CN="Chippewa Valley Indivisible":MAILTO:ojibwavalley@gmail.com
END:VEVENT
END:VCALENDAR