BEGIN:VCALENDAR
VERSION:2.0
PRODID:-//Chippewa Valley Indivisible - ECPv6.15.20//NONSGML v1.0//EN
CALSCALE:GREGORIAN
METHOD:PUBLISH
X-WR-CALNAME:Chippewa Valley Indivisible
X-ORIGINAL-URL:https://chippewavalleyunited.com
X-WR-CALDESC:Events for Chippewa Valley Indivisible
REFRESH-INTERVAL;VALUE=DURATION:PT1H
X-Robots-Tag:noindex
X-PUBLISHED-TTL:PT1H
BEGIN:VTIMEZONE
TZID:America/Chicago
BEGIN:DAYLIGHT
TZOFFSETFROM:-0600
TZOFFSETTO:-0500
TZNAME:CDT
DTSTART:20250309T080000
END:DAYLIGHT
BEGIN:STANDARD
TZOFFSETFROM:-0500
TZOFFSETTO:-0600
TZNAME:CST
DTSTART:20251102T070000
END:STANDARD
BEGIN:DAYLIGHT
TZOFFSETFROM:-0600
TZOFFSETTO:-0500
TZNAME:CDT
DTSTART:20260308T080000
END:DAYLIGHT
BEGIN:STANDARD
TZOFFSETFROM:-0500
TZOFFSETTO:-0600
TZNAME:CST
DTSTART:20261101T070000
END:STANDARD
BEGIN:DAYLIGHT
TZOFFSETFROM:-0600
TZOFFSETTO:-0500
TZNAME:CDT
DTSTART:20270314T080000
END:DAYLIGHT
BEGIN:STANDARD
TZOFFSETFROM:-0500
TZOFFSETTO:-0600
TZNAME:CST
DTSTART:20271107T070000
END:STANDARD
END:VTIMEZONE
BEGIN:VEVENT
DTSTART;TZID=America/Chicago:20260703T150000
DTEND;TZID=America/Chicago:20260703T160000
DTSTAMP:20260423T143642
CREATED:20251123T185239Z
LAST-MODIFIED:20260415T140406Z
UID:10000711-1783090800-1783094400@chippewavalleyunited.com
SUMMARY:Overpass Brigade – Fridays
DESCRIPTION:Join the Overpass Visibility Brigade beginning at 3pm on Mondays to stand for democracy. \nLarge signs will be brought to Tower Drive for these scheduled events. Simply arrive there\, help put up signs\, wave flags and hands to engage the traffic below. \nRemember to stay safe. This is a public space and you have the legal right to be there. At the same time you are reminded to stay on the sidewalks\, not block the path of pedestrians\, not stand in the road\, and make sure you park appropriately. Thank you for standing for democracy!
URL:https://chippewavalleyunited.com/event/overpass-brigade-fridays/2026-07-03/
ATTACH;FMTTYPE=image/jpeg:https://chippewavalleyunited.com/wp-content/uploads/2025/11/WarCrimes.jpg
END:VEVENT
BEGIN:VEVENT
DTSTART;TZID=America/Chicago:20260706T073000
DTEND;TZID=America/Chicago:20260706T083000
DTSTAMP:20260423T143642
CREATED:20251123T185040Z
LAST-MODIFIED:20260415T140502Z
UID:10000653-1783323000-1783326600@chippewavalleyunited.com
SUMMARY:Overpass Brigade – Mondays
DESCRIPTION:Join the Overpass Visibility Brigade beginning as early as 7:30am on Mondays to stand for democracy during drive time. \nLarge signs will be brought to Tower Drive for these scheduled events. Simply arrive there\, help put up signs\, wave flags and hands to engage the traffic below. \nRemember to stay safe. This is a public space and you have the legal right to be there. At the same time you are reminded to stay on the sidewalks\, not block the path of pedestrians\, not stand in the road\, and make sure you park appropriately. Thank you for standing for democracy!
URL:https://chippewavalleyunited.com/event/overpass-brigade-mondays/2026-07-06/
LOCATION:Tower Drive\, Eau Claire
ATTACH;FMTTYPE=image/jpeg:https://chippewavalleyunited.com/wp-content/uploads/2025/11/HIsWarOurKids.jpg
ORGANIZER;CN="Chippewa Valley Indivisible":MAILTO:ojibwavalley@gmail.com
END:VEVENT
BEGIN:VEVENT
DTSTART;TZID=America/Chicago:20260707T180000
DTEND;TZID=America/Chicago:20260707T193000
DTSTAMP:20260423T143642
CREATED:20260330T030203Z
LAST-MODIFIED:20260419T132628Z
UID:10000993-1783447200-1783452600@chippewavalleyunited.com
SUMMARY:CVI Weekly Meeting
DESCRIPTION:Join us every Tuesday at the Market on River in Chippewa Falls for our regular meeting. We will be working on action groups\, the midterms\, election integrity\, and supporting our friends and neighbors. \nRallies and Bridge Brigades have resumed in the cold\, wind\, and ice that is Wisconsin in January. It’s been brisk out there but our message teams are making a stand to inspire\, encourage\, and motivate folks to join our pro-democracy efforts. We hope you will come stand with us! It warms our hearts and makes our toes hurt less.
URL:https://chippewavalleyunited.com/event/cvi-weekly-meeting-2/2026-07-07/
LOCATION:Market on River\, 128 W. River St\, 2nd Floor\, Chippewa Falls\, WI\, 54729\, United States
CATEGORIES:Featured
ATTACH;FMTTYPE=image/avif:https://chippewavalleyunited.com/wp-content/uploads/2025/03/MarketOnRiver_20250305000730447478.jpg.avif
END:VEVENT
BEGIN:VEVENT
DTSTART;TZID=America/Chicago:20260710T150000
DTEND;TZID=America/Chicago:20260710T160000
DTSTAMP:20260423T143642
CREATED:20251123T185239Z
LAST-MODIFIED:20260415T140406Z
UID:10000712-1783695600-1783699200@chippewavalleyunited.com
SUMMARY:Overpass Brigade – Fridays
DESCRIPTION:Join the Overpass Visibility Brigade beginning at 3pm on Mondays to stand for democracy. \nLarge signs will be brought to Tower Drive for these scheduled events. Simply arrive there\, help put up signs\, wave flags and hands to engage the traffic below. \nRemember to stay safe. This is a public space and you have the legal right to be there. At the same time you are reminded to stay on the sidewalks\, not block the path of pedestrians\, not stand in the road\, and make sure you park appropriately. Thank you for standing for democracy!
URL:https://chippewavalleyunited.com/event/overpass-brigade-fridays/2026-07-10/
ATTACH;FMTTYPE=image/jpeg:https://chippewavalleyunited.com/wp-content/uploads/2025/11/WarCrimes.jpg
END:VEVENT
BEGIN:VEVENT
DTSTART;TZID=America/Chicago:20260713T073000
DTEND;TZID=America/Chicago:20260713T083000
DTSTAMP:20260423T143642
CREATED:20251123T185040Z
LAST-MODIFIED:20260415T140502Z
UID:10000654-1783927800-1783931400@chippewavalleyunited.com
SUMMARY:Overpass Brigade – Mondays
DESCRIPTION:Join the Overpass Visibility Brigade beginning as early as 7:30am on Mondays to stand for democracy during drive time. \nLarge signs will be brought to Tower Drive for these scheduled events. Simply arrive there\, help put up signs\, wave flags and hands to engage the traffic below. \nRemember to stay safe. This is a public space and you have the legal right to be there. At the same time you are reminded to stay on the sidewalks\, not block the path of pedestrians\, not stand in the road\, and make sure you park appropriately. Thank you for standing for democracy!
URL:https://chippewavalleyunited.com/event/overpass-brigade-mondays/2026-07-13/
LOCATION:Tower Drive\, Eau Claire
ATTACH;FMTTYPE=image/jpeg:https://chippewavalleyunited.com/wp-content/uploads/2025/11/HIsWarOurKids.jpg
ORGANIZER;CN="Chippewa Valley Indivisible":MAILTO:ojibwavalley@gmail.com
END:VEVENT
BEGIN:VEVENT
DTSTART;TZID=America/Chicago:20260714T180000
DTEND;TZID=America/Chicago:20260714T193000
DTSTAMP:20260423T143642
CREATED:20260330T030203Z
LAST-MODIFIED:20260419T132628Z
UID:10000994-1784052000-1784057400@chippewavalleyunited.com
SUMMARY:CVI Weekly Meeting
DESCRIPTION:Join us every Tuesday at the Market on River in Chippewa Falls for our regular meeting. We will be working on action groups\, the midterms\, election integrity\, and supporting our friends and neighbors. \nRallies and Bridge Brigades have resumed in the cold\, wind\, and ice that is Wisconsin in January. It’s been brisk out there but our message teams are making a stand to inspire\, encourage\, and motivate folks to join our pro-democracy efforts. We hope you will come stand with us! It warms our hearts and makes our toes hurt less.
URL:https://chippewavalleyunited.com/event/cvi-weekly-meeting-2/2026-07-14/
LOCATION:Market on River\, 128 W. River St\, 2nd Floor\, Chippewa Falls\, WI\, 54729\, United States
CATEGORIES:Featured
ATTACH;FMTTYPE=image/avif:https://chippewavalleyunited.com/wp-content/uploads/2025/03/MarketOnRiver_20250305000730447478.jpg.avif
END:VEVENT
BEGIN:VEVENT
DTSTART;TZID=America/Chicago:20260717T150000
DTEND;TZID=America/Chicago:20260717T160000
DTSTAMP:20260423T143642
CREATED:20251123T185239Z
LAST-MODIFIED:20260415T140406Z
UID:10000713-1784300400-1784304000@chippewavalleyunited.com
SUMMARY:Overpass Brigade – Fridays
DESCRIPTION:Join the Overpass Visibility Brigade beginning at 3pm on Mondays to stand for democracy. \nLarge signs will be brought to Tower Drive for these scheduled events. Simply arrive there\, help put up signs\, wave flags and hands to engage the traffic below. \nRemember to stay safe. This is a public space and you have the legal right to be there. At the same time you are reminded to stay on the sidewalks\, not block the path of pedestrians\, not stand in the road\, and make sure you park appropriately. Thank you for standing for democracy!
URL:https://chippewavalleyunited.com/event/overpass-brigade-fridays/2026-07-17/
ATTACH;FMTTYPE=image/jpeg:https://chippewavalleyunited.com/wp-content/uploads/2025/11/WarCrimes.jpg
END:VEVENT
BEGIN:VEVENT
DTSTART;TZID=America/Chicago:20260720T073000
DTEND;TZID=America/Chicago:20260720T083000
DTSTAMP:20260423T143642
CREATED:20251123T185040Z
LAST-MODIFIED:20260415T140502Z
UID:10000655-1784532600-1784536200@chippewavalleyunited.com
SUMMARY:Overpass Brigade – Mondays
DESCRIPTION:Join the Overpass Visibility Brigade beginning as early as 7:30am on Mondays to stand for democracy during drive time. \nLarge signs will be brought to Tower Drive for these scheduled events. Simply arrive there\, help put up signs\, wave flags and hands to engage the traffic below. \nRemember to stay safe. This is a public space and you have the legal right to be there. At the same time you are reminded to stay on the sidewalks\, not block the path of pedestrians\, not stand in the road\, and make sure you park appropriately. Thank you for standing for democracy!
URL:https://chippewavalleyunited.com/event/overpass-brigade-mondays/2026-07-20/
LOCATION:Tower Drive\, Eau Claire
ATTACH;FMTTYPE=image/jpeg:https://chippewavalleyunited.com/wp-content/uploads/2025/11/HIsWarOurKids.jpg
ORGANIZER;CN="Chippewa Valley Indivisible":MAILTO:ojibwavalley@gmail.com
END:VEVENT
BEGIN:VEVENT
DTSTART;TZID=America/Chicago:20260721T180000
DTEND;TZID=America/Chicago:20260721T193000
DTSTAMP:20260423T143642
CREATED:20260330T030203Z
LAST-MODIFIED:20260419T132628Z
UID:10000995-1784656800-1784662200@chippewavalleyunited.com
SUMMARY:CVI Weekly Meeting
DESCRIPTION:Join us every Tuesday at the Market on River in Chippewa Falls for our regular meeting. We will be working on action groups\, the midterms\, election integrity\, and supporting our friends and neighbors. \nRallies and Bridge Brigades have resumed in the cold\, wind\, and ice that is Wisconsin in January. It’s been brisk out there but our message teams are making a stand to inspire\, encourage\, and motivate folks to join our pro-democracy efforts. We hope you will come stand with us! It warms our hearts and makes our toes hurt less.
URL:https://chippewavalleyunited.com/event/cvi-weekly-meeting-2/2026-07-21/
LOCATION:Market on River\, 128 W. River St\, 2nd Floor\, Chippewa Falls\, WI\, 54729\, United States
CATEGORIES:Featured
ATTACH;FMTTYPE=image/avif:https://chippewavalleyunited.com/wp-content/uploads/2025/03/MarketOnRiver_20250305000730447478.jpg.avif
END:VEVENT
BEGIN:VEVENT
DTSTART;TZID=America/Chicago:20260724T150000
DTEND;TZID=America/Chicago:20260724T160000
DTSTAMP:20260423T143642
CREATED:20251123T185239Z
LAST-MODIFIED:20260415T140406Z
UID:10000714-1784905200-1784908800@chippewavalleyunited.com
SUMMARY:Overpass Brigade – Fridays
DESCRIPTION:Join the Overpass Visibility Brigade beginning at 3pm on Mondays to stand for democracy. \nLarge signs will be brought to Tower Drive for these scheduled events. Simply arrive there\, help put up signs\, wave flags and hands to engage the traffic below. \nRemember to stay safe. This is a public space and you have the legal right to be there. At the same time you are reminded to stay on the sidewalks\, not block the path of pedestrians\, not stand in the road\, and make sure you park appropriately. Thank you for standing for democracy!
URL:https://chippewavalleyunited.com/event/overpass-brigade-fridays/2026-07-24/
ATTACH;FMTTYPE=image/jpeg:https://chippewavalleyunited.com/wp-content/uploads/2025/11/WarCrimes.jpg
END:VEVENT
BEGIN:VEVENT
DTSTART;TZID=America/Chicago:20260727T073000
DTEND;TZID=America/Chicago:20260727T083000
DTSTAMP:20260423T143642
CREATED:20251123T185040Z
LAST-MODIFIED:20260415T140502Z
UID:10000656-1785137400-1785141000@chippewavalleyunited.com
SUMMARY:Overpass Brigade – Mondays
DESCRIPTION:Join the Overpass Visibility Brigade beginning as early as 7:30am on Mondays to stand for democracy during drive time. \nLarge signs will be brought to Tower Drive for these scheduled events. Simply arrive there\, help put up signs\, wave flags and hands to engage the traffic below. \nRemember to stay safe. This is a public space and you have the legal right to be there. At the same time you are reminded to stay on the sidewalks\, not block the path of pedestrians\, not stand in the road\, and make sure you park appropriately. Thank you for standing for democracy!
URL:https://chippewavalleyunited.com/event/overpass-brigade-mondays/2026-07-27/
LOCATION:Tower Drive\, Eau Claire
ATTACH;FMTTYPE=image/jpeg:https://chippewavalleyunited.com/wp-content/uploads/2025/11/HIsWarOurKids.jpg
ORGANIZER;CN="Chippewa Valley Indivisible":MAILTO:ojibwavalley@gmail.com
END:VEVENT
BEGIN:VEVENT
DTSTART;TZID=America/Chicago:20260728T180000
DTEND;TZID=America/Chicago:20260728T193000
DTSTAMP:20260423T143642
CREATED:20260330T030203Z
LAST-MODIFIED:20260419T132628Z
UID:10000996-1785261600-1785267000@chippewavalleyunited.com
SUMMARY:CVI Weekly Meeting
DESCRIPTION:Join us every Tuesday at the Market on River in Chippewa Falls for our regular meeting. We will be working on action groups\, the midterms\, election integrity\, and supporting our friends and neighbors. \nRallies and Bridge Brigades have resumed in the cold\, wind\, and ice that is Wisconsin in January. It’s been brisk out there but our message teams are making a stand to inspire\, encourage\, and motivate folks to join our pro-democracy efforts. We hope you will come stand with us! It warms our hearts and makes our toes hurt less.
URL:https://chippewavalleyunited.com/event/cvi-weekly-meeting-2/2026-07-28/
LOCATION:Market on River\, 128 W. River St\, 2nd Floor\, Chippewa Falls\, WI\, 54729\, United States
CATEGORIES:Featured
ATTACH;FMTTYPE=image/avif:https://chippewavalleyunited.com/wp-content/uploads/2025/03/MarketOnRiver_20250305000730447478.jpg.avif
END:VEVENT
BEGIN:VEVENT
DTSTART;TZID=America/Chicago:20260731T150000
DTEND;TZID=America/Chicago:20260731T160000
DTSTAMP:20260423T143642
CREATED:20251123T185239Z
LAST-MODIFIED:20260415T140406Z
UID:10000715-1785510000-1785513600@chippewavalleyunited.com
SUMMARY:Overpass Brigade – Fridays
DESCRIPTION:Join the Overpass Visibility Brigade beginning at 3pm on Mondays to stand for democracy. \nLarge signs will be brought to Tower Drive for these scheduled events. Simply arrive there\, help put up signs\, wave flags and hands to engage the traffic below. \nRemember to stay safe. This is a public space and you have the legal right to be there. At the same time you are reminded to stay on the sidewalks\, not block the path of pedestrians\, not stand in the road\, and make sure you park appropriately. Thank you for standing for democracy!
URL:https://chippewavalleyunited.com/event/overpass-brigade-fridays/2026-07-31/
ATTACH;FMTTYPE=image/jpeg:https://chippewavalleyunited.com/wp-content/uploads/2025/11/WarCrimes.jpg
END:VEVENT
END:VCALENDAR