BEGIN:VCALENDAR
VERSION:2.0
PRODID:-//Chippewa Valley Indivisible - ECPv6.15.20//NONSGML v1.0//EN
CALSCALE:GREGORIAN
METHOD:PUBLISH
X-WR-CALNAME:Chippewa Valley Indivisible
X-ORIGINAL-URL:https://chippewavalleyunited.com
X-WR-CALDESC:Events for Chippewa Valley Indivisible
REFRESH-INTERVAL;VALUE=DURATION:PT1H
X-Robots-Tag:noindex
X-PUBLISHED-TTL:PT1H
BEGIN:VTIMEZONE
TZID:America/Chicago
BEGIN:DAYLIGHT
TZOFFSETFROM:-0600
TZOFFSETTO:-0500
TZNAME:CDT
DTSTART:20250309T080000
END:DAYLIGHT
BEGIN:STANDARD
TZOFFSETFROM:-0500
TZOFFSETTO:-0600
TZNAME:CST
DTSTART:20251102T070000
END:STANDARD
BEGIN:DAYLIGHT
TZOFFSETFROM:-0600
TZOFFSETTO:-0500
TZNAME:CDT
DTSTART:20260308T080000
END:DAYLIGHT
BEGIN:STANDARD
TZOFFSETFROM:-0500
TZOFFSETTO:-0600
TZNAME:CST
DTSTART:20261101T070000
END:STANDARD
BEGIN:DAYLIGHT
TZOFFSETFROM:-0600
TZOFFSETTO:-0500
TZNAME:CDT
DTSTART:20270314T080000
END:DAYLIGHT
BEGIN:STANDARD
TZOFFSETFROM:-0500
TZOFFSETTO:-0600
TZNAME:CST
DTSTART:20271107T070000
END:STANDARD
END:VTIMEZONE
BEGIN:VEVENT
DTSTART;TZID=America/Chicago:20261201T180000
DTEND;TZID=America/Chicago:20261201T193000
DTSTAMP:20260423T205931
CREATED:20260330T030203Z
LAST-MODIFIED:20260419T132628Z
UID:10001014-1796148000-1796153400@chippewavalleyunited.com
SUMMARY:CVI Weekly Meeting
DESCRIPTION:Join us every Tuesday at the Market on River in Chippewa Falls for our regular meeting. We will be working on action groups\, the midterms\, election integrity\, and supporting our friends and neighbors. \nRallies and Bridge Brigades have resumed in the cold\, wind\, and ice that is Wisconsin in January. It’s been brisk out there but our message teams are making a stand to inspire\, encourage\, and motivate folks to join our pro-democracy efforts. We hope you will come stand with us! It warms our hearts and makes our toes hurt less.
URL:https://chippewavalleyunited.com/event/cvi-weekly-meeting-2/2026-12-01/
LOCATION:Market on River\, 128 W. River St\, 2nd Floor\, Chippewa Falls\, WI\, 54729\, United States
CATEGORIES:Featured
ATTACH;FMTTYPE=image/avif:https://chippewavalleyunited.com/wp-content/uploads/2025/03/MarketOnRiver_20250305000730447478.jpg.avif
END:VEVENT
BEGIN:VEVENT
DTSTART;TZID=America/Chicago:20261204T150000
DTEND;TZID=America/Chicago:20261204T160000
DTSTAMP:20260423T205931
CREATED:20251123T185239Z
LAST-MODIFIED:20260415T140406Z
UID:10000733-1796396400-1796400000@chippewavalleyunited.com
SUMMARY:Overpass Brigade – Fridays
DESCRIPTION:Join the Overpass Visibility Brigade beginning at 3pm on Mondays to stand for democracy. \nLarge signs will be brought to Tower Drive for these scheduled events. Simply arrive there\, help put up signs\, wave flags and hands to engage the traffic below. \nRemember to stay safe. This is a public space and you have the legal right to be there. At the same time you are reminded to stay on the sidewalks\, not block the path of pedestrians\, not stand in the road\, and make sure you park appropriately. Thank you for standing for democracy!
URL:https://chippewavalleyunited.com/event/overpass-brigade-fridays/2026-12-04/
ATTACH;FMTTYPE=image/jpeg:https://chippewavalleyunited.com/wp-content/uploads/2025/11/WarCrimes.jpg
END:VEVENT
BEGIN:VEVENT
DTSTART;TZID=America/Chicago:20261207T073000
DTEND;TZID=America/Chicago:20261207T083000
DTSTAMP:20260423T205931
CREATED:20251123T185040Z
LAST-MODIFIED:20260415T140502Z
UID:10000675-1796628600-1796632200@chippewavalleyunited.com
SUMMARY:Overpass Brigade – Mondays
DESCRIPTION:Join the Overpass Visibility Brigade beginning as early as 7:30am on Mondays to stand for democracy during drive time. \nLarge signs will be brought to Tower Drive for these scheduled events. Simply arrive there\, help put up signs\, wave flags and hands to engage the traffic below. \nRemember to stay safe. This is a public space and you have the legal right to be there. At the same time you are reminded to stay on the sidewalks\, not block the path of pedestrians\, not stand in the road\, and make sure you park appropriately. Thank you for standing for democracy!
URL:https://chippewavalleyunited.com/event/overpass-brigade-mondays/2026-12-07/
LOCATION:Tower Drive\, Eau Claire
ATTACH;FMTTYPE=image/jpeg:https://chippewavalleyunited.com/wp-content/uploads/2025/11/HIsWarOurKids.jpg
ORGANIZER;CN="Chippewa Valley Indivisible":MAILTO:ojibwavalley@gmail.com
END:VEVENT
BEGIN:VEVENT
DTSTART;TZID=America/Chicago:20261208T180000
DTEND;TZID=America/Chicago:20261208T193000
DTSTAMP:20260423T205931
CREATED:20260330T030203Z
LAST-MODIFIED:20260419T132628Z
UID:10001015-1796752800-1796758200@chippewavalleyunited.com
SUMMARY:CVI Weekly Meeting
DESCRIPTION:Join us every Tuesday at the Market on River in Chippewa Falls for our regular meeting. We will be working on action groups\, the midterms\, election integrity\, and supporting our friends and neighbors. \nRallies and Bridge Brigades have resumed in the cold\, wind\, and ice that is Wisconsin in January. It’s been brisk out there but our message teams are making a stand to inspire\, encourage\, and motivate folks to join our pro-democracy efforts. We hope you will come stand with us! It warms our hearts and makes our toes hurt less.
URL:https://chippewavalleyunited.com/event/cvi-weekly-meeting-2/2026-12-08/
LOCATION:Market on River\, 128 W. River St\, 2nd Floor\, Chippewa Falls\, WI\, 54729\, United States
CATEGORIES:Featured
ATTACH;FMTTYPE=image/avif:https://chippewavalleyunited.com/wp-content/uploads/2025/03/MarketOnRiver_20250305000730447478.jpg.avif
END:VEVENT
BEGIN:VEVENT
DTSTART;TZID=America/Chicago:20261211T150000
DTEND;TZID=America/Chicago:20261211T160000
DTSTAMP:20260423T205931
CREATED:20251123T185239Z
LAST-MODIFIED:20260415T140406Z
UID:10000734-1797001200-1797004800@chippewavalleyunited.com
SUMMARY:Overpass Brigade – Fridays
DESCRIPTION:Join the Overpass Visibility Brigade beginning at 3pm on Mondays to stand for democracy. \nLarge signs will be brought to Tower Drive for these scheduled events. Simply arrive there\, help put up signs\, wave flags and hands to engage the traffic below. \nRemember to stay safe. This is a public space and you have the legal right to be there. At the same time you are reminded to stay on the sidewalks\, not block the path of pedestrians\, not stand in the road\, and make sure you park appropriately. Thank you for standing for democracy!
URL:https://chippewavalleyunited.com/event/overpass-brigade-fridays/2026-12-11/
ATTACH;FMTTYPE=image/jpeg:https://chippewavalleyunited.com/wp-content/uploads/2025/11/WarCrimes.jpg
END:VEVENT
BEGIN:VEVENT
DTSTART;TZID=America/Chicago:20261214T073000
DTEND;TZID=America/Chicago:20261214T083000
DTSTAMP:20260423T205931
CREATED:20251123T185040Z
LAST-MODIFIED:20260415T140502Z
UID:10000676-1797233400-1797237000@chippewavalleyunited.com
SUMMARY:Overpass Brigade – Mondays
DESCRIPTION:Join the Overpass Visibility Brigade beginning as early as 7:30am on Mondays to stand for democracy during drive time. \nLarge signs will be brought to Tower Drive for these scheduled events. Simply arrive there\, help put up signs\, wave flags and hands to engage the traffic below. \nRemember to stay safe. This is a public space and you have the legal right to be there. At the same time you are reminded to stay on the sidewalks\, not block the path of pedestrians\, not stand in the road\, and make sure you park appropriately. Thank you for standing for democracy!
URL:https://chippewavalleyunited.com/event/overpass-brigade-mondays/2026-12-14/
LOCATION:Tower Drive\, Eau Claire
ATTACH;FMTTYPE=image/jpeg:https://chippewavalleyunited.com/wp-content/uploads/2025/11/HIsWarOurKids.jpg
ORGANIZER;CN="Chippewa Valley Indivisible":MAILTO:ojibwavalley@gmail.com
END:VEVENT
BEGIN:VEVENT
DTSTART;TZID=America/Chicago:20261215T180000
DTEND;TZID=America/Chicago:20261215T193000
DTSTAMP:20260423T205931
CREATED:20260330T030203Z
LAST-MODIFIED:20260419T132628Z
UID:10001016-1797357600-1797363000@chippewavalleyunited.com
SUMMARY:CVI Weekly Meeting
DESCRIPTION:Join us every Tuesday at the Market on River in Chippewa Falls for our regular meeting. We will be working on action groups\, the midterms\, election integrity\, and supporting our friends and neighbors. \nRallies and Bridge Brigades have resumed in the cold\, wind\, and ice that is Wisconsin in January. It’s been brisk out there but our message teams are making a stand to inspire\, encourage\, and motivate folks to join our pro-democracy efforts. We hope you will come stand with us! It warms our hearts and makes our toes hurt less.
URL:https://chippewavalleyunited.com/event/cvi-weekly-meeting-2/2026-12-15/
LOCATION:Market on River\, 128 W. River St\, 2nd Floor\, Chippewa Falls\, WI\, 54729\, United States
CATEGORIES:Featured
ATTACH;FMTTYPE=image/avif:https://chippewavalleyunited.com/wp-content/uploads/2025/03/MarketOnRiver_20250305000730447478.jpg.avif
END:VEVENT
BEGIN:VEVENT
DTSTART;TZID=America/Chicago:20261218T150000
DTEND;TZID=America/Chicago:20261218T160000
DTSTAMP:20260423T205931
CREATED:20251123T185239Z
LAST-MODIFIED:20260415T140406Z
UID:10000735-1797606000-1797609600@chippewavalleyunited.com
SUMMARY:Overpass Brigade – Fridays
DESCRIPTION:Join the Overpass Visibility Brigade beginning at 3pm on Mondays to stand for democracy. \nLarge signs will be brought to Tower Drive for these scheduled events. Simply arrive there\, help put up signs\, wave flags and hands to engage the traffic below. \nRemember to stay safe. This is a public space and you have the legal right to be there. At the same time you are reminded to stay on the sidewalks\, not block the path of pedestrians\, not stand in the road\, and make sure you park appropriately. Thank you for standing for democracy!
URL:https://chippewavalleyunited.com/event/overpass-brigade-fridays/2026-12-18/
ATTACH;FMTTYPE=image/jpeg:https://chippewavalleyunited.com/wp-content/uploads/2025/11/WarCrimes.jpg
END:VEVENT
BEGIN:VEVENT
DTSTART;TZID=America/Chicago:20261221T073000
DTEND;TZID=America/Chicago:20261221T083000
DTSTAMP:20260423T205931
CREATED:20251123T185040Z
LAST-MODIFIED:20260415T140502Z
UID:10000677-1797838200-1797841800@chippewavalleyunited.com
SUMMARY:Overpass Brigade – Mondays
DESCRIPTION:Join the Overpass Visibility Brigade beginning as early as 7:30am on Mondays to stand for democracy during drive time. \nLarge signs will be brought to Tower Drive for these scheduled events. Simply arrive there\, help put up signs\, wave flags and hands to engage the traffic below. \nRemember to stay safe. This is a public space and you have the legal right to be there. At the same time you are reminded to stay on the sidewalks\, not block the path of pedestrians\, not stand in the road\, and make sure you park appropriately. Thank you for standing for democracy!
URL:https://chippewavalleyunited.com/event/overpass-brigade-mondays/2026-12-21/
LOCATION:Tower Drive\, Eau Claire
ATTACH;FMTTYPE=image/jpeg:https://chippewavalleyunited.com/wp-content/uploads/2025/11/HIsWarOurKids.jpg
ORGANIZER;CN="Chippewa Valley Indivisible":MAILTO:ojibwavalley@gmail.com
END:VEVENT
BEGIN:VEVENT
DTSTART;TZID=America/Chicago:20261222T180000
DTEND;TZID=America/Chicago:20261222T193000
DTSTAMP:20260423T205931
CREATED:20260330T030203Z
LAST-MODIFIED:20260419T132628Z
UID:10001017-1797962400-1797967800@chippewavalleyunited.com
SUMMARY:CVI Weekly Meeting
DESCRIPTION:Join us every Tuesday at the Market on River in Chippewa Falls for our regular meeting. We will be working on action groups\, the midterms\, election integrity\, and supporting our friends and neighbors. \nRallies and Bridge Brigades have resumed in the cold\, wind\, and ice that is Wisconsin in January. It’s been brisk out there but our message teams are making a stand to inspire\, encourage\, and motivate folks to join our pro-democracy efforts. We hope you will come stand with us! It warms our hearts and makes our toes hurt less.
URL:https://chippewavalleyunited.com/event/cvi-weekly-meeting-2/2026-12-22/
LOCATION:Market on River\, 128 W. River St\, 2nd Floor\, Chippewa Falls\, WI\, 54729\, United States
CATEGORIES:Featured
ATTACH;FMTTYPE=image/avif:https://chippewavalleyunited.com/wp-content/uploads/2025/03/MarketOnRiver_20250305000730447478.jpg.avif
END:VEVENT
BEGIN:VEVENT
DTSTART;TZID=America/Chicago:20261228T073000
DTEND;TZID=America/Chicago:20261228T083000
DTSTAMP:20260423T205931
CREATED:20251123T185040Z
LAST-MODIFIED:20260415T140502Z
UID:10000678-1798443000-1798446600@chippewavalleyunited.com
SUMMARY:Overpass Brigade – Mondays
DESCRIPTION:Join the Overpass Visibility Brigade beginning as early as 7:30am on Mondays to stand for democracy during drive time. \nLarge signs will be brought to Tower Drive for these scheduled events. Simply arrive there\, help put up signs\, wave flags and hands to engage the traffic below. \nRemember to stay safe. This is a public space and you have the legal right to be there. At the same time you are reminded to stay on the sidewalks\, not block the path of pedestrians\, not stand in the road\, and make sure you park appropriately. Thank you for standing for democracy!
URL:https://chippewavalleyunited.com/event/overpass-brigade-mondays/2026-12-28/
LOCATION:Tower Drive\, Eau Claire
ATTACH;FMTTYPE=image/jpeg:https://chippewavalleyunited.com/wp-content/uploads/2025/11/HIsWarOurKids.jpg
ORGANIZER;CN="Chippewa Valley Indivisible":MAILTO:ojibwavalley@gmail.com
END:VEVENT
BEGIN:VEVENT
DTSTART;TZID=America/Chicago:20261229T180000
DTEND;TZID=America/Chicago:20261229T193000
DTSTAMP:20260423T205931
CREATED:20260330T030203Z
LAST-MODIFIED:20260419T132628Z
UID:10001018-1798567200-1798572600@chippewavalleyunited.com
SUMMARY:CVI Weekly Meeting
DESCRIPTION:Join us every Tuesday at the Market on River in Chippewa Falls for our regular meeting. We will be working on action groups\, the midterms\, election integrity\, and supporting our friends and neighbors. \nRallies and Bridge Brigades have resumed in the cold\, wind\, and ice that is Wisconsin in January. It’s been brisk out there but our message teams are making a stand to inspire\, encourage\, and motivate folks to join our pro-democracy efforts. We hope you will come stand with us! It warms our hearts and makes our toes hurt less.
URL:https://chippewavalleyunited.com/event/cvi-weekly-meeting-2/2026-12-29/
LOCATION:Market on River\, 128 W. River St\, 2nd Floor\, Chippewa Falls\, WI\, 54729\, United States
CATEGORIES:Featured
ATTACH;FMTTYPE=image/avif:https://chippewavalleyunited.com/wp-content/uploads/2025/03/MarketOnRiver_20250305000730447478.jpg.avif
END:VEVENT
END:VCALENDAR