BEGIN:VCALENDAR
VERSION:2.0
PRODID:-//Chippewa Valley Indivisible - ECPv6.15.20//NONSGML v1.0//EN
CALSCALE:GREGORIAN
METHOD:PUBLISH
X-ORIGINAL-URL:https://chippewavalleyunited.com
X-WR-CALDESC:Events for Chippewa Valley Indivisible
REFRESH-INTERVAL;VALUE=DURATION:PT1H
X-Robots-Tag:noindex
X-PUBLISHED-TTL:PT1H
BEGIN:VTIMEZONE
TZID:America/Chicago
BEGIN:DAYLIGHT
TZOFFSETFROM:-0600
TZOFFSETTO:-0500
TZNAME:CDT
DTSTART:20240310T080000
END:DAYLIGHT
BEGIN:STANDARD
TZOFFSETFROM:-0500
TZOFFSETTO:-0600
TZNAME:CST
DTSTART:20241103T070000
END:STANDARD
BEGIN:DAYLIGHT
TZOFFSETFROM:-0600
TZOFFSETTO:-0500
TZNAME:CDT
DTSTART:20250309T080000
END:DAYLIGHT
BEGIN:STANDARD
TZOFFSETFROM:-0500
TZOFFSETTO:-0600
TZNAME:CST
DTSTART:20251102T070000
END:STANDARD
BEGIN:DAYLIGHT
TZOFFSETFROM:-0600
TZOFFSETTO:-0500
TZNAME:CDT
DTSTART:20260308T080000
END:DAYLIGHT
BEGIN:STANDARD
TZOFFSETFROM:-0500
TZOFFSETTO:-0600
TZNAME:CST
DTSTART:20261101T070000
END:STANDARD
END:VTIMEZONE
BEGIN:VEVENT
DTSTART;TZID=America/Chicago:20250515T160000
DTEND;TZID=America/Chicago:20250515T173000
DTSTAMP:20260423T211705
CREATED:20250514T021029Z
LAST-MODIFIED:20250514T021029Z
UID:10000351-1747324800-1747330200@chippewavalleyunited.com
SUMMARY:Justice for Justice Dugan
DESCRIPTION:Rally for Justice Hannah Dugan. The Justice for Justice Rally is a show of support for Justice Dugan since there will be a judicial hearing on Thursday\, May 15 regarding her arrest by the DOJ on April 25 because of the Eduardo Flores-Ruiz hearing on the 18th. \nJustice is one of the four pillars of democracy! It is critical that we protect and defend justice … especially with the attack coming right here in the state of Wisconsin!
URL:https://chippewavalleyunited.com/event/justice-for-justice-dugan/
LOCATION:Eau Claire County Courthouse\, 721 Oxford\, WI\, 54703\, United States
CATEGORIES:Featured
ATTACH;FMTTYPE=image/jpeg:https://chippewavalleyunited.com/wp-content/uploads/2025/05/JusticeForJustice.jpg
END:VEVENT
END:VCALENDAR