BEGIN:VCALENDAR
VERSION:2.0
PRODID:-//Chippewa Valley Indivisible - ECPv6.15.20//NONSGML v1.0//EN
CALSCALE:GREGORIAN
METHOD:PUBLISH
X-ORIGINAL-URL:https://chippewavalleyunited.com
X-WR-CALDESC:Events for Chippewa Valley Indivisible
REFRESH-INTERVAL;VALUE=DURATION:PT1H
X-Robots-Tag:noindex
X-PUBLISHED-TTL:PT1H
BEGIN:VTIMEZONE
TZID:America/Chicago
BEGIN:DAYLIGHT
TZOFFSETFROM:-0600
TZOFFSETTO:-0500
TZNAME:CDT
DTSTART:20240310T080000
END:DAYLIGHT
BEGIN:STANDARD
TZOFFSETFROM:-0500
TZOFFSETTO:-0600
TZNAME:CST
DTSTART:20241103T070000
END:STANDARD
BEGIN:DAYLIGHT
TZOFFSETFROM:-0600
TZOFFSETTO:-0500
TZNAME:CDT
DTSTART:20250309T080000
END:DAYLIGHT
BEGIN:STANDARD
TZOFFSETFROM:-0500
TZOFFSETTO:-0600
TZNAME:CST
DTSTART:20251102T070000
END:STANDARD
BEGIN:DAYLIGHT
TZOFFSETFROM:-0600
TZOFFSETTO:-0500
TZNAME:CDT
DTSTART:20260308T080000
END:DAYLIGHT
BEGIN:STANDARD
TZOFFSETFROM:-0500
TZOFFSETTO:-0600
TZNAME:CST
DTSTART:20261101T070000
END:STANDARD
END:VTIMEZONE
BEGIN:VEVENT
DTSTART;TZID=America/Chicago:20251213T160000
DTEND;TZID=America/Chicago:20251213T173000
DTSTAMP:20260423T184922
CREATED:20251111T230111Z
LAST-MODIFIED:20251112T000841Z
UID:10000524-1765641600-1765647000@chippewavalleyunited.com
SUMMARY:Weekly Meeting – Eau Claire
DESCRIPTION:Come be the change you want to see! Join the weekly meeting! For the month of November\, we continue meeting alternating weeks in in Chippewa Falls and Eau Claire. We will not meet Thanksgiving weekend\, of course. \nSat\, Nov 15\, Dec 13 – 4:00pm\, Grace Lutheran Church\, 202 W. Grand Ave\, Eau Claire \nSat\, Nov 22\, and Dec 6 – 4:00pm\, Chippewa\, String Theory Studio\, 116 N. Bridge St\, Chippewa Falls \nThe CVI meetings focus on our mission to defend\, preserve\, protect\, and strengthen our democracy. These meetings focus on the ACTIONS to support our awareness efforts (rallies\, visibility brigade\, pop up protests\, No Kings rallies)\, shaping the narrative goals (inclusive\, positive messaging with congruent actions)\, and deep commitment to building a better path forward for ALL of the people who call the Chippewa Valley.
URL:https://chippewavalleyunited.com/event/weekly-meeting-eau-claire-2/2025-12-13/
LOCATION:Grace Lutheran Church\, 202 W. Grand Ave\, Eau Claire\, WI\, 54701\, United States
CATEGORIES:Featured
ATTACH;FMTTYPE=image/jpeg:https://chippewavalleyunited.com/wp-content/uploads/2025/11/GraceLutheran.jpg
END:VEVENT
BEGIN:VEVENT
DTSTART;TZID=America/Chicago:20251115T160000
DTEND;TZID=America/Chicago:20251115T173000
DTSTAMP:20260423T184922
CREATED:20251111T230111Z
LAST-MODIFIED:20251112T000841Z
UID:10000523-1763222400-1763227800@chippewavalleyunited.com
SUMMARY:Weekly Meeting – Eau Claire
DESCRIPTION:Come be the change you want to see! Join the weekly meeting! For the month of November\, we continue meeting alternating weeks in in Chippewa Falls and Eau Claire. We will not meet Thanksgiving weekend\, of course. \nSat\, Nov 15\, Dec 13 – 4:00pm\, Grace Lutheran Church\, 202 W. Grand Ave\, Eau Claire \nSat\, Nov 22\, and Dec 6 – 4:00pm\, Chippewa\, String Theory Studio\, 116 N. Bridge St\, Chippewa Falls \nThe CVI meetings focus on our mission to defend\, preserve\, protect\, and strengthen our democracy. These meetings focus on the ACTIONS to support our awareness efforts (rallies\, visibility brigade\, pop up protests\, No Kings rallies)\, shaping the narrative goals (inclusive\, positive messaging with congruent actions)\, and deep commitment to building a better path forward for ALL of the people who call the Chippewa Valley.
URL:https://chippewavalleyunited.com/event/weekly-meeting-eau-claire-2/2025-11-15/
LOCATION:Grace Lutheran Church\, 202 W. Grand Ave\, Eau Claire\, WI\, 54701\, United States
CATEGORIES:Featured
ATTACH;FMTTYPE=image/jpeg:https://chippewavalleyunited.com/wp-content/uploads/2025/11/GraceLutheran.jpg
END:VEVENT
END:VCALENDAR