BEGIN:VCALENDAR
VERSION:2.0
PRODID:-//Chippewa Valley Indivisible - ECPv6.15.20//NONSGML v1.0//EN
CALSCALE:GREGORIAN
METHOD:PUBLISH
X-WR-CALNAME:Chippewa Valley Indivisible
X-ORIGINAL-URL:https://chippewavalleyunited.com
X-WR-CALDESC:Events for Chippewa Valley Indivisible
REFRESH-INTERVAL;VALUE=DURATION:PT1H
X-Robots-Tag:noindex
X-PUBLISHED-TTL:PT1H
BEGIN:VTIMEZONE
TZID:America/Chicago
BEGIN:DAYLIGHT
TZOFFSETFROM:-0600
TZOFFSETTO:-0500
TZNAME:CDT
DTSTART:20260308T080000
END:DAYLIGHT
BEGIN:STANDARD
TZOFFSETFROM:-0500
TZOFFSETTO:-0600
TZNAME:CST
DTSTART:20261101T070000
END:STANDARD
BEGIN:DAYLIGHT
TZOFFSETFROM:-0600
TZOFFSETTO:-0500
TZNAME:CDT
DTSTART:20270314T080000
END:DAYLIGHT
BEGIN:STANDARD
TZOFFSETFROM:-0500
TZOFFSETTO:-0600
TZNAME:CST
DTSTART:20271107T070000
END:STANDARD
BEGIN:DAYLIGHT
TZOFFSETFROM:-0600
TZOFFSETTO:-0500
TZNAME:CDT
DTSTART:20280312T080000
END:DAYLIGHT
BEGIN:STANDARD
TZOFFSETFROM:-0500
TZOFFSETTO:-0600
TZNAME:CST
DTSTART:20281105T070000
END:STANDARD
END:VTIMEZONE
BEGIN:VEVENT
DTSTART;TZID=America/Chicago:20270105T180000
DTEND;TZID=America/Chicago:20270105T193000
DTSTAMP:20260423T132453
CREATED:20260330T030203Z
LAST-MODIFIED:20260419T132628Z
UID:10001019-1799172000-1799177400@chippewavalleyunited.com
SUMMARY:CVI Weekly Meeting
DESCRIPTION:Join us every Tuesday at the Market on River in Chippewa Falls for our regular meeting. We will be working on action groups\, the midterms\, election integrity\, and supporting our friends and neighbors. \nRallies and Bridge Brigades have resumed in the cold\, wind\, and ice that is Wisconsin in January. It’s been brisk out there but our message teams are making a stand to inspire\, encourage\, and motivate folks to join our pro-democracy efforts. We hope you will come stand with us! It warms our hearts and makes our toes hurt less.
URL:https://chippewavalleyunited.com/event/cvi-weekly-meeting-2/2027-01-05/
LOCATION:Market on River\, 128 W. River St\, 2nd Floor\, Chippewa Falls\, WI\, 54729\, United States
CATEGORIES:Featured
ATTACH;FMTTYPE=image/avif:https://chippewavalleyunited.com/wp-content/uploads/2025/03/MarketOnRiver_20250305000730447478.jpg.avif
END:VEVENT
BEGIN:VEVENT
DTSTART;TZID=America/Chicago:20270112T180000
DTEND;TZID=America/Chicago:20270112T193000
DTSTAMP:20260423T132453
CREATED:20260330T030203Z
LAST-MODIFIED:20260419T132628Z
UID:10001020-1799776800-1799782200@chippewavalleyunited.com
SUMMARY:CVI Weekly Meeting
DESCRIPTION:Join us every Tuesday at the Market on River in Chippewa Falls for our regular meeting. We will be working on action groups\, the midterms\, election integrity\, and supporting our friends and neighbors. \nRallies and Bridge Brigades have resumed in the cold\, wind\, and ice that is Wisconsin in January. It’s been brisk out there but our message teams are making a stand to inspire\, encourage\, and motivate folks to join our pro-democracy efforts. We hope you will come stand with us! It warms our hearts and makes our toes hurt less.
URL:https://chippewavalleyunited.com/event/cvi-weekly-meeting-2/2027-01-12/
LOCATION:Market on River\, 128 W. River St\, 2nd Floor\, Chippewa Falls\, WI\, 54729\, United States
CATEGORIES:Featured
ATTACH;FMTTYPE=image/avif:https://chippewavalleyunited.com/wp-content/uploads/2025/03/MarketOnRiver_20250305000730447478.jpg.avif
END:VEVENT
BEGIN:VEVENT
DTSTART;TZID=America/Chicago:20270119T180000
DTEND;TZID=America/Chicago:20270119T193000
DTSTAMP:20260423T132453
CREATED:20260330T030203Z
LAST-MODIFIED:20260419T132628Z
UID:10001021-1800381600-1800387000@chippewavalleyunited.com
SUMMARY:CVI Weekly Meeting
DESCRIPTION:Join us every Tuesday at the Market on River in Chippewa Falls for our regular meeting. We will be working on action groups\, the midterms\, election integrity\, and supporting our friends and neighbors. \nRallies and Bridge Brigades have resumed in the cold\, wind\, and ice that is Wisconsin in January. It’s been brisk out there but our message teams are making a stand to inspire\, encourage\, and motivate folks to join our pro-democracy efforts. We hope you will come stand with us! It warms our hearts and makes our toes hurt less.
URL:https://chippewavalleyunited.com/event/cvi-weekly-meeting-2/2027-01-19/
LOCATION:Market on River\, 128 W. River St\, 2nd Floor\, Chippewa Falls\, WI\, 54729\, United States
CATEGORIES:Featured
ATTACH;FMTTYPE=image/avif:https://chippewavalleyunited.com/wp-content/uploads/2025/03/MarketOnRiver_20250305000730447478.jpg.avif
END:VEVENT
BEGIN:VEVENT
DTSTART;TZID=America/Chicago:20270126T180000
DTEND;TZID=America/Chicago:20270126T193000
DTSTAMP:20260423T132453
CREATED:20260330T030203Z
LAST-MODIFIED:20260419T132628Z
UID:10001022-1800986400-1800991800@chippewavalleyunited.com
SUMMARY:CVI Weekly Meeting
DESCRIPTION:Join us every Tuesday at the Market on River in Chippewa Falls for our regular meeting. We will be working on action groups\, the midterms\, election integrity\, and supporting our friends and neighbors. \nRallies and Bridge Brigades have resumed in the cold\, wind\, and ice that is Wisconsin in January. It’s been brisk out there but our message teams are making a stand to inspire\, encourage\, and motivate folks to join our pro-democracy efforts. We hope you will come stand with us! It warms our hearts and makes our toes hurt less.
URL:https://chippewavalleyunited.com/event/cvi-weekly-meeting-2/2027-01-26/
LOCATION:Market on River\, 128 W. River St\, 2nd Floor\, Chippewa Falls\, WI\, 54729\, United States
CATEGORIES:Featured
ATTACH;FMTTYPE=image/avif:https://chippewavalleyunited.com/wp-content/uploads/2025/03/MarketOnRiver_20250305000730447478.jpg.avif
END:VEVENT
BEGIN:VEVENT
DTSTART;TZID=America/Chicago:20270202T180000
DTEND;TZID=America/Chicago:20270202T193000
DTSTAMP:20260423T132453
CREATED:20260330T030203Z
LAST-MODIFIED:20260419T132628Z
UID:10001023-1801591200-1801596600@chippewavalleyunited.com
SUMMARY:CVI Weekly Meeting
DESCRIPTION:Join us every Tuesday at the Market on River in Chippewa Falls for our regular meeting. We will be working on action groups\, the midterms\, election integrity\, and supporting our friends and neighbors. \nRallies and Bridge Brigades have resumed in the cold\, wind\, and ice that is Wisconsin in January. It’s been brisk out there but our message teams are making a stand to inspire\, encourage\, and motivate folks to join our pro-democracy efforts. We hope you will come stand with us! It warms our hearts and makes our toes hurt less.
URL:https://chippewavalleyunited.com/event/cvi-weekly-meeting-2/2027-02-02/
LOCATION:Market on River\, 128 W. River St\, 2nd Floor\, Chippewa Falls\, WI\, 54729\, United States
CATEGORIES:Featured
ATTACH;FMTTYPE=image/avif:https://chippewavalleyunited.com/wp-content/uploads/2025/03/MarketOnRiver_20250305000730447478.jpg.avif
END:VEVENT
BEGIN:VEVENT
DTSTART;TZID=America/Chicago:20270209T180000
DTEND;TZID=America/Chicago:20270209T193000
DTSTAMP:20260423T132453
CREATED:20260330T030203Z
LAST-MODIFIED:20260419T132628Z
UID:10001024-1802196000-1802201400@chippewavalleyunited.com
SUMMARY:CVI Weekly Meeting
DESCRIPTION:Join us every Tuesday at the Market on River in Chippewa Falls for our regular meeting. We will be working on action groups\, the midterms\, election integrity\, and supporting our friends and neighbors. \nRallies and Bridge Brigades have resumed in the cold\, wind\, and ice that is Wisconsin in January. It’s been brisk out there but our message teams are making a stand to inspire\, encourage\, and motivate folks to join our pro-democracy efforts. We hope you will come stand with us! It warms our hearts and makes our toes hurt less.
URL:https://chippewavalleyunited.com/event/cvi-weekly-meeting-2/2027-02-09/
LOCATION:Market on River\, 128 W. River St\, 2nd Floor\, Chippewa Falls\, WI\, 54729\, United States
CATEGORIES:Featured
ATTACH;FMTTYPE=image/avif:https://chippewavalleyunited.com/wp-content/uploads/2025/03/MarketOnRiver_20250305000730447478.jpg.avif
END:VEVENT
BEGIN:VEVENT
DTSTART;TZID=America/Chicago:20270216T180000
DTEND;TZID=America/Chicago:20270216T193000
DTSTAMP:20260423T132453
CREATED:20260330T030203Z
LAST-MODIFIED:20260419T132628Z
UID:10001025-1802800800-1802806200@chippewavalleyunited.com
SUMMARY:CVI Weekly Meeting
DESCRIPTION:Join us every Tuesday at the Market on River in Chippewa Falls for our regular meeting. We will be working on action groups\, the midterms\, election integrity\, and supporting our friends and neighbors. \nRallies and Bridge Brigades have resumed in the cold\, wind\, and ice that is Wisconsin in January. It’s been brisk out there but our message teams are making a stand to inspire\, encourage\, and motivate folks to join our pro-democracy efforts. We hope you will come stand with us! It warms our hearts and makes our toes hurt less.
URL:https://chippewavalleyunited.com/event/cvi-weekly-meeting-2/2027-02-16/
LOCATION:Market on River\, 128 W. River St\, 2nd Floor\, Chippewa Falls\, WI\, 54729\, United States
CATEGORIES:Featured
ATTACH;FMTTYPE=image/avif:https://chippewavalleyunited.com/wp-content/uploads/2025/03/MarketOnRiver_20250305000730447478.jpg.avif
END:VEVENT
BEGIN:VEVENT
DTSTART;TZID=America/Chicago:20270223T180000
DTEND;TZID=America/Chicago:20270223T193000
DTSTAMP:20260423T132453
CREATED:20260330T030203Z
LAST-MODIFIED:20260419T132628Z
UID:10001026-1803405600-1803411000@chippewavalleyunited.com
SUMMARY:CVI Weekly Meeting
DESCRIPTION:Join us every Tuesday at the Market on River in Chippewa Falls for our regular meeting. We will be working on action groups\, the midterms\, election integrity\, and supporting our friends and neighbors. \nRallies and Bridge Brigades have resumed in the cold\, wind\, and ice that is Wisconsin in January. It’s been brisk out there but our message teams are making a stand to inspire\, encourage\, and motivate folks to join our pro-democracy efforts. We hope you will come stand with us! It warms our hearts and makes our toes hurt less.
URL:https://chippewavalleyunited.com/event/cvi-weekly-meeting-2/2027-02-23/
LOCATION:Market on River\, 128 W. River St\, 2nd Floor\, Chippewa Falls\, WI\, 54729\, United States
CATEGORIES:Featured
ATTACH;FMTTYPE=image/avif:https://chippewavalleyunited.com/wp-content/uploads/2025/03/MarketOnRiver_20250305000730447478.jpg.avif
END:VEVENT
BEGIN:VEVENT
DTSTART;TZID=America/Chicago:20270302T180000
DTEND;TZID=America/Chicago:20270302T193000
DTSTAMP:20260423T132453
CREATED:20260330T030203Z
LAST-MODIFIED:20260419T132628Z
UID:10001027-1804010400-1804015800@chippewavalleyunited.com
SUMMARY:CVI Weekly Meeting
DESCRIPTION:Join us every Tuesday at the Market on River in Chippewa Falls for our regular meeting. We will be working on action groups\, the midterms\, election integrity\, and supporting our friends and neighbors. \nRallies and Bridge Brigades have resumed in the cold\, wind\, and ice that is Wisconsin in January. It’s been brisk out there but our message teams are making a stand to inspire\, encourage\, and motivate folks to join our pro-democracy efforts. We hope you will come stand with us! It warms our hearts and makes our toes hurt less.
URL:https://chippewavalleyunited.com/event/cvi-weekly-meeting-2/2027-03-02/
LOCATION:Market on River\, 128 W. River St\, 2nd Floor\, Chippewa Falls\, WI\, 54729\, United States
CATEGORIES:Featured
ATTACH;FMTTYPE=image/avif:https://chippewavalleyunited.com/wp-content/uploads/2025/03/MarketOnRiver_20250305000730447478.jpg.avif
END:VEVENT
BEGIN:VEVENT
DTSTART;TZID=America/Chicago:20270309T180000
DTEND;TZID=America/Chicago:20270309T193000
DTSTAMP:20260423T132453
CREATED:20260330T030203Z
LAST-MODIFIED:20260419T132628Z
UID:10001028-1804615200-1804620600@chippewavalleyunited.com
SUMMARY:CVI Weekly Meeting
DESCRIPTION:Join us every Tuesday at the Market on River in Chippewa Falls for our regular meeting. We will be working on action groups\, the midterms\, election integrity\, and supporting our friends and neighbors. \nRallies and Bridge Brigades have resumed in the cold\, wind\, and ice that is Wisconsin in January. It’s been brisk out there but our message teams are making a stand to inspire\, encourage\, and motivate folks to join our pro-democracy efforts. We hope you will come stand with us! It warms our hearts and makes our toes hurt less.
URL:https://chippewavalleyunited.com/event/cvi-weekly-meeting-2/2027-03-09/
LOCATION:Market on River\, 128 W. River St\, 2nd Floor\, Chippewa Falls\, WI\, 54729\, United States
CATEGORIES:Featured
ATTACH;FMTTYPE=image/avif:https://chippewavalleyunited.com/wp-content/uploads/2025/03/MarketOnRiver_20250305000730447478.jpg.avif
END:VEVENT
BEGIN:VEVENT
DTSTART;TZID=America/Chicago:20270316T180000
DTEND;TZID=America/Chicago:20270316T193000
DTSTAMP:20260423T132453
CREATED:20260330T030203Z
LAST-MODIFIED:20260419T132628Z
UID:10001029-1805220000-1805225400@chippewavalleyunited.com
SUMMARY:CVI Weekly Meeting
DESCRIPTION:Join us every Tuesday at the Market on River in Chippewa Falls for our regular meeting. We will be working on action groups\, the midterms\, election integrity\, and supporting our friends and neighbors. \nRallies and Bridge Brigades have resumed in the cold\, wind\, and ice that is Wisconsin in January. It’s been brisk out there but our message teams are making a stand to inspire\, encourage\, and motivate folks to join our pro-democracy efforts. We hope you will come stand with us! It warms our hearts and makes our toes hurt less.
URL:https://chippewavalleyunited.com/event/cvi-weekly-meeting-2/2027-03-16/
LOCATION:Market on River\, 128 W. River St\, 2nd Floor\, Chippewa Falls\, WI\, 54729\, United States
CATEGORIES:Featured
ATTACH;FMTTYPE=image/avif:https://chippewavalleyunited.com/wp-content/uploads/2025/03/MarketOnRiver_20250305000730447478.jpg.avif
END:VEVENT
BEGIN:VEVENT
DTSTART;TZID=America/Chicago:20270323T180000
DTEND;TZID=America/Chicago:20270323T193000
DTSTAMP:20260423T132453
CREATED:20260330T030203Z
LAST-MODIFIED:20260419T132628Z
UID:10001030-1805824800-1805830200@chippewavalleyunited.com
SUMMARY:CVI Weekly Meeting
DESCRIPTION:Join us every Tuesday at the Market on River in Chippewa Falls for our regular meeting. We will be working on action groups\, the midterms\, election integrity\, and supporting our friends and neighbors. \nRallies and Bridge Brigades have resumed in the cold\, wind\, and ice that is Wisconsin in January. It’s been brisk out there but our message teams are making a stand to inspire\, encourage\, and motivate folks to join our pro-democracy efforts. We hope you will come stand with us! It warms our hearts and makes our toes hurt less.
URL:https://chippewavalleyunited.com/event/cvi-weekly-meeting-2/2027-03-23/
LOCATION:Market on River\, 128 W. River St\, 2nd Floor\, Chippewa Falls\, WI\, 54729\, United States
CATEGORIES:Featured
ATTACH;FMTTYPE=image/avif:https://chippewavalleyunited.com/wp-content/uploads/2025/03/MarketOnRiver_20250305000730447478.jpg.avif
END:VEVENT
BEGIN:VEVENT
DTSTART;TZID=America/Chicago:20270330T180000
DTEND;TZID=America/Chicago:20270330T193000
DTSTAMP:20260423T132453
CREATED:20260330T030203Z
LAST-MODIFIED:20260419T132628Z
UID:10001031-1806429600-1806435000@chippewavalleyunited.com
SUMMARY:CVI Weekly Meeting
DESCRIPTION:Join us every Tuesday at the Market on River in Chippewa Falls for our regular meeting. We will be working on action groups\, the midterms\, election integrity\, and supporting our friends and neighbors. \nRallies and Bridge Brigades have resumed in the cold\, wind\, and ice that is Wisconsin in January. It’s been brisk out there but our message teams are making a stand to inspire\, encourage\, and motivate folks to join our pro-democracy efforts. We hope you will come stand with us! It warms our hearts and makes our toes hurt less.
URL:https://chippewavalleyunited.com/event/cvi-weekly-meeting-2/2027-03-30/
LOCATION:Market on River\, 128 W. River St\, 2nd Floor\, Chippewa Falls\, WI\, 54729\, United States
CATEGORIES:Featured
ATTACH;FMTTYPE=image/avif:https://chippewavalleyunited.com/wp-content/uploads/2025/03/MarketOnRiver_20250305000730447478.jpg.avif
END:VEVENT
BEGIN:VEVENT
DTSTART;TZID=America/Chicago:20270406T180000
DTEND;TZID=America/Chicago:20270406T193000
DTSTAMP:20260423T132453
CREATED:20260330T030203Z
LAST-MODIFIED:20260419T132628Z
UID:10001032-1807034400-1807039800@chippewavalleyunited.com
SUMMARY:CVI Weekly Meeting
DESCRIPTION:Join us every Tuesday at the Market on River in Chippewa Falls for our regular meeting. We will be working on action groups\, the midterms\, election integrity\, and supporting our friends and neighbors. \nRallies and Bridge Brigades have resumed in the cold\, wind\, and ice that is Wisconsin in January. It’s been brisk out there but our message teams are making a stand to inspire\, encourage\, and motivate folks to join our pro-democracy efforts. We hope you will come stand with us! It warms our hearts and makes our toes hurt less.
URL:https://chippewavalleyunited.com/event/cvi-weekly-meeting-2/2027-04-06/
LOCATION:Market on River\, 128 W. River St\, 2nd Floor\, Chippewa Falls\, WI\, 54729\, United States
CATEGORIES:Featured
ATTACH;FMTTYPE=image/avif:https://chippewavalleyunited.com/wp-content/uploads/2025/03/MarketOnRiver_20250305000730447478.jpg.avif
END:VEVENT
BEGIN:VEVENT
DTSTART;TZID=America/Chicago:20270413T180000
DTEND;TZID=America/Chicago:20270413T193000
DTSTAMP:20260423T132453
CREATED:20260330T030203Z
LAST-MODIFIED:20260419T132628Z
UID:10001033-1807639200-1807644600@chippewavalleyunited.com
SUMMARY:CVI Weekly Meeting
DESCRIPTION:Join us every Tuesday at the Market on River in Chippewa Falls for our regular meeting. We will be working on action groups\, the midterms\, election integrity\, and supporting our friends and neighbors. \nRallies and Bridge Brigades have resumed in the cold\, wind\, and ice that is Wisconsin in January. It’s been brisk out there but our message teams are making a stand to inspire\, encourage\, and motivate folks to join our pro-democracy efforts. We hope you will come stand with us! It warms our hearts and makes our toes hurt less.
URL:https://chippewavalleyunited.com/event/cvi-weekly-meeting-2/2027-04-13/
LOCATION:Market on River\, 128 W. River St\, 2nd Floor\, Chippewa Falls\, WI\, 54729\, United States
CATEGORIES:Featured
ATTACH;FMTTYPE=image/avif:https://chippewavalleyunited.com/wp-content/uploads/2025/03/MarketOnRiver_20250305000730447478.jpg.avif
END:VEVENT
BEGIN:VEVENT
DTSTART;TZID=America/Chicago:20270420T180000
DTEND;TZID=America/Chicago:20270420T193000
DTSTAMP:20260423T132453
CREATED:20260330T030203Z
LAST-MODIFIED:20260419T132628Z
UID:10001034-1808244000-1808249400@chippewavalleyunited.com
SUMMARY:CVI Weekly Meeting
DESCRIPTION:Join us every Tuesday at the Market on River in Chippewa Falls for our regular meeting. We will be working on action groups\, the midterms\, election integrity\, and supporting our friends and neighbors. \nRallies and Bridge Brigades have resumed in the cold\, wind\, and ice that is Wisconsin in January. It’s been brisk out there but our message teams are making a stand to inspire\, encourage\, and motivate folks to join our pro-democracy efforts. We hope you will come stand with us! It warms our hearts and makes our toes hurt less.
URL:https://chippewavalleyunited.com/event/cvi-weekly-meeting-2/2027-04-20/
LOCATION:Market on River\, 128 W. River St\, 2nd Floor\, Chippewa Falls\, WI\, 54729\, United States
CATEGORIES:Featured
ATTACH;FMTTYPE=image/avif:https://chippewavalleyunited.com/wp-content/uploads/2025/03/MarketOnRiver_20250305000730447478.jpg.avif
END:VEVENT
BEGIN:VEVENT
DTSTART;TZID=America/Chicago:20270427T180000
DTEND;TZID=America/Chicago:20270427T193000
DTSTAMP:20260423T132453
CREATED:20260330T030203Z
LAST-MODIFIED:20260419T132628Z
UID:10001035-1808848800-1808854200@chippewavalleyunited.com
SUMMARY:CVI Weekly Meeting
DESCRIPTION:Join us every Tuesday at the Market on River in Chippewa Falls for our regular meeting. We will be working on action groups\, the midterms\, election integrity\, and supporting our friends and neighbors. \nRallies and Bridge Brigades have resumed in the cold\, wind\, and ice that is Wisconsin in January. It’s been brisk out there but our message teams are making a stand to inspire\, encourage\, and motivate folks to join our pro-democracy efforts. We hope you will come stand with us! It warms our hearts and makes our toes hurt less.
URL:https://chippewavalleyunited.com/event/cvi-weekly-meeting-2/2027-04-27/
LOCATION:Market on River\, 128 W. River St\, 2nd Floor\, Chippewa Falls\, WI\, 54729\, United States
CATEGORIES:Featured
ATTACH;FMTTYPE=image/avif:https://chippewavalleyunited.com/wp-content/uploads/2025/03/MarketOnRiver_20250305000730447478.jpg.avif
END:VEVENT
BEGIN:VEVENT
DTSTART;TZID=America/Chicago:20270504T180000
DTEND;TZID=America/Chicago:20270504T193000
DTSTAMP:20260423T132453
CREATED:20260330T030203Z
LAST-MODIFIED:20260419T132628Z
UID:10001036-1809453600-1809459000@chippewavalleyunited.com
SUMMARY:CVI Weekly Meeting
DESCRIPTION:Join us every Tuesday at the Market on River in Chippewa Falls for our regular meeting. We will be working on action groups\, the midterms\, election integrity\, and supporting our friends and neighbors. \nRallies and Bridge Brigades have resumed in the cold\, wind\, and ice that is Wisconsin in January. It’s been brisk out there but our message teams are making a stand to inspire\, encourage\, and motivate folks to join our pro-democracy efforts. We hope you will come stand with us! It warms our hearts and makes our toes hurt less.
URL:https://chippewavalleyunited.com/event/cvi-weekly-meeting-2/2027-05-04/
LOCATION:Market on River\, 128 W. River St\, 2nd Floor\, Chippewa Falls\, WI\, 54729\, United States
CATEGORIES:Featured
ATTACH;FMTTYPE=image/avif:https://chippewavalleyunited.com/wp-content/uploads/2025/03/MarketOnRiver_20250305000730447478.jpg.avif
END:VEVENT
BEGIN:VEVENT
DTSTART;TZID=America/Chicago:20270511T180000
DTEND;TZID=America/Chicago:20270511T193000
DTSTAMP:20260423T132453
CREATED:20260330T030203Z
LAST-MODIFIED:20260419T132628Z
UID:10001037-1810058400-1810063800@chippewavalleyunited.com
SUMMARY:CVI Weekly Meeting
DESCRIPTION:Join us every Tuesday at the Market on River in Chippewa Falls for our regular meeting. We will be working on action groups\, the midterms\, election integrity\, and supporting our friends and neighbors. \nRallies and Bridge Brigades have resumed in the cold\, wind\, and ice that is Wisconsin in January. It’s been brisk out there but our message teams are making a stand to inspire\, encourage\, and motivate folks to join our pro-democracy efforts. We hope you will come stand with us! It warms our hearts and makes our toes hurt less.
URL:https://chippewavalleyunited.com/event/cvi-weekly-meeting-2/2027-05-11/
LOCATION:Market on River\, 128 W. River St\, 2nd Floor\, Chippewa Falls\, WI\, 54729\, United States
CATEGORIES:Featured
ATTACH;FMTTYPE=image/avif:https://chippewavalleyunited.com/wp-content/uploads/2025/03/MarketOnRiver_20250305000730447478.jpg.avif
END:VEVENT
BEGIN:VEVENT
DTSTART;TZID=America/Chicago:20270518T180000
DTEND;TZID=America/Chicago:20270518T193000
DTSTAMP:20260423T132453
CREATED:20260330T030203Z
LAST-MODIFIED:20260419T132628Z
UID:10001038-1810663200-1810668600@chippewavalleyunited.com
SUMMARY:CVI Weekly Meeting
DESCRIPTION:Join us every Tuesday at the Market on River in Chippewa Falls for our regular meeting. We will be working on action groups\, the midterms\, election integrity\, and supporting our friends and neighbors. \nRallies and Bridge Brigades have resumed in the cold\, wind\, and ice that is Wisconsin in January. It’s been brisk out there but our message teams are making a stand to inspire\, encourage\, and motivate folks to join our pro-democracy efforts. We hope you will come stand with us! It warms our hearts and makes our toes hurt less.
URL:https://chippewavalleyunited.com/event/cvi-weekly-meeting-2/2027-05-18/
LOCATION:Market on River\, 128 W. River St\, 2nd Floor\, Chippewa Falls\, WI\, 54729\, United States
CATEGORIES:Featured
ATTACH;FMTTYPE=image/avif:https://chippewavalleyunited.com/wp-content/uploads/2025/03/MarketOnRiver_20250305000730447478.jpg.avif
END:VEVENT
BEGIN:VEVENT
DTSTART;TZID=America/Chicago:20270525T180000
DTEND;TZID=America/Chicago:20270525T193000
DTSTAMP:20260423T132453
CREATED:20260330T030203Z
LAST-MODIFIED:20260419T132628Z
UID:10001039-1811268000-1811273400@chippewavalleyunited.com
SUMMARY:CVI Weekly Meeting
DESCRIPTION:Join us every Tuesday at the Market on River in Chippewa Falls for our regular meeting. We will be working on action groups\, the midterms\, election integrity\, and supporting our friends and neighbors. \nRallies and Bridge Brigades have resumed in the cold\, wind\, and ice that is Wisconsin in January. It’s been brisk out there but our message teams are making a stand to inspire\, encourage\, and motivate folks to join our pro-democracy efforts. We hope you will come stand with us! It warms our hearts and makes our toes hurt less.
URL:https://chippewavalleyunited.com/event/cvi-weekly-meeting-2/2027-05-25/
LOCATION:Market on River\, 128 W. River St\, 2nd Floor\, Chippewa Falls\, WI\, 54729\, United States
CATEGORIES:Featured
ATTACH;FMTTYPE=image/avif:https://chippewavalleyunited.com/wp-content/uploads/2025/03/MarketOnRiver_20250305000730447478.jpg.avif
END:VEVENT
END:VCALENDAR