BEGIN:VCALENDAR
VERSION:2.0
PRODID:-//Chippewa Valley Indivisible - ECPv6.15.20//NONSGML v1.0//EN
CALSCALE:GREGORIAN
METHOD:PUBLISH
X-WR-CALNAME:Chippewa Valley Indivisible
X-ORIGINAL-URL:https://chippewavalleyunited.com
X-WR-CALDESC:Events for Chippewa Valley Indivisible
REFRESH-INTERVAL;VALUE=DURATION:PT1H
X-Robots-Tag:noindex
X-PUBLISHED-TTL:PT1H
BEGIN:VTIMEZONE
TZID:America/Chicago
BEGIN:DAYLIGHT
TZOFFSETFROM:-0600
TZOFFSETTO:-0500
TZNAME:CDT
DTSTART:20240310T080000
END:DAYLIGHT
BEGIN:STANDARD
TZOFFSETFROM:-0500
TZOFFSETTO:-0600
TZNAME:CST
DTSTART:20241103T070000
END:STANDARD
BEGIN:DAYLIGHT
TZOFFSETFROM:-0600
TZOFFSETTO:-0500
TZNAME:CDT
DTSTART:20250309T080000
END:DAYLIGHT
BEGIN:STANDARD
TZOFFSETFROM:-0500
TZOFFSETTO:-0600
TZNAME:CST
DTSTART:20251102T070000
END:STANDARD
BEGIN:DAYLIGHT
TZOFFSETFROM:-0600
TZOFFSETTO:-0500
TZNAME:CDT
DTSTART:20260308T080000
END:DAYLIGHT
BEGIN:STANDARD
TZOFFSETFROM:-0500
TZOFFSETTO:-0600
TZNAME:CST
DTSTART:20261101T070000
END:STANDARD
END:VTIMEZONE
BEGIN:VEVENT
DTSTART;TZID=America/Chicago:20251022T180000
DTEND;TZID=America/Chicago:20251022T193000
DTSTAMP:20260423T170921
CREATED:20251009T165303Z
LAST-MODIFIED:20251009T165349Z
UID:10000387-1761156000-1761161400@chippewavalleyunited.com
SUMMARY:Weekly Meeting – Eau Claire
DESCRIPTION:Chippewa Valley Indivisible is trying an alternating meeting schedule (half hour after the rallies) in Eau Claire and Chippewa Falls in October to gauge the community interest and need:Thurs\, October 16\, 5:30\, Chippewa\, Market on RiverWeds\, October 22\, 6:00\, Eau Claire\, Menomonie Coop \nThe next meeting will be just prior to the No Kings event so much of the meeting will be about making sure we have everything in place for this crucial moment for the Chippewa Valley as the community comes together. The meeting on the 22nd will offer strategies and role-plays for navigating different conversations as we work to shift the allies and weaken the pillars that support this regime on a local and regional level.  Join  us to find out more about our actions and participation in future events.
URL:https://chippewavalleyunited.com/event/weekly-meeting-eau-claire/
LOCATION:Menomonie Market Coop\, 206 North Barstow\, Eau Claire\, 54703\, United States
ATTACH;FMTTYPE=image/jpeg:https://chippewavalleyunited.com/wp-content/uploads/2025/10/MOR_MCoop.jpg
ORGANIZER;CN="Chippewa Valley Indivisible":MAILTO:ojibwavalley@gmail.com
END:VEVENT
END:VCALENDAR