BEGIN:VCALENDAR
VERSION:2.0
PRODID:-//Chippewa Valley Indivisible - ECPv6.15.20//NONSGML v1.0//EN
CALSCALE:GREGORIAN
METHOD:PUBLISH
X-ORIGINAL-URL:https://chippewavalleyunited.com
X-WR-CALDESC:Events for Chippewa Valley Indivisible
REFRESH-INTERVAL;VALUE=DURATION:PT1H
X-Robots-Tag:noindex
X-PUBLISHED-TTL:PT1H
BEGIN:VTIMEZONE
TZID:America/Chicago
BEGIN:DAYLIGHT
TZOFFSETFROM:-0600
TZOFFSETTO:-0500
TZNAME:CDT
DTSTART:20240310T080000
END:DAYLIGHT
BEGIN:STANDARD
TZOFFSETFROM:-0500
TZOFFSETTO:-0600
TZNAME:CST
DTSTART:20241103T070000
END:STANDARD
BEGIN:DAYLIGHT
TZOFFSETFROM:-0600
TZOFFSETTO:-0500
TZNAME:CDT
DTSTART:20250309T080000
END:DAYLIGHT
BEGIN:STANDARD
TZOFFSETFROM:-0500
TZOFFSETTO:-0600
TZNAME:CST
DTSTART:20251102T070000
END:STANDARD
BEGIN:DAYLIGHT
TZOFFSETFROM:-0600
TZOFFSETTO:-0500
TZNAME:CDT
DTSTART:20260308T080000
END:DAYLIGHT
BEGIN:STANDARD
TZOFFSETFROM:-0500
TZOFFSETTO:-0600
TZNAME:CST
DTSTART:20261101T070000
END:STANDARD
END:VTIMEZONE
BEGIN:VEVENT
DTSTART;TZID=America/Chicago:20251108T160000
DTEND;TZID=America/Chicago:20251108T173000
DTSTAMP:20260423T184643
CREATED:20251009T165103Z
LAST-MODIFIED:20251117T124232Z
UID:10000386-1762617600-1762623000@chippewavalleyunited.com
SUMMARY:Weekly Meeting – Chippewa Falls
DESCRIPTION:Sat\, Nov 8\, 4:00pm\, Chippewa County Dems Office \nSat\, Nov 22\, and Dec 6\, 4:00pm\, Chippewa\, String Theory Studio \nCome be the change you want to see! Join the weekly meeting! For the month of November\, we continue meeting alternating weeks in in Chippewa Falls and Eau Claire. We will not meet Thanksgiving weekend\, of course. \nThe CVI meetings focus on our mission to defend\, preserve\, protect\, and strengthen our democracy. These meetings focus on the ACTIONS to support our awareness efforts (rallies\, visibility brigade\, pop up protests\, No Kings rallies)\, shaping the narrative goals (inclusive\, positive messaging with congruent actions)\, and deep commitment to building a better path forward for ALL of the people who call the Chippewa Valley.
URL:https://chippewavalleyunited.com/event/weekly-meeting-chippewa-2/
LOCATION:String Theory Studio\, 116 North Bridge Street\, Chippewa Falls\, 54729\, United States
CATEGORIES:Featured
ATTACH;FMTTYPE=image/jpeg:https://chippewavalleyunited.com/wp-content/uploads/2025/11/MeetingShot.jpg
ORGANIZER;CN="Chippewa Valley Indivisible":MAILTO:ojibwavalley@gmail.com
END:VEVENT
END:VCALENDAR